BEGIN:VCALENDAR
VERSION:2.0
PRODID:-//St Mary&#039;s Church Tickhill - ECPv6.15.20//NONSGML v1.0//EN
CALSCALE:GREGORIAN
METHOD:PUBLISH
X-ORIGINAL-URL:https://www.stmaryschurchtickhill.com
X-WR-CALDESC:Events for St Mary&#039;s Church Tickhill
REFRESH-INTERVAL;VALUE=DURATION:PT1H
X-Robots-Tag:noindex
X-PUBLISHED-TTL:PT1H
BEGIN:VTIMEZONE
TZID:Europe/London
BEGIN:DAYLIGHT
TZOFFSETFROM:+0000
TZOFFSETTO:+0100
TZNAME:BST
DTSTART:20210328T010000
END:DAYLIGHT
BEGIN:STANDARD
TZOFFSETFROM:+0100
TZOFFSETTO:+0000
TZNAME:GMT
DTSTART:20211031T010000
END:STANDARD
BEGIN:DAYLIGHT
TZOFFSETFROM:+0000
TZOFFSETTO:+0100
TZNAME:BST
DTSTART:20220327T010000
END:DAYLIGHT
BEGIN:STANDARD
TZOFFSETFROM:+0100
TZOFFSETTO:+0000
TZNAME:GMT
DTSTART:20221030T010000
END:STANDARD
BEGIN:DAYLIGHT
TZOFFSETFROM:+0000
TZOFFSETTO:+0100
TZNAME:BST
DTSTART:20230326T010000
END:DAYLIGHT
BEGIN:STANDARD
TZOFFSETFROM:+0100
TZOFFSETTO:+0000
TZNAME:GMT
DTSTART:20231029T010000
END:STANDARD
END:VTIMEZONE
BEGIN:VEVENT
DTSTART;TZID=Europe/London:20220814T080000
DTEND;TZID=Europe/London:20220814T083000
DTSTAMP:20260425T024745
CREATED:20220805T152902Z
LAST-MODIFIED:20220805T152902Z
UID:4504-1660464000-1660465800@www.stmaryschurchtickhill.com
SUMMARY:8.00 am Holy Communion (BCP)
DESCRIPTION:
URL:https://www.stmaryschurchtickhill.com/event/8-00-am-holy-communion-bcp
END:VEVENT
BEGIN:VEVENT
DTSTART;TZID=Europe/London:20220814T103000
DTEND;TZID=Europe/London:20220814T113000
DTSTAMP:20260425T024745
CREATED:20220717T133850Z
LAST-MODIFIED:20220717T134356Z
UID:4319-1660473000-1660476600@www.stmaryschurchtickhill.com
SUMMARY:10.30 am - Holy Communion
DESCRIPTION:
URL:https://www.stmaryschurchtickhill.com/event/10-30-am-holy-communion-4
END:VEVENT
BEGIN:VEVENT
DTSTART;TZID=Europe/London:20220814T180000
DTEND;TZID=Europe/London:20220814T190000
DTSTAMP:20260425T024745
CREATED:20220717T135201Z
LAST-MODIFIED:20220717T135919Z
UID:4325-1660500000-1660503600@www.stmaryschurchtickhill.com
SUMMARY:6.00pm Taize Service
DESCRIPTION:Over the years the Taizé Community has produced and performed some beautifully reflective music. We are planning an Evening Service on 14th August at 6.00 pm which will feature music from Taizé.\nTo enable us to become more familiar with this music\, everyone is welcome to come to practices on Fridays during July – 7.00 pm start in St Helen’s Chapel.
URL:https://www.stmaryschurchtickhill.com/event/6-00pm-taize-service
ATTACH;FMTTYPE=image/jpeg:https://www.stmaryschurchtickhill.com/wp-content/uploads/2022/07/taize-1-e1658065837452.jpeg
END:VEVENT
END:VCALENDAR