BEGIN:VCALENDAR
VERSION:2.0
PRODID:-//St Mary&#039;s Church Tickhill - ECPv6.15.20//NONSGML v1.0//EN
CALSCALE:GREGORIAN
METHOD:PUBLISH
X-ORIGINAL-URL:https://www.stmaryschurchtickhill.com
X-WR-CALDESC:Events for St Mary&#039;s Church Tickhill
REFRESH-INTERVAL;VALUE=DURATION:PT1H
X-Robots-Tag:noindex
X-PUBLISHED-TTL:PT1H
BEGIN:VTIMEZONE
TZID:Europe/London
BEGIN:DAYLIGHT
TZOFFSETFROM:+0000
TZOFFSETTO:+0100
TZNAME:BST
DTSTART:20210328T010000
END:DAYLIGHT
BEGIN:STANDARD
TZOFFSETFROM:+0100
TZOFFSETTO:+0000
TZNAME:GMT
DTSTART:20211031T010000
END:STANDARD
BEGIN:DAYLIGHT
TZOFFSETFROM:+0000
TZOFFSETTO:+0100
TZNAME:BST
DTSTART:20220327T010000
END:DAYLIGHT
BEGIN:STANDARD
TZOFFSETFROM:+0100
TZOFFSETTO:+0000
TZNAME:GMT
DTSTART:20221030T010000
END:STANDARD
BEGIN:DAYLIGHT
TZOFFSETFROM:+0000
TZOFFSETTO:+0100
TZNAME:BST
DTSTART:20230326T010000
END:DAYLIGHT
BEGIN:STANDARD
TZOFFSETFROM:+0100
TZOFFSETTO:+0000
TZNAME:GMT
DTSTART:20231029T010000
END:STANDARD
END:VTIMEZONE
BEGIN:VEVENT
DTSTART;TZID=Europe/London:20221106T090000
DTEND;TZID=Europe/London:20221106T100000
DTSTAMP:20260424T135938
CREATED:20221104T173356Z
LAST-MODIFIED:20221104T173356Z
UID:4837-1667725200-1667728800@www.stmaryschurchtickhill.com
SUMMARY:9.15 am Holy Communion - St Winifred's Stainton
DESCRIPTION:
URL:https://www.stmaryschurchtickhill.com/event/9-15-am-holy-communion-st-winifreds-stainton
END:VEVENT
BEGIN:VEVENT
DTSTART;TZID=Europe/London:20221106T103000
DTEND;TZID=Europe/London:20221106T233000
DTSTAMP:20260424T135938
CREATED:20221001T142129Z
LAST-MODIFIED:20221001T142246Z
UID:4684-1667730600-1667777400@www.stmaryschurchtickhill.com
SUMMARY:10.45 - Holy Communion
DESCRIPTION:
URL:https://www.stmaryschurchtickhill.com/event/10-45-holy-communion-6
END:VEVENT
BEGIN:VEVENT
DTSTART;TZID=Europe/London:20221106T160000
DTEND;TZID=Europe/London:20221106T170000
DTSTAMP:20260424T135938
CREATED:20221027T163659Z
LAST-MODIFIED:20221104T174708Z
UID:4790-1667750400-1667754000@www.stmaryschurchtickhill.com
SUMMARY:4.00pm Church Done Differently - Children's Light Party
DESCRIPTION:For more details – click here
URL:https://www.stmaryschurchtickhill.com/event/4-00pm-church-done-differently-childrens-light-party
CATEGORIES:WARM AND WELCOMING CHURCH
END:VEVENT
BEGIN:VEVENT
DTSTART;TZID=Europe/London:20221106T180000
DTEND;TZID=Europe/London:20221106T190000
DTSTAMP:20260424T135938
CREATED:20221001T142612Z
LAST-MODIFIED:20221001T142612Z
UID:4693-1667757600-1667761200@www.stmaryschurchtickhill.com
SUMMARY:6.00 Simple Evening Prayer
DESCRIPTION:
URL:https://www.stmaryschurchtickhill.com/event/6-00-simple-evening-prayer
END:VEVENT
END:VCALENDAR