BEGIN:VCALENDAR
VERSION:2.0
PRODID:-//St Mary&#039;s Church Tickhill - ECPv6.15.20//NONSGML v1.0//EN
CALSCALE:GREGORIAN
METHOD:PUBLISH
X-WR-CALNAME:St Mary&#039;s Church Tickhill
X-ORIGINAL-URL:https://www.stmaryschurchtickhill.com
X-WR-CALDESC:Events for St Mary&#039;s Church Tickhill
REFRESH-INTERVAL;VALUE=DURATION:PT1H
X-Robots-Tag:noindex
X-PUBLISHED-TTL:PT1H
BEGIN:VTIMEZONE
TZID:Europe/London
BEGIN:DAYLIGHT
TZOFFSETFROM:+0000
TZOFFSETTO:+0100
TZNAME:BST
DTSTART:20210328T010000
END:DAYLIGHT
BEGIN:STANDARD
TZOFFSETFROM:+0100
TZOFFSETTO:+0000
TZNAME:GMT
DTSTART:20211031T010000
END:STANDARD
BEGIN:DAYLIGHT
TZOFFSETFROM:+0000
TZOFFSETTO:+0100
TZNAME:BST
DTSTART:20220327T010000
END:DAYLIGHT
BEGIN:STANDARD
TZOFFSETFROM:+0100
TZOFFSETTO:+0000
TZNAME:GMT
DTSTART:20221030T010000
END:STANDARD
BEGIN:DAYLIGHT
TZOFFSETFROM:+0000
TZOFFSETTO:+0100
TZNAME:BST
DTSTART:20230326T010000
END:DAYLIGHT
BEGIN:STANDARD
TZOFFSETFROM:+0100
TZOFFSETTO:+0000
TZNAME:GMT
DTSTART:20231029T010000
END:STANDARD
END:VTIMEZONE
BEGIN:VEVENT
DTSTART;TZID=Europe/London:20221111T103000
DTEND;TZID=Europe/London:20221111T113000
DTSTAMP:20260424T122635
CREATED:20221104T175141Z
LAST-MODIFIED:20221104T175141Z
UID:4841-1668162600-1668166200@www.stmaryschurchtickhill.com
SUMMARY:10.50 - Armistice Service - St Winifred's Stainton
DESCRIPTION:
URL:https://www.stmaryschurchtickhill.com/event/10-50-armistice-service-st-winifreds-stainton
END:VEVENT
BEGIN:VEVENT
DTSTART;TZID=Europe/London:20221111T103000
DTEND;TZID=Europe/London:20221111T113000
DTSTAMP:20260424T122635
CREATED:20221104T175253Z
LAST-MODIFIED:20221104T175253Z
UID:4843-1668162600-1668166200@www.stmaryschurchtickhill.com
SUMMARY:10.55 Two Minutes Silence - St Mary's War Memorial
DESCRIPTION:
URL:https://www.stmaryschurchtickhill.com/event/10-55-two-minutes-silence-st-marys-war-memorial
END:VEVENT
END:VCALENDAR