BEGIN:VCALENDAR
VERSION:2.0
PRODID:-//St Mary&#039;s Church Tickhill - ECPv6.15.20//NONSGML v1.0//EN
CALSCALE:GREGORIAN
METHOD:PUBLISH
X-ORIGINAL-URL:https://www.stmaryschurchtickhill.com
X-WR-CALDESC:Events for St Mary&#039;s Church Tickhill
REFRESH-INTERVAL;VALUE=DURATION:PT1H
X-Robots-Tag:noindex
X-PUBLISHED-TTL:PT1H
BEGIN:VTIMEZONE
TZID:Europe/London
BEGIN:DAYLIGHT
TZOFFSETFROM:+0000
TZOFFSETTO:+0100
TZNAME:BST
DTSTART:20210328T010000
END:DAYLIGHT
BEGIN:STANDARD
TZOFFSETFROM:+0100
TZOFFSETTO:+0000
TZNAME:GMT
DTSTART:20211031T010000
END:STANDARD
BEGIN:DAYLIGHT
TZOFFSETFROM:+0000
TZOFFSETTO:+0100
TZNAME:BST
DTSTART:20220327T010000
END:DAYLIGHT
BEGIN:STANDARD
TZOFFSETFROM:+0100
TZOFFSETTO:+0000
TZNAME:GMT
DTSTART:20221030T010000
END:STANDARD
BEGIN:DAYLIGHT
TZOFFSETFROM:+0000
TZOFFSETTO:+0100
TZNAME:BST
DTSTART:20230326T010000
END:DAYLIGHT
BEGIN:STANDARD
TZOFFSETFROM:+0100
TZOFFSETTO:+0000
TZNAME:GMT
DTSTART:20231029T010000
END:STANDARD
END:VTIMEZONE
BEGIN:VEVENT
DTSTART;TZID=Europe/London:20221113T080000
DTEND;TZID=Europe/London:20221113T090000
DTSTAMP:20260424T122753
CREATED:20221104T175715Z
LAST-MODIFIED:20221104T175715Z
UID:4847-1668326400-1668330000@www.stmaryschurchtickhill.com
SUMMARY:8.00am - Holy Communion
DESCRIPTION:
URL:https://www.stmaryschurchtickhill.com/event/8-00am-holy-communion
END:VEVENT
BEGIN:VEVENT
DTSTART;TZID=Europe/London:20221113T100000
DTEND;TZID=Europe/London:20221113T113000
DTSTAMP:20260424T122753
CREATED:20221001T142214Z
LAST-MODIFIED:20221031T140227Z
UID:4686-1668333600-1668339000@www.stmaryschurchtickhill.com
SUMMARY:10.15am - REMEMBRANCE  DAY SERVICE
DESCRIPTION:
URL:https://www.stmaryschurchtickhill.com/event/10-45-holy-communion-7
END:VEVENT
BEGIN:VEVENT
DTSTART;TZID=Europe/London:20221113T103000
DTEND;TZID=Europe/London:20221113T113000
DTSTAMP:20260424T122753
CREATED:20221104T175825Z
LAST-MODIFIED:20221104T175825Z
UID:4849-1668335400-1668339000@www.stmaryschurchtickhill.com
SUMMARY:10.30 - Remembrance Day Service - St Winifred's Stainton
DESCRIPTION:
URL:https://www.stmaryschurchtickhill.com/event/10-30-remembrance-day-service-st-winifreds-stainton
END:VEVENT
BEGIN:VEVENT
DTSTART;TZID=Europe/London:20221113T180000
DTEND;TZID=Europe/London:20221113T190000
DTSTAMP:20260424T122753
CREATED:20221001T143113Z
LAST-MODIFIED:20221031T140553Z
UID:4704-1668362400-1668366000@www.stmaryschurchtickhill.com
SUMMARY:6.00pm Remembrance Day Evening Service
DESCRIPTION:
URL:https://www.stmaryschurchtickhill.com/event/6-00-remembrance-day-evening-service
END:VEVENT
END:VCALENDAR