BEGIN:VCALENDAR
VERSION:2.0
PRODID:-//St Mary&#039;s Church Tickhill - ECPv6.15.20//NONSGML v1.0//EN
CALSCALE:GREGORIAN
METHOD:PUBLISH
X-ORIGINAL-URL:https://www.stmaryschurchtickhill.com
X-WR-CALDESC:Events for St Mary&#039;s Church Tickhill
REFRESH-INTERVAL;VALUE=DURATION:PT1H
X-Robots-Tag:noindex
X-PUBLISHED-TTL:PT1H
BEGIN:VTIMEZONE
TZID:Europe/London
BEGIN:DAYLIGHT
TZOFFSETFROM:+0000
TZOFFSETTO:+0100
TZNAME:BST
DTSTART:20210328T010000
END:DAYLIGHT
BEGIN:STANDARD
TZOFFSETFROM:+0100
TZOFFSETTO:+0000
TZNAME:GMT
DTSTART:20211031T010000
END:STANDARD
BEGIN:DAYLIGHT
TZOFFSETFROM:+0000
TZOFFSETTO:+0100
TZNAME:BST
DTSTART:20220327T010000
END:DAYLIGHT
BEGIN:STANDARD
TZOFFSETFROM:+0100
TZOFFSETTO:+0000
TZNAME:GMT
DTSTART:20221030T010000
END:STANDARD
BEGIN:DAYLIGHT
TZOFFSETFROM:+0000
TZOFFSETTO:+0100
TZNAME:BST
DTSTART:20230326T010000
END:DAYLIGHT
BEGIN:STANDARD
TZOFFSETFROM:+0100
TZOFFSETTO:+0000
TZNAME:GMT
DTSTART:20231029T010000
END:STANDARD
END:VTIMEZONE
BEGIN:VEVENT
DTSTART;TZID=Europe/London:20221204T090000
DTEND;TZID=Europe/London:20221204T100000
DTSTAMP:20260424T123652
CREATED:20221126T102745Z
LAST-MODIFIED:20221126T102745Z
UID:4940-1670144400-1670148000@www.stmaryschurchtickhill.com
SUMMARY:9.15am Holy Communion at St Winifred's Stainton
DESCRIPTION:
URL:https://www.stmaryschurchtickhill.com/event/9-15am-holy-communion-at-st-winifreds-stainton
END:VEVENT
BEGIN:VEVENT
DTSTART;TZID=Europe/London:20221204T103000
DTEND;TZID=Europe/London:20221204T120000
DTSTAMP:20260424T123652
CREATED:20221112T153830Z
LAST-MODIFIED:20221126T102845Z
UID:4884-1670149800-1670155200@www.stmaryschurchtickhill.com
SUMMARY:10.45 - Holy Communion - St Mary's Tickhill
DESCRIPTION:
URL:https://www.stmaryschurchtickhill.com/event/10-45-holy-communion-10
END:VEVENT
BEGIN:VEVENT
DTSTART;TZID=Europe/London:20221204T160000
DTEND;TZID=Europe/London:20221204T170000
DTSTAMP:20260424T123652
CREATED:20221112T154521Z
LAST-MODIFIED:20221126T102930Z
UID:4898-1670169600-1670173200@www.stmaryschurchtickhill.com
SUMMARY:4.00pm - Church Done Differently - Christingle - St Mary's Tickhill
DESCRIPTION:For more details\, please click here
URL:https://www.stmaryschurchtickhill.com/event/4-00pm-church-done-differently-christingle
END:VEVENT
BEGIN:VEVENT
DTSTART;TZID=Europe/London:20221204T180000
DTEND;TZID=Europe/London:20221204T190000
DTSTAMP:20260424T123652
CREATED:20221112T154254Z
LAST-MODIFIED:20221112T154254Z
UID:4892-1670176800-1670180400@www.stmaryschurchtickhill.com
SUMMARY:6.00pm - Evening Prayer
DESCRIPTION:
URL:https://www.stmaryschurchtickhill.com/event/6-00pm-evening-prayer-2
END:VEVENT
END:VCALENDAR