BEGIN:VCALENDAR
VERSION:2.0
PRODID:-//St Mary&#039;s Church Tickhill - ECPv6.15.20//NONSGML v1.0//EN
CALSCALE:GREGORIAN
METHOD:PUBLISH
X-WR-CALNAME:St Mary&#039;s Church Tickhill
X-ORIGINAL-URL:https://www.stmaryschurchtickhill.com
X-WR-CALDESC:Events for St Mary&#039;s Church Tickhill
REFRESH-INTERVAL;VALUE=DURATION:PT1H
X-Robots-Tag:noindex
X-PUBLISHED-TTL:PT1H
BEGIN:VTIMEZONE
TZID:Europe/London
BEGIN:DAYLIGHT
TZOFFSETFROM:+0000
TZOFFSETTO:+0100
TZNAME:BST
DTSTART:20210328T010000
END:DAYLIGHT
BEGIN:STANDARD
TZOFFSETFROM:+0100
TZOFFSETTO:+0000
TZNAME:GMT
DTSTART:20211031T010000
END:STANDARD
BEGIN:DAYLIGHT
TZOFFSETFROM:+0000
TZOFFSETTO:+0100
TZNAME:BST
DTSTART:20220327T010000
END:DAYLIGHT
BEGIN:STANDARD
TZOFFSETFROM:+0100
TZOFFSETTO:+0000
TZNAME:GMT
DTSTART:20221030T010000
END:STANDARD
BEGIN:DAYLIGHT
TZOFFSETFROM:+0000
TZOFFSETTO:+0100
TZNAME:BST
DTSTART:20230326T010000
END:DAYLIGHT
BEGIN:STANDARD
TZOFFSETFROM:+0100
TZOFFSETTO:+0000
TZNAME:GMT
DTSTART:20231029T010000
END:STANDARD
END:VTIMEZONE
BEGIN:VEVENT
DTSTART;TZID=Europe/London:20221221T100000
DTEND;TZID=Europe/London:20221221T103000
DTSTAMP:20260424T185430
CREATED:20221112T155024Z
LAST-MODIFIED:20221112T155024Z
UID:4908-1671616800-1671618600@www.stmaryschurchtickhill.com
SUMMARY:10.00am - Morning Prayer
DESCRIPTION:
URL:https://www.stmaryschurchtickhill.com/event/10-00am-morning-prayer-3
END:VEVENT
BEGIN:VEVENT
DTSTART;TZID=Europe/London:20221221T170000
DTEND;TZID=Europe/London:20221221T180000
DTSTAMP:20260424T185430
CREATED:20221202T180549Z
LAST-MODIFIED:20221217T125402Z
UID:4964-1671642000-1671645600@www.stmaryschurchtickhill.com
SUMMARY:5.00pm Christingle - St Winifred's Stainton
DESCRIPTION:
URL:https://www.stmaryschurchtickhill.com/event/5-00-christingle-st-winifreds-stainton
END:VEVENT
END:VCALENDAR