BEGIN:VCALENDAR
VERSION:2.0
PRODID:-//St Mary&#039;s Church Tickhill - ECPv6.15.20//NONSGML v1.0//EN
CALSCALE:GREGORIAN
METHOD:PUBLISH
X-ORIGINAL-URL:https://www.stmaryschurchtickhill.com
X-WR-CALDESC:Events for St Mary&#039;s Church Tickhill
REFRESH-INTERVAL;VALUE=DURATION:PT1H
X-Robots-Tag:noindex
X-PUBLISHED-TTL:PT1H
BEGIN:VTIMEZONE
TZID:Europe/London
BEGIN:DAYLIGHT
TZOFFSETFROM:+0000
TZOFFSETTO:+0100
TZNAME:BST
DTSTART:20210328T010000
END:DAYLIGHT
BEGIN:STANDARD
TZOFFSETFROM:+0100
TZOFFSETTO:+0000
TZNAME:GMT
DTSTART:20211031T010000
END:STANDARD
BEGIN:DAYLIGHT
TZOFFSETFROM:+0000
TZOFFSETTO:+0100
TZNAME:BST
DTSTART:20220327T010000
END:DAYLIGHT
BEGIN:STANDARD
TZOFFSETFROM:+0100
TZOFFSETTO:+0000
TZNAME:GMT
DTSTART:20221030T010000
END:STANDARD
BEGIN:DAYLIGHT
TZOFFSETFROM:+0000
TZOFFSETTO:+0100
TZNAME:BST
DTSTART:20230326T010000
END:DAYLIGHT
BEGIN:STANDARD
TZOFFSETFROM:+0100
TZOFFSETTO:+0000
TZNAME:GMT
DTSTART:20231029T010000
END:STANDARD
END:VTIMEZONE
BEGIN:VEVENT
DTSTART;TZID=Europe/London:20221224T180000
DTEND;TZID=Europe/London:20221224T190000
DTSTAMP:20260424T104141
CREATED:20221112T154608Z
LAST-MODIFIED:20221211T144435Z
UID:4900-1671904800-1671908400@www.stmaryschurchtickhill.com
SUMMARY:6.00pm - Crib Service - "DIY" Nativity play
DESCRIPTION:For more information\, please click HERE
URL:https://www.stmaryschurchtickhill.com/event/6-00pm-crib-service
END:VEVENT
BEGIN:VEVENT
DTSTART;TZID=Europe/London:20221224T233000
DTEND;TZID=Europe/London:20221224T233000
DTSTAMP:20260424T104141
CREATED:20221112T154708Z
LAST-MODIFIED:20221112T154708Z
UID:4902-1671924600-1671924600@www.stmaryschurchtickhill.com
SUMMARY:11.30pm - Midnight Service
DESCRIPTION:
URL:https://www.stmaryschurchtickhill.com/event/11-30pm-midnight-service
END:VEVENT
END:VCALENDAR