BEGIN:VCALENDAR
VERSION:2.0
PRODID:-//St Mary&#039;s Church Tickhill - ECPv6.15.20//NONSGML v1.0//EN
CALSCALE:GREGORIAN
METHOD:PUBLISH
X-ORIGINAL-URL:https://www.stmaryschurchtickhill.com
X-WR-CALDESC:Events for St Mary&#039;s Church Tickhill
REFRESH-INTERVAL;VALUE=DURATION:PT1H
X-Robots-Tag:noindex
X-PUBLISHED-TTL:PT1H
BEGIN:VTIMEZONE
TZID:Europe/London
BEGIN:DAYLIGHT
TZOFFSETFROM:+0000
TZOFFSETTO:+0100
TZNAME:BST
DTSTART:20220327T010000
END:DAYLIGHT
BEGIN:STANDARD
TZOFFSETFROM:+0100
TZOFFSETTO:+0000
TZNAME:GMT
DTSTART:20221030T010000
END:STANDARD
BEGIN:DAYLIGHT
TZOFFSETFROM:+0000
TZOFFSETTO:+0100
TZNAME:BST
DTSTART:20230326T010000
END:DAYLIGHT
BEGIN:STANDARD
TZOFFSETFROM:+0100
TZOFFSETTO:+0000
TZNAME:GMT
DTSTART:20231029T010000
END:STANDARD
BEGIN:DAYLIGHT
TZOFFSETFROM:+0000
TZOFFSETTO:+0100
TZNAME:BST
DTSTART:20240331T010000
END:DAYLIGHT
BEGIN:STANDARD
TZOFFSETFROM:+0100
TZOFFSETTO:+0000
TZNAME:GMT
DTSTART:20241027T010000
END:STANDARD
END:VTIMEZONE
BEGIN:VEVENT
DTSTART;TZID=Europe/London:20230305T090000
DTEND;TZID=Europe/London:20230305T100000
DTSTAMP:20260424T104059
CREATED:20230203T161002Z
LAST-MODIFIED:20230203T161002Z
UID:5225-1678006800-1678010400@www.stmaryschurchtickhill.com
SUMMARY:9.15am - Holy Communion - St Winifred's Stainton
DESCRIPTION:
URL:https://www.stmaryschurchtickhill.com/event/9-15am-holy-communion-st-winifreds-stainton-3
END:VEVENT
BEGIN:VEVENT
DTSTART;TZID=Europe/London:20230305T103000
DTEND;TZID=Europe/London:20230305T120000
DTSTAMP:20260424T104059
CREATED:20230203T161418Z
LAST-MODIFIED:20230203T161418Z
UID:5231-1678012200-1678017600@www.stmaryschurchtickhill.com
SUMMARY:10.45am - Holy Communion - St Mary's
DESCRIPTION:
URL:https://www.stmaryschurchtickhill.com/event/10-45am-holy-communion-st-marys
END:VEVENT
BEGIN:VEVENT
DTSTART;TZID=Europe/London:20230305T160000
DTEND;TZID=Europe/London:20230305T170000
DTSTAMP:20260424T104059
CREATED:20230203T162501Z
LAST-MODIFIED:20230216T181824Z
UID:5250-1678032000-1678035600@www.stmaryschurchtickhill.com
SUMMARY:4.00 pm 'Church Done Differently' - St Mary's
DESCRIPTION:For more details – click here
URL:https://www.stmaryschurchtickhill.com/event/4-00-pm-church-done-differently-st-marys
END:VEVENT
BEGIN:VEVENT
DTSTART;TZID=Europe/London:20230305T180000
DTEND;TZID=Europe/London:20230305T190000
DTSTAMP:20260424T104059
CREATED:20230203T162249Z
LAST-MODIFIED:20230203T162403Z
UID:5247-1678039200-1678042800@www.stmaryschurchtickhill.com
SUMMARY:6.00pm - Evening Prayer - St Mary's
DESCRIPTION:
URL:https://www.stmaryschurchtickhill.com/event/6-00pm-evening-prayer-7
END:VEVENT
END:VCALENDAR