BEGIN:VCALENDAR
VERSION:2.0
PRODID:-//St Mary&#039;s Church Tickhill - ECPv6.15.20//NONSGML v1.0//EN
CALSCALE:GREGORIAN
METHOD:PUBLISH
X-ORIGINAL-URL:https://www.stmaryschurchtickhill.com
X-WR-CALDESC:Events for St Mary&#039;s Church Tickhill
REFRESH-INTERVAL;VALUE=DURATION:PT1H
X-Robots-Tag:noindex
X-PUBLISHED-TTL:PT1H
BEGIN:VTIMEZONE
TZID:Europe/London
BEGIN:DAYLIGHT
TZOFFSETFROM:+0000
TZOFFSETTO:+0100
TZNAME:BST
DTSTART:20220327T010000
END:DAYLIGHT
BEGIN:STANDARD
TZOFFSETFROM:+0100
TZOFFSETTO:+0000
TZNAME:GMT
DTSTART:20221030T010000
END:STANDARD
BEGIN:DAYLIGHT
TZOFFSETFROM:+0000
TZOFFSETTO:+0100
TZNAME:BST
DTSTART:20230326T010000
END:DAYLIGHT
BEGIN:STANDARD
TZOFFSETFROM:+0100
TZOFFSETTO:+0000
TZNAME:GMT
DTSTART:20231029T010000
END:STANDARD
BEGIN:DAYLIGHT
TZOFFSETFROM:+0000
TZOFFSETTO:+0100
TZNAME:BST
DTSTART:20240331T010000
END:DAYLIGHT
BEGIN:STANDARD
TZOFFSETFROM:+0100
TZOFFSETTO:+0000
TZNAME:GMT
DTSTART:20241027T010000
END:STANDARD
END:VTIMEZONE
BEGIN:VEVENT
DTSTART;TZID=Europe/London:20230312T080000
DTEND;TZID=Europe/London:20230312T090000
DTSTAMP:20260424T091655
CREATED:20230311T121144Z
LAST-MODIFIED:20230311T121144Z
UID:5388-1678608000-1678611600@www.stmaryschurchtickhill.com
SUMMARY:8.00am - Holy Communion
DESCRIPTION:
URL:https://www.stmaryschurchtickhill.com/event/8-00am-holy-communion-4
END:VEVENT
BEGIN:VEVENT
DTSTART;TZID=Europe/London:20230312T103000
DTEND;TZID=Europe/London:20230312T120000
DTSTAMP:20260424T091655
CREATED:20230203T161459Z
LAST-MODIFIED:20230203T161459Z
UID:5233-1678617000-1678622400@www.stmaryschurchtickhill.com
SUMMARY:10.45am - Holy Communion
DESCRIPTION:
URL:https://www.stmaryschurchtickhill.com/event/10-45am-holy-communion-7
END:VEVENT
BEGIN:VEVENT
DTSTART;TZID=Europe/London:20230312T180000
DTEND;TZID=Europe/London:20230312T190000
DTSTAMP:20260424T091655
CREATED:20230203T161930Z
LAST-MODIFIED:20230311T121223Z
UID:5241-1678644000-1678647600@www.stmaryschurchtickhill.com
SUMMARY:6.00 pm Evening Taize Service
DESCRIPTION:
URL:https://www.stmaryschurchtickhill.com/event/6-00-pm-evening-service
END:VEVENT
END:VCALENDAR