BEGIN:VCALENDAR
VERSION:2.0
PRODID:-//St Mary&#039;s Church Tickhill - ECPv6.15.20//NONSGML v1.0//EN
CALSCALE:GREGORIAN
METHOD:PUBLISH
X-ORIGINAL-URL:https://www.stmaryschurchtickhill.com
X-WR-CALDESC:Events for St Mary&#039;s Church Tickhill
REFRESH-INTERVAL;VALUE=DURATION:PT1H
X-Robots-Tag:noindex
X-PUBLISHED-TTL:PT1H
BEGIN:VTIMEZONE
TZID:Europe/London
BEGIN:DAYLIGHT
TZOFFSETFROM:+0000
TZOFFSETTO:+0100
TZNAME:BST
DTSTART:20220327T010000
END:DAYLIGHT
BEGIN:STANDARD
TZOFFSETFROM:+0100
TZOFFSETTO:+0000
TZNAME:GMT
DTSTART:20221030T010000
END:STANDARD
BEGIN:DAYLIGHT
TZOFFSETFROM:+0000
TZOFFSETTO:+0100
TZNAME:BST
DTSTART:20230326T010000
END:DAYLIGHT
BEGIN:STANDARD
TZOFFSETFROM:+0100
TZOFFSETTO:+0000
TZNAME:GMT
DTSTART:20231029T010000
END:STANDARD
BEGIN:DAYLIGHT
TZOFFSETFROM:+0000
TZOFFSETTO:+0100
TZNAME:BST
DTSTART:20240331T010000
END:DAYLIGHT
BEGIN:STANDARD
TZOFFSETFROM:+0100
TZOFFSETTO:+0000
TZNAME:GMT
DTSTART:20241027T010000
END:STANDARD
END:VTIMEZONE
BEGIN:VEVENT
DTSTART;TZID=Europe/London:20230402T090000
DTEND;TZID=Europe/London:20230402T100000
DTSTAMP:20260424T104118
CREATED:20230203T161039Z
LAST-MODIFIED:20230311T121822Z
UID:5227-1680426000-1680429600@www.stmaryschurchtickhill.com
SUMMARY:9.15am - Holy Communion - St Winifrid's Stainton
DESCRIPTION:
URL:https://www.stmaryschurchtickhill.com/event/9-15am-holy-communion-st-winifreds-stainton-4
END:VEVENT
BEGIN:VEVENT
DTSTART;TZID=Europe/London:20230402T103000
DTEND;TZID=Europe/London:20230402T120000
DTSTAMP:20260424T104118
CREATED:20230320T162800Z
LAST-MODIFIED:20230320T162800Z
UID:5446-1680431400-1680436800@www.stmaryschurchtickhill.com
SUMMARY:10.45 - Holy Communion - St Mary's Tickhill
DESCRIPTION:
URL:https://www.stmaryschurchtickhill.com/event/10-45-holy-communion-st-marys-tickhill
LOCATION:St. Mary’s Church\, Tickhill\, St Mary's Church\, St Mary's Rd\, Tickhill\,\, Doncaster\, DN11 9LZ\, United Kingdom
END:VEVENT
BEGIN:VEVENT
DTSTART;TZID=Europe/London:20230402T160000
DTEND;TZID=Europe/London:20230402T170000
DTSTAMP:20260424T104118
CREATED:20230320T164441Z
LAST-MODIFIED:20230320T164441Z
UID:5468-1680451200-1680454800@www.stmaryschurchtickhill.com
SUMMARY:4.00pm - 'Church Done Differently' - Easter Part One
DESCRIPTION:For more details – please CLICK HERE
URL:https://www.stmaryschurchtickhill.com/event/4-00pm-church-done-differently-easter-part-one
LOCATION:St. Mary’s Church\, Tickhill\, St Mary's Church\, St Mary's Rd\, Tickhill\,\, Doncaster\, DN11 9LZ\, United Kingdom
END:VEVENT
BEGIN:VEVENT
DTSTART;TZID=Europe/London:20230402T180000
DTEND;TZID=Europe/London:20230402T190000
DTSTAMP:20260424T104118
CREATED:20230320T163649Z
LAST-MODIFIED:20230320T163649Z
UID:5458-1680458400-1680462000@www.stmaryschurchtickhill.com
SUMMARY:6.00pm - Evening Prayer - St Mary's
DESCRIPTION:
URL:https://www.stmaryschurchtickhill.com/event/6-00pm-evening-prayer-st-marys
LOCATION:St. Mary’s Church\, Tickhill\, St Mary's Church\, St Mary's Rd\, Tickhill\,\, Doncaster\, DN11 9LZ\, United Kingdom
END:VEVENT
END:VCALENDAR