BEGIN:VCALENDAR
VERSION:2.0
PRODID:-//St Mary&#039;s Church Tickhill - ECPv6.15.20//NONSGML v1.0//EN
CALSCALE:GREGORIAN
METHOD:PUBLISH
X-WR-CALNAME:St Mary&#039;s Church Tickhill
X-ORIGINAL-URL:https://www.stmaryschurchtickhill.com
X-WR-CALDESC:Events for St Mary&#039;s Church Tickhill
REFRESH-INTERVAL;VALUE=DURATION:PT1H
X-Robots-Tag:noindex
X-PUBLISHED-TTL:PT1H
BEGIN:VTIMEZONE
TZID:Europe/London
BEGIN:DAYLIGHT
TZOFFSETFROM:+0000
TZOFFSETTO:+0100
TZNAME:BST
DTSTART:20220327T010000
END:DAYLIGHT
BEGIN:STANDARD
TZOFFSETFROM:+0100
TZOFFSETTO:+0000
TZNAME:GMT
DTSTART:20221030T010000
END:STANDARD
BEGIN:DAYLIGHT
TZOFFSETFROM:+0000
TZOFFSETTO:+0100
TZNAME:BST
DTSTART:20230326T010000
END:DAYLIGHT
BEGIN:STANDARD
TZOFFSETFROM:+0100
TZOFFSETTO:+0000
TZNAME:GMT
DTSTART:20231029T010000
END:STANDARD
BEGIN:DAYLIGHT
TZOFFSETFROM:+0000
TZOFFSETTO:+0100
TZNAME:BST
DTSTART:20240331T010000
END:DAYLIGHT
BEGIN:STANDARD
TZOFFSETFROM:+0100
TZOFFSETTO:+0000
TZNAME:GMT
DTSTART:20241027T010000
END:STANDARD
END:VTIMEZONE
BEGIN:VEVENT
DTSTART;TZID=Europe/London:20231203T090000
DTEND;TZID=Europe/London:20231203T100000
DTSTAMP:20260422T232623
CREATED:20230903T161836Z
LAST-MODIFIED:20230903T161836Z
UID:6182-1701594000-1701597600@www.stmaryschurchtickhill.com
SUMMARY:9.15am - Holy Communion - St Winifrid's
DESCRIPTION:
URL:https://www.stmaryschurchtickhill.com/event/9-15am-holy-communion-st-winifrids-5
LOCATION:St Winifrid’s Stainton
END:VEVENT
BEGIN:VEVENT
DTSTART;TZID=Europe/London:20231203T103000
DTEND;TZID=Europe/London:20231203T120000
DTSTAMP:20260422T232623
CREATED:20230903T162242Z
LAST-MODIFIED:20230903T162242Z
UID:6192-1701599400-1701604800@www.stmaryschurchtickhill.com
SUMMARY:10.45 - Sung Parish Eucharist - St Mary's
DESCRIPTION:
URL:https://www.stmaryschurchtickhill.com/event/10-45-sung-parish-eucharist-st-marys-4
LOCATION:St. Mary’s Church\, Tickhill\, St Mary's Church\, St Mary's Rd\, Tickhill\,\, Doncaster\, DN11 9LZ\, United Kingdom
END:VEVENT
BEGIN:VEVENT
DTSTART;TZID=Europe/London:20231203T160000
DTEND;TZID=Europe/London:20231203T170000
DTSTAMP:20260422T232623
CREATED:20230903T163733Z
LAST-MODIFIED:20231029T100513Z
UID:6224-1701619200-1701622800@www.stmaryschurchtickhill.com
SUMMARY:4.00pm - Church Done Differently -Christingle - St Mary's
DESCRIPTION:
URL:https://www.stmaryschurchtickhill.com/event/4-00pm-church-done-differently-3
LOCATION:St. Mary’s Church\, Tickhill\, St Mary's Church\, St Mary's Rd\, Tickhill\,\, Doncaster\, DN11 9LZ\, United Kingdom
END:VEVENT
BEGIN:VEVENT
DTSTART;TZID=Europe/London:20231203T180000
DTEND;TZID=Europe/London:20231203T190000
DTSTAMP:20260422T232623
CREATED:20230903T163015Z
LAST-MODIFIED:20230903T163625Z
UID:6210-1701626400-1701630000@www.stmaryschurchtickhill.com
SUMMARY:6.00pm - Advent Carol Service - St Mary's
DESCRIPTION:
URL:https://www.stmaryschurchtickhill.com/event/6-00pm-evening-prayer-st-marys-22
LOCATION:St. Mary’s Church\, Tickhill\, St Mary's Church\, St Mary's Rd\, Tickhill\,\, Doncaster\, DN11 9LZ\, United Kingdom
END:VEVENT
END:VCALENDAR