BEGIN:VCALENDAR
VERSION:2.0
PRODID:-//St Mary&#039;s Church Tickhill - ECPv6.15.20//NONSGML v1.0//EN
CALSCALE:GREGORIAN
METHOD:PUBLISH
X-ORIGINAL-URL:https://www.stmaryschurchtickhill.com
X-WR-CALDESC:Events for St Mary&#039;s Church Tickhill
REFRESH-INTERVAL;VALUE=DURATION:PT1H
X-Robots-Tag:noindex
X-PUBLISHED-TTL:PT1H
BEGIN:VTIMEZONE
TZID:Europe/London
BEGIN:DAYLIGHT
TZOFFSETFROM:+0000
TZOFFSETTO:+0100
TZNAME:BST
DTSTART:20220327T010000
END:DAYLIGHT
BEGIN:STANDARD
TZOFFSETFROM:+0100
TZOFFSETTO:+0000
TZNAME:GMT
DTSTART:20221030T010000
END:STANDARD
BEGIN:DAYLIGHT
TZOFFSETFROM:+0000
TZOFFSETTO:+0100
TZNAME:BST
DTSTART:20230326T010000
END:DAYLIGHT
BEGIN:STANDARD
TZOFFSETFROM:+0100
TZOFFSETTO:+0000
TZNAME:GMT
DTSTART:20231029T010000
END:STANDARD
BEGIN:DAYLIGHT
TZOFFSETFROM:+0000
TZOFFSETTO:+0100
TZNAME:BST
DTSTART:20240331T010000
END:DAYLIGHT
BEGIN:STANDARD
TZOFFSETFROM:+0100
TZOFFSETTO:+0000
TZNAME:GMT
DTSTART:20241027T010000
END:STANDARD
END:VTIMEZONE
BEGIN:VEVENT
DTSTART;TZID=Europe/London:20231224T103000
DTEND;TZID=Europe/London:20231224T120000
DTSTAMP:20260423T003626
CREATED:20230903T162554Z
LAST-MODIFIED:20230903T162554Z
UID:6198-1703413800-1703419200@www.stmaryschurchtickhill.com
SUMMARY:10.45 - Sung Parish Eucharist - St Mary's
DESCRIPTION:
URL:https://www.stmaryschurchtickhill.com/event/10-45-sung-parish-eucharist-st-marys-7
LOCATION:St. Mary’s Church\, Tickhill\, St Mary's Church\, St Mary's Rd\, Tickhill\,\, Doncaster\, DN11 9LZ\, United Kingdom
END:VEVENT
BEGIN:VEVENT
DTSTART;TZID=Europe/London:20231224T173000
DTEND;TZID=Europe/London:20231224T183000
DTSTAMP:20260423T003626
CREATED:20231126T190203Z
LAST-MODIFIED:20231126T190203Z
UID:6544-1703439000-1703442600@www.stmaryschurchtickhill.com
SUMMARY:5.30pm - Stainton Christmas Service - St Winfrid's Stainton
DESCRIPTION:
URL:https://www.stmaryschurchtickhill.com/event/5-30pm-stainton-christmas-service-st-winfrids-stainton
LOCATION:St Winifrid’s Stainton
END:VEVENT
BEGIN:VEVENT
DTSTART;TZID=Europe/London:20231224T180000
DTEND;TZID=Europe/London:20231224T190000
DTSTAMP:20260423T003626
CREATED:20230903T163357Z
LAST-MODIFIED:20230903T163357Z
UID:6216-1703440800-1703444400@www.stmaryschurchtickhill.com
SUMMARY:6.00pm - Crib Service - St Mary's
DESCRIPTION:
URL:https://www.stmaryschurchtickhill.com/event/6-00pm-crib-service-st-marys
LOCATION:St. Mary’s Church\, Tickhill\, St Mary's Church\, St Mary's Rd\, Tickhill\,\, Doncaster\, DN11 9LZ\, United Kingdom
END:VEVENT
BEGIN:VEVENT
DTSTART;TZID=Europe/London:20231224T233000
DTEND;TZID=Europe/London:20231224T233000
DTSTAMP:20260423T003626
CREATED:20231126T190410Z
LAST-MODIFIED:20231126T190410Z
UID:6546-1703460600-1703460600@www.stmaryschurchtickhill.com
SUMMARY:11.30pm - Midnight Mass - St Mary's
DESCRIPTION:
URL:https://www.stmaryschurchtickhill.com/event/11-30pm-midnight-mass-st-marys
LOCATION:St. Mary’s Church\, Tickhill\, St Mary's Church\, St Mary's Rd\, Tickhill\,\, Doncaster\, DN11 9LZ\, United Kingdom
END:VEVENT
END:VCALENDAR