BEGIN:VCALENDAR
VERSION:2.0
PRODID:-//St Mary&#039;s Church Tickhill - ECPv6.15.20//NONSGML v1.0//EN
CALSCALE:GREGORIAN
METHOD:PUBLISH
X-WR-CALNAME:St Mary&#039;s Church Tickhill
X-ORIGINAL-URL:https://www.stmaryschurchtickhill.com
X-WR-CALDESC:Events for St Mary&#039;s Church Tickhill
REFRESH-INTERVAL;VALUE=DURATION:PT1H
X-Robots-Tag:noindex
X-PUBLISHED-TTL:PT1H
BEGIN:VTIMEZONE
TZID:Europe/London
BEGIN:DAYLIGHT
TZOFFSETFROM:+0000
TZOFFSETTO:+0100
TZNAME:BST
DTSTART:20230326T010000
END:DAYLIGHT
BEGIN:STANDARD
TZOFFSETFROM:+0100
TZOFFSETTO:+0000
TZNAME:GMT
DTSTART:20231029T010000
END:STANDARD
BEGIN:DAYLIGHT
TZOFFSETFROM:+0000
TZOFFSETTO:+0100
TZNAME:BST
DTSTART:20240331T010000
END:DAYLIGHT
BEGIN:STANDARD
TZOFFSETFROM:+0100
TZOFFSETTO:+0000
TZNAME:GMT
DTSTART:20241027T010000
END:STANDARD
BEGIN:DAYLIGHT
TZOFFSETFROM:+0000
TZOFFSETTO:+0100
TZNAME:BST
DTSTART:20250330T010000
END:DAYLIGHT
BEGIN:STANDARD
TZOFFSETFROM:+0100
TZOFFSETTO:+0000
TZNAME:GMT
DTSTART:20251026T010000
END:STANDARD
END:VTIMEZONE
BEGIN:VEVENT
DTSTART;TZID=Europe/London:20240211T080000
DTEND;TZID=Europe/London:20240211T090000
DTSTAMP:20260423T033359
CREATED:20231111T172709Z
LAST-MODIFIED:20231111T172709Z
UID:6440-1707638400-1707642000@www.stmaryschurchtickhill.com
SUMMARY:8.00am - Holy Communion - St Mary's
DESCRIPTION:
URL:https://www.stmaryschurchtickhill.com/event/8-00am-holy-communion-st-marys-9
LOCATION:St. Mary’s Church\, Tickhill\, St Mary's Church\, St Mary's Rd\, Tickhill\,\, Doncaster\, DN11 9LZ\, United Kingdom
END:VEVENT
BEGIN:VEVENT
DTSTART;TZID=Europe/London:20240211T103000
DTEND;TZID=Europe/London:20240211T120000
DTSTAMP:20260423T033359
CREATED:20231111T172355Z
LAST-MODIFIED:20231111T172355Z
UID:6432-1707647400-1707652800@www.stmaryschurchtickhill.com
SUMMARY:10.45am - Sung Parish Eucharist - St Mary's
DESCRIPTION:
URL:https://www.stmaryschurchtickhill.com/event/10-45am-sung-parish-eucharist-st-marys-5
LOCATION:St. Mary’s Church\, Tickhill\, St Mary's Church\, St Mary's Rd\, Tickhill\,\, Doncaster\, DN11 9LZ\, United Kingdom
END:VEVENT
BEGIN:VEVENT
DTSTART;TZID=Europe/London:20240211T123000
DTEND;TZID=Europe/London:20240211T140000
DTSTAMP:20260423T033359
CREATED:20240127T160539Z
LAST-MODIFIED:20240127T160539Z
UID:6757-1707654600-1707660000@www.stmaryschurchtickhill.com
SUMMARY:12.30 - Fellowship Lunch - Parish Room
DESCRIPTION:
URL:https://www.stmaryschurchtickhill.com/event/12-30-fellowship-lunch-parish-room
LOCATION:Parish Room\, Tickhill Parish Room\, Northgate\, Tickhill\, Doncaster\, DN11 9HZ\, United Kingdom
END:VEVENT
BEGIN:VEVENT
DTSTART;TZID=Europe/London:20240211T180000
DTEND;TZID=Europe/London:20240211T190000
DTSTAMP:20260423T033359
CREATED:20231111T173103Z
LAST-MODIFIED:20240210T092803Z
UID:6452-1707674400-1707678000@www.stmaryschurchtickhill.com
SUMMARY:6.00pm  - Celtic Evening Prayer -St Mary's
DESCRIPTION:
URL:https://www.stmaryschurchtickhill.com/event/6-00pm-evening-prayer-st-marys-29
LOCATION:St. Mary’s Church\, Tickhill\, St Mary's Church\, St Mary's Rd\, Tickhill\,\, Doncaster\, DN11 9LZ\, United Kingdom
END:VEVENT
END:VCALENDAR