BEGIN:VCALENDAR
VERSION:2.0
PRODID:-//St Mary&#039;s Church Tickhill - ECPv6.15.20//NONSGML v1.0//EN
CALSCALE:GREGORIAN
METHOD:PUBLISH
X-WR-CALNAME:St Mary&#039;s Church Tickhill
X-ORIGINAL-URL:https://www.stmaryschurchtickhill.com
X-WR-CALDESC:Events for St Mary&#039;s Church Tickhill
REFRESH-INTERVAL;VALUE=DURATION:PT1H
X-Robots-Tag:noindex
X-PUBLISHED-TTL:PT1H
BEGIN:VTIMEZONE
TZID:Europe/London
BEGIN:DAYLIGHT
TZOFFSETFROM:+0000
TZOFFSETTO:+0100
TZNAME:BST
DTSTART:20230326T010000
END:DAYLIGHT
BEGIN:STANDARD
TZOFFSETFROM:+0100
TZOFFSETTO:+0000
TZNAME:GMT
DTSTART:20231029T010000
END:STANDARD
BEGIN:DAYLIGHT
TZOFFSETFROM:+0000
TZOFFSETTO:+0100
TZNAME:BST
DTSTART:20240331T010000
END:DAYLIGHT
BEGIN:STANDARD
TZOFFSETFROM:+0100
TZOFFSETTO:+0000
TZNAME:GMT
DTSTART:20241027T010000
END:STANDARD
BEGIN:DAYLIGHT
TZOFFSETFROM:+0000
TZOFFSETTO:+0100
TZNAME:BST
DTSTART:20250330T010000
END:DAYLIGHT
BEGIN:STANDARD
TZOFFSETFROM:+0100
TZOFFSETTO:+0000
TZNAME:GMT
DTSTART:20251026T010000
END:STANDARD
END:VTIMEZONE
BEGIN:VEVENT
DTSTART;TZID=Europe/London:20240329T100000
DTEND;TZID=Europe/London:20240329T110000
DTSTAMP:20260422T195103
CREATED:20240113T165757Z
LAST-MODIFIED:20240113T165757Z
UID:6715-1711706400-1711710000@www.stmaryschurchtickhill.com
SUMMARY:10.00am - Church Done Differently- Good Friday Service - St Mary's
DESCRIPTION:
URL:https://www.stmaryschurchtickhill.com/event/10-00am-church-done-differently-good-friday-service-st-marys
LOCATION:St. Mary’s Church\, Tickhill\, St Mary's Church\, St Mary's Rd\, Tickhill\,\, Doncaster\, DN11 9LZ\, United Kingdom
END:VEVENT
BEGIN:VEVENT
DTSTART;TZID=Europe/London:20240329T110000
DTEND;TZID=Europe/London:20240329T120000
DTSTAMP:20260422T195103
CREATED:20240322T111051Z
LAST-MODIFIED:20240322T111051Z
UID:6994-1711710000-1711713600@www.stmaryschurchtickhill.com
SUMMARY:11.00 - Witness at the Buttercross
DESCRIPTION:
URL:https://www.stmaryschurchtickhill.com/event/11-00-witness-at-the-buttercross
LOCATION:Buttercross\, Tickhill\, DN11 9QW\, United Kingdom
END:VEVENT
BEGIN:VEVENT
DTSTART;TZID=Europe/London:20240329T140000
DTEND;TZID=Europe/London:20240329T150000
DTSTAMP:20260422T195103
CREATED:20240316T094632Z
LAST-MODIFIED:20240316T094632Z
UID:6968-1711720800-1711724400@www.stmaryschurchtickhill.com
SUMMARY:2.00pm - Devotion at the Last Hour of the Cross
DESCRIPTION:
URL:https://www.stmaryschurchtickhill.com/event/2-00pm-devotion-at-the-last-hour-of-the-cross
LOCATION:St. Mary’s Church\, Tickhill\, St Mary's Church\, St Mary's Rd\, Tickhill\,\, Doncaster\, DN11 9LZ\, United Kingdom
END:VEVENT
BEGIN:VEVENT
DTSTART;TZID=Europe/London:20240329T190000
DTEND;TZID=Europe/London:20240329T200000
DTSTAMP:20260422T195103
CREATED:20240224T142736Z
LAST-MODIFIED:20240224T142736Z
UID:6922-1711738800-1711742400@www.stmaryschurchtickhill.com
SUMMARY:7.00pm - Good Friday 29 March - Stainer 'Crucifixion'
DESCRIPTION:
URL:https://www.stmaryschurchtickhill.com/event/7-00pm-good-friday-29-march-stainer-crucifixion
LOCATION:St. Mary’s Church\, Tickhill\, St Mary's Church\, St Mary's Rd\, Tickhill\,\, Doncaster\, DN11 9LZ\, United Kingdom
END:VEVENT
END:VCALENDAR