BEGIN:VCALENDAR
VERSION:2.0
PRODID:-//St Mary&#039;s Church Tickhill - ECPv6.15.20//NONSGML v1.0//EN
CALSCALE:GREGORIAN
METHOD:PUBLISH
X-ORIGINAL-URL:https://www.stmaryschurchtickhill.com
X-WR-CALDESC:Events for St Mary&#039;s Church Tickhill
REFRESH-INTERVAL;VALUE=DURATION:PT1H
X-Robots-Tag:noindex
X-PUBLISHED-TTL:PT1H
BEGIN:VTIMEZONE
TZID:Europe/London
BEGIN:DAYLIGHT
TZOFFSETFROM:+0000
TZOFFSETTO:+0100
TZNAME:BST
DTSTART:20230326T010000
END:DAYLIGHT
BEGIN:STANDARD
TZOFFSETFROM:+0100
TZOFFSETTO:+0000
TZNAME:GMT
DTSTART:20231029T010000
END:STANDARD
BEGIN:DAYLIGHT
TZOFFSETFROM:+0000
TZOFFSETTO:+0100
TZNAME:BST
DTSTART:20240331T010000
END:DAYLIGHT
BEGIN:STANDARD
TZOFFSETFROM:+0100
TZOFFSETTO:+0000
TZNAME:GMT
DTSTART:20241027T010000
END:STANDARD
BEGIN:DAYLIGHT
TZOFFSETFROM:+0000
TZOFFSETTO:+0100
TZNAME:BST
DTSTART:20250330T010000
END:DAYLIGHT
BEGIN:STANDARD
TZOFFSETFROM:+0100
TZOFFSETTO:+0000
TZNAME:GMT
DTSTART:20251026T010000
END:STANDARD
END:VTIMEZONE
BEGIN:VEVENT
DTSTART;TZID=Europe/London:20240331T073000
DTEND;TZID=Europe/London:20240331T080000
DTSTAMP:20260422T195215
CREATED:20240316T094929Z
LAST-MODIFIED:20240316T094929Z
UID:6972-1711870200-1711872000@www.stmaryschurchtickhill.com
SUMMARY:7.30am Tickhill Churches Together - Hymns and Readings for Easter - at the Buttercross
DESCRIPTION:
URL:https://www.stmaryschurchtickhill.com/event/7-30am-tickhill-churches-together-hymns-and-readings-for-easter-at-the-buttercross
LOCATION:Buttercross\, Tickhill\, DN11 9QW\, United Kingdom
END:VEVENT
BEGIN:VEVENT
DTSTART;TZID=Europe/London:20240331T080000
DTEND;TZID=Europe/London:20240331T090000
DTSTAMP:20260422T195215
CREATED:20240316T095059Z
LAST-MODIFIED:20240316T095223Z
UID:6974-1711872000-1711875600@www.stmaryschurchtickhill.com
SUMMARY:8.00am - Holy Communion - St Mary's
DESCRIPTION:
URL:https://www.stmaryschurchtickhill.com/event/8-00am-holy-communion-5
LOCATION:St. Mary’s Church\, Tickhill\, St Mary's Church\, St Mary's Rd\, Tickhill\,\, Doncaster\, DN11 9LZ\, United Kingdom
END:VEVENT
BEGIN:VEVENT
DTSTART;TZID=Europe/London:20240331T103000
DTEND;TZID=Europe/London:20240331T120000
DTSTAMP:20260422T195216
CREATED:20240113T164110Z
LAST-MODIFIED:20240113T164110Z
UID:6668-1711881000-1711886400@www.stmaryschurchtickhill.com
SUMMARY:10.45 - Sung Parish Eucharist - St Mary's
DESCRIPTION:
URL:https://www.stmaryschurchtickhill.com/event/10-45-sung-parish-eucharist-st-marys-13
LOCATION:St. Mary’s Church\, Tickhill\, St Mary's Church\, St Mary's Rd\, Tickhill\,\, Doncaster\, DN11 9LZ\, United Kingdom
END:VEVENT
BEGIN:VEVENT
DTSTART;TZID=Europe/London:20240331T153000
DTEND;TZID=Europe/London:20240331T163000
DTSTAMP:20260422T195216
CREATED:20240316T095349Z
LAST-MODIFIED:20240316T095349Z
UID:6977-1711899000-1711902600@www.stmaryschurchtickhill.com
SUMMARY:3.30pm - Easter Praise and Easter Peg Hunt - St Winifrid's
DESCRIPTION:
URL:https://www.stmaryschurchtickhill.com/event/3-30pm-easter-praise-and-easter-peg-hunt-st-winifrids
LOCATION:St Winifrid’s Stainton
END:VEVENT
BEGIN:VEVENT
DTSTART;TZID=Europe/London:20240331T180000
DTEND;TZID=Europe/London:20240331T190000
DTSTAMP:20260422T195216
CREATED:20240113T164732Z
LAST-MODIFIED:20240113T164732Z
UID:6687-1711908000-1711911600@www.stmaryschurchtickhill.com
SUMMARY:6.00pm - Evening Prayer - St Mary's
DESCRIPTION:
URL:https://www.stmaryschurchtickhill.com/event/6-00pm-evening-prayer-st-marys-35
LOCATION:St. Mary’s Church\, Tickhill\, St Mary's Church\, St Mary's Rd\, Tickhill\,\, Doncaster\, DN11 9LZ\, United Kingdom
END:VEVENT
END:VCALENDAR