BEGIN:VCALENDAR
VERSION:2.0
PRODID:-//St Mary&#039;s Church Tickhill - ECPv6.15.20//NONSGML v1.0//EN
CALSCALE:GREGORIAN
METHOD:PUBLISH
X-ORIGINAL-URL:https://www.stmaryschurchtickhill.com
X-WR-CALDESC:Events for St Mary&#039;s Church Tickhill
REFRESH-INTERVAL;VALUE=DURATION:PT1H
X-Robots-Tag:noindex
X-PUBLISHED-TTL:PT1H
BEGIN:VTIMEZONE
TZID:Europe/London
BEGIN:DAYLIGHT
TZOFFSETFROM:+0000
TZOFFSETTO:+0100
TZNAME:BST
DTSTART:20230326T010000
END:DAYLIGHT
BEGIN:STANDARD
TZOFFSETFROM:+0100
TZOFFSETTO:+0000
TZNAME:GMT
DTSTART:20231029T010000
END:STANDARD
BEGIN:DAYLIGHT
TZOFFSETFROM:+0000
TZOFFSETTO:+0100
TZNAME:BST
DTSTART:20240331T010000
END:DAYLIGHT
BEGIN:STANDARD
TZOFFSETFROM:+0100
TZOFFSETTO:+0000
TZNAME:GMT
DTSTART:20241027T010000
END:STANDARD
BEGIN:DAYLIGHT
TZOFFSETFROM:+0000
TZOFFSETTO:+0100
TZNAME:BST
DTSTART:20250330T010000
END:DAYLIGHT
BEGIN:STANDARD
TZOFFSETFROM:+0100
TZOFFSETTO:+0000
TZNAME:GMT
DTSTART:20251026T010000
END:STANDARD
END:VTIMEZONE
BEGIN:VEVENT
DTSTART;TZID=Europe/London:20240421T103000
DTEND;TZID=Europe/London:20240421T120000
DTSTAMP:20260422T163203
CREATED:20240113T164311Z
LAST-MODIFIED:20240415T192115Z
UID:6674-1713695400-1713700800@www.stmaryschurchtickhill.com
SUMMARY:10.45 - God's Creation - Celtic Service - St Mary's
DESCRIPTION:
URL:https://www.stmaryschurchtickhill.com/event/10-45-morning-praise-st-marys-2
LOCATION:St. Mary’s Church\, Tickhill\, St Mary's Church\, St Mary's Rd\, Tickhill\,\, Doncaster\, DN11 9LZ\, United Kingdom
END:VEVENT
BEGIN:VEVENT
DTSTART;TZID=Europe/London:20240421T130000
DTEND;TZID=Europe/London:20240421T170000
DTSTAMP:20260422T163203
CREATED:20240406T152042Z
LAST-MODIFIED:20240406T152142Z
UID:7040-1713704400-1713718800@www.stmaryschurchtickhill.com
SUMMARY:13.00 - 17.00 - Art Exhibition
DESCRIPTION:For more information – PLEASE CLICK HERE
URL:https://www.stmaryschurchtickhill.com/event/13-00-17-00-art-exhibition
LOCATION:St. Mary’s Church\, Tickhill\, St Mary's Church\, St Mary's Rd\, Tickhill\,\, Doncaster\, DN11 9LZ\, United Kingdom
END:VEVENT
BEGIN:VEVENT
DTSTART;TZID=Europe/London:20240421T180000
DTEND;TZID=Europe/London:20240421T190000
DTSTAMP:20260422T163203
CREATED:20240113T164917Z
LAST-MODIFIED:20240113T164917Z
UID:6693-1713722400-1713726000@www.stmaryschurchtickhill.com
SUMMARY:6.00pm - Holy Communion - St Mary's
DESCRIPTION:
URL:https://www.stmaryschurchtickhill.com/event/6-00pm-holy-communion-st-marys-6
LOCATION:St. Mary’s Church\, Tickhill\, St Mary's Church\, St Mary's Rd\, Tickhill\,\, Doncaster\, DN11 9LZ\, United Kingdom
END:VEVENT
END:VCALENDAR