BEGIN:VCALENDAR
VERSION:2.0
PRODID:-//St Mary&#039;s Church Tickhill - ECPv6.15.20//NONSGML v1.0//EN
CALSCALE:GREGORIAN
METHOD:PUBLISH
X-ORIGINAL-URL:https://www.stmaryschurchtickhill.com
X-WR-CALDESC:Events for St Mary&#039;s Church Tickhill
REFRESH-INTERVAL;VALUE=DURATION:PT1H
X-Robots-Tag:noindex
X-PUBLISHED-TTL:PT1H
BEGIN:VTIMEZONE
TZID:Europe/London
BEGIN:DAYLIGHT
TZOFFSETFROM:+0000
TZOFFSETTO:+0100
TZNAME:BST
DTSTART:20230326T010000
END:DAYLIGHT
BEGIN:STANDARD
TZOFFSETFROM:+0100
TZOFFSETTO:+0000
TZNAME:GMT
DTSTART:20231029T010000
END:STANDARD
BEGIN:DAYLIGHT
TZOFFSETFROM:+0000
TZOFFSETTO:+0100
TZNAME:BST
DTSTART:20240331T010000
END:DAYLIGHT
BEGIN:STANDARD
TZOFFSETFROM:+0100
TZOFFSETTO:+0000
TZNAME:GMT
DTSTART:20241027T010000
END:STANDARD
BEGIN:DAYLIGHT
TZOFFSETFROM:+0000
TZOFFSETTO:+0100
TZNAME:BST
DTSTART:20250330T010000
END:DAYLIGHT
BEGIN:STANDARD
TZOFFSETFROM:+0100
TZOFFSETTO:+0000
TZNAME:GMT
DTSTART:20251026T010000
END:STANDARD
END:VTIMEZONE
BEGIN:VEVENT
DTSTART;TZID=Europe/London:20240615T140000
DTEND;TZID=Europe/London:20240615T160000
DTSTAMP:20260422T124142
CREATED:20240420T100557Z
LAST-MODIFIED:20240510T151711Z
UID:7068-1718460000-1718467200@www.stmaryschurchtickhill.com
SUMMARY:14.00 - 16.00 - Summer Fayre - St Mary's
DESCRIPTION:
URL:https://www.stmaryschurchtickhill.com/event/10-00-16-00-summer-fayre-st-marys
LOCATION:St. Mary’s Church\, Tickhill\, St Mary's Church\, St Mary's Rd\, Tickhill\,\, Doncaster\, DN11 9LZ\, United Kingdom
END:VEVENT
BEGIN:VEVENT
DTSTART;TZID=Europe/London:20240615T190000
DTEND;TZID=Europe/London:20240615T210000
DTSTAMP:20260422T124142
CREATED:20240420T100913Z
LAST-MODIFIED:20240420T100913Z
UID:7072-1718478000-1718485200@www.stmaryschurchtickhill.com
SUMMARY:7.00pm - Concert of Light Music - Doncaster Wheatsheaf Singers and Anston Male Voice Choir
DESCRIPTION:For more  details – CLICK HERE
URL:https://www.stmaryschurchtickhill.com/event/7-00pm-concert-of-light-music-doncaster-wheatsheaf-singers-and-anston-male-voice-choir
LOCATION:St. Mary’s Church\, Tickhill\, St Mary's Church\, St Mary's Rd\, Tickhill\,\, Doncaster\, DN11 9LZ\, United Kingdom
END:VEVENT
END:VCALENDAR