BEGIN:VCALENDAR
VERSION:2.0
PRODID:-//St Mary&#039;s Church Tickhill - ECPv6.15.20//NONSGML v1.0//EN
CALSCALE:GREGORIAN
METHOD:PUBLISH
X-ORIGINAL-URL:https://www.stmaryschurchtickhill.com
X-WR-CALDESC:Events for St Mary&#039;s Church Tickhill
REFRESH-INTERVAL;VALUE=DURATION:PT1H
X-Robots-Tag:noindex
X-PUBLISHED-TTL:PT1H
BEGIN:VTIMEZONE
TZID:Europe/London
BEGIN:DAYLIGHT
TZOFFSETFROM:+0000
TZOFFSETTO:+0100
TZNAME:BST
DTSTART:20230326T010000
END:DAYLIGHT
BEGIN:STANDARD
TZOFFSETFROM:+0100
TZOFFSETTO:+0000
TZNAME:GMT
DTSTART:20231029T010000
END:STANDARD
BEGIN:DAYLIGHT
TZOFFSETFROM:+0000
TZOFFSETTO:+0100
TZNAME:BST
DTSTART:20240331T010000
END:DAYLIGHT
BEGIN:STANDARD
TZOFFSETFROM:+0100
TZOFFSETTO:+0000
TZNAME:GMT
DTSTART:20241027T010000
END:STANDARD
BEGIN:DAYLIGHT
TZOFFSETFROM:+0000
TZOFFSETTO:+0100
TZNAME:BST
DTSTART:20250330T010000
END:DAYLIGHT
BEGIN:STANDARD
TZOFFSETFROM:+0100
TZOFFSETTO:+0000
TZNAME:GMT
DTSTART:20251026T010000
END:STANDARD
END:VTIMEZONE
BEGIN:VEVENT
DTSTART;TZID=Europe/London:20241103T090000
DTEND;TZID=Europe/London:20241103T100000
DTSTAMP:20260422T010806
CREATED:20241012T175229Z
LAST-MODIFIED:20241012T175229Z
UID:7636-1730624400-1730628000@www.stmaryschurchtickhill.com
SUMMARY:9.15am  - Monthly Morning Service - St Winifrid's
DESCRIPTION:
URL:https://www.stmaryschurchtickhill.com/event/9-15am-monthly-morning-service-st-winifrids
LOCATION:St Winifrid’s Stainton
END:VEVENT
BEGIN:VEVENT
DTSTART;TZID=Europe/London:20241103T103000
DTEND;TZID=Europe/London:20241103T120000
DTSTAMP:20260422T010806
CREATED:20241012T173649Z
LAST-MODIFIED:20241012T173649Z
UID:7595-1730629800-1730635200@www.stmaryschurchtickhill.com
SUMMARY:10.45 - Sung Parish Eucharist - St Mary's
DESCRIPTION:
URL:https://www.stmaryschurchtickhill.com/event/10-45-sung-parish-eucharist-st-marys-31
LOCATION:St. Mary’s Church\, Tickhill\, St Mary's Church\, St Mary's Rd\, Tickhill\,\, Doncaster\, DN11 9LZ\, United Kingdom
END:VEVENT
BEGIN:VEVENT
DTSTART;TZID=Europe/London:20241103T160000
DTEND;TZID=Europe/London:20241103T170000
DTSTAMP:20260422T010806
CREATED:20241012T174959Z
LAST-MODIFIED:20241012T175032Z
UID:7631-1730649600-1730653200@www.stmaryschurchtickhill.com
SUMMARY:4.00pm - Church Done Differently - Light Party - St Mary's
DESCRIPTION:
URL:https://www.stmaryschurchtickhill.com/event/4-00pm-church-done-differently-light-party
LOCATION:St. Mary’s Church\, Tickhill\, St Mary's Church\, St Mary's Rd\, Tickhill\,\, Doncaster\, DN11 9LZ\, United Kingdom
END:VEVENT
BEGIN:VEVENT
DTSTART;TZID=Europe/London:20241103T180000
DTEND;TZID=Europe/London:20241103T190000
DTSTAMP:20260422T010806
CREATED:20241012T174341Z
LAST-MODIFIED:20241012T174341Z
UID:7613-1730656800-1730660400@www.stmaryschurchtickhill.com
SUMMARY:6.00pm - Evening Prayer
DESCRIPTION:
URL:https://www.stmaryschurchtickhill.com/event/6-00pm-evening-prayer-11
LOCATION:St. Mary’s Church\, Tickhill\, St Mary's Church\, St Mary's Rd\, Tickhill\,\, Doncaster\, DN11 9LZ\, United Kingdom
END:VEVENT
END:VCALENDAR