BEGIN:VCALENDAR
VERSION:2.0
PRODID:-//St Mary&#039;s Church Tickhill - ECPv6.15.20//NONSGML v1.0//EN
CALSCALE:GREGORIAN
METHOD:PUBLISH
X-ORIGINAL-URL:https://www.stmaryschurchtickhill.com
X-WR-CALDESC:Events for St Mary&#039;s Church Tickhill
REFRESH-INTERVAL;VALUE=DURATION:PT1H
X-Robots-Tag:noindex
X-PUBLISHED-TTL:PT1H
BEGIN:VTIMEZONE
TZID:Europe/London
BEGIN:DAYLIGHT
TZOFFSETFROM:+0000
TZOFFSETTO:+0100
TZNAME:BST
DTSTART:20230326T010000
END:DAYLIGHT
BEGIN:STANDARD
TZOFFSETFROM:+0100
TZOFFSETTO:+0000
TZNAME:GMT
DTSTART:20231029T010000
END:STANDARD
BEGIN:DAYLIGHT
TZOFFSETFROM:+0000
TZOFFSETTO:+0100
TZNAME:BST
DTSTART:20240331T010000
END:DAYLIGHT
BEGIN:STANDARD
TZOFFSETFROM:+0100
TZOFFSETTO:+0000
TZNAME:GMT
DTSTART:20241027T010000
END:STANDARD
BEGIN:DAYLIGHT
TZOFFSETFROM:+0000
TZOFFSETTO:+0100
TZNAME:BST
DTSTART:20250330T010000
END:DAYLIGHT
BEGIN:STANDARD
TZOFFSETFROM:+0100
TZOFFSETTO:+0000
TZNAME:GMT
DTSTART:20251026T010000
END:STANDARD
END:VTIMEZONE
BEGIN:VEVENT
DTSTART;TZID=Europe/London:20241215T103000
DTEND;TZID=Europe/London:20241215T120000
DTSTAMP:20260421T234842
CREATED:20241012T174118Z
LAST-MODIFIED:20241206T152508Z
UID:7607-1734258600-1734264000@www.stmaryschurchtickhill.com
SUMMARY:10.45am  - Celtic Morning Prayer - St Mary's - with Donations to Doncaster Food Bank
DESCRIPTION:
URL:https://www.stmaryschurchtickhill.com/event/10-45am-celtic-morning-prayer-st-marys-2
LOCATION:St. Mary’s Church\, Tickhill\, St Mary's Church\, St Mary's Rd\, Tickhill\,\, Doncaster\, DN11 9LZ\, United Kingdom
END:VEVENT
BEGIN:VEVENT
DTSTART;TZID=Europe/London:20241215T163000
DTEND;TZID=Europe/London:20241215T173000
DTSTAMP:20260421T234842
CREATED:20241116T122820Z
LAST-MODIFIED:20241122T093940Z
UID:7884-1734280200-1734283800@www.stmaryschurchtickhill.com
SUMMARY:4.30pm - Christingle Service St Winifrid's
DESCRIPTION:
URL:https://www.stmaryschurchtickhill.com/event/4-30pm-christingle-walking-nativity-and-supper-st-winifrids-and-stainton-village-hall
LOCATION:St Winifrid’s Stainton
END:VEVENT
BEGIN:VEVENT
DTSTART;TZID=Europe/London:20241215T180000
DTEND;TZID=Europe/London:20241215T190000
DTSTAMP:20260421T234842
CREATED:20241012T174802Z
LAST-MODIFIED:20241012T174802Z
UID:7625-1734285600-1734289200@www.stmaryschurchtickhill.com
SUMMARY:6.00pm - Holy Communion - St Mary's
DESCRIPTION:
URL:https://www.stmaryschurchtickhill.com/event/6-00pm-holy-communion-st-marys-14
LOCATION:St. Mary’s Church\, Tickhill\, St Mary's Church\, St Mary's Rd\, Tickhill\,\, Doncaster\, DN11 9LZ\, United Kingdom
END:VEVENT
END:VCALENDAR