BEGIN:VCALENDAR
VERSION:2.0
PRODID:-//St Mary&#039;s Church Tickhill - ECPv6.15.20//NONSGML v1.0//EN
CALSCALE:GREGORIAN
METHOD:PUBLISH
X-ORIGINAL-URL:https://www.stmaryschurchtickhill.com
X-WR-CALDESC:Events for St Mary&#039;s Church Tickhill
REFRESH-INTERVAL;VALUE=DURATION:PT1H
X-Robots-Tag:noindex
X-PUBLISHED-TTL:PT1H
BEGIN:VTIMEZONE
TZID:Europe/London
BEGIN:DAYLIGHT
TZOFFSETFROM:+0000
TZOFFSETTO:+0100
TZNAME:BST
DTSTART:20230326T010000
END:DAYLIGHT
BEGIN:STANDARD
TZOFFSETFROM:+0100
TZOFFSETTO:+0000
TZNAME:GMT
DTSTART:20231029T010000
END:STANDARD
BEGIN:DAYLIGHT
TZOFFSETFROM:+0000
TZOFFSETTO:+0100
TZNAME:BST
DTSTART:20240331T010000
END:DAYLIGHT
BEGIN:STANDARD
TZOFFSETFROM:+0100
TZOFFSETTO:+0000
TZNAME:GMT
DTSTART:20241027T010000
END:STANDARD
BEGIN:DAYLIGHT
TZOFFSETFROM:+0000
TZOFFSETTO:+0100
TZNAME:BST
DTSTART:20250330T010000
END:DAYLIGHT
BEGIN:STANDARD
TZOFFSETFROM:+0100
TZOFFSETTO:+0000
TZNAME:GMT
DTSTART:20251026T010000
END:STANDARD
END:VTIMEZONE
BEGIN:VEVENT
DTSTART;TZID=Europe/London:20241222T103000
DTEND;TZID=Europe/London:20241222T120000
DTSTAMP:20260421T234844
CREATED:20241012T174203Z
LAST-MODIFIED:20241012T174203Z
UID:7609-1734863400-1734868800@www.stmaryschurchtickhill.com
SUMMARY:10.45am  - Sung Parish Eucharist - St Mary's
DESCRIPTION:
URL:https://www.stmaryschurchtickhill.com/event/10-45am-sung-parish-eucharist-st-marys-17
LOCATION:St. Mary’s Church\, Tickhill\, St Mary's Church\, St Mary's Rd\, Tickhill\,\, Doncaster\, DN11 9LZ\, United Kingdom
END:VEVENT
BEGIN:VEVENT
DTSTART;TZID=Europe/London:20241222T160000
DTEND;TZID=Europe/London:20241222T173000
DTSTAMP:20260421T234844
CREATED:20241012T174846Z
LAST-MODIFIED:20241019T101014Z
UID:7627-1734883200-1734888600@www.stmaryschurchtickhill.com
SUMMARY:4.00pm - Christmas Carol Service - St Mary's
DESCRIPTION:
URL:https://www.stmaryschurchtickhill.com/event/6-00pm-christmas-carol-service-st-marys-3
LOCATION:St. Mary’s Church\, Tickhill\, St Mary's Church\, St Mary's Rd\, Tickhill\,\, Doncaster\, DN11 9LZ\, United Kingdom
END:VEVENT
BEGIN:VEVENT
DTSTART;TZID=Europe/London:20241222T180000
DTEND;TZID=Europe/London:20241222T190000
DTSTAMP:20260421T234844
CREATED:20241116T123026Z
LAST-MODIFIED:20241211T200407Z
UID:7888-1734890400-1734894000@www.stmaryschurchtickhill.com
SUMMARY:6.00 pm - Carols round the Tree - with Maltby Brass Band - St Winifrid's
DESCRIPTION:
URL:https://www.stmaryschurchtickhill.com/event/carols-round-the-tree-with-maltby-brass-band-st-winifrids
LOCATION:St Winifrid’s Stainton
END:VEVENT
END:VCALENDAR