BEGIN:VCALENDAR
VERSION:2.0
PRODID:-//St Mary&#039;s Church Tickhill - ECPv6.15.20//NONSGML v1.0//EN
CALSCALE:GREGORIAN
METHOD:PUBLISH
X-ORIGINAL-URL:https://www.stmaryschurchtickhill.com
X-WR-CALDESC:Events for St Mary&#039;s Church Tickhill
REFRESH-INTERVAL;VALUE=DURATION:PT1H
X-Robots-Tag:noindex
X-PUBLISHED-TTL:PT1H
BEGIN:VTIMEZONE
TZID:Europe/London
BEGIN:DAYLIGHT
TZOFFSETFROM:+0000
TZOFFSETTO:+0100
TZNAME:BST
DTSTART:20240331T010000
END:DAYLIGHT
BEGIN:STANDARD
TZOFFSETFROM:+0100
TZOFFSETTO:+0000
TZNAME:GMT
DTSTART:20241027T010000
END:STANDARD
BEGIN:DAYLIGHT
TZOFFSETFROM:+0000
TZOFFSETTO:+0100
TZNAME:BST
DTSTART:20250330T010000
END:DAYLIGHT
BEGIN:STANDARD
TZOFFSETFROM:+0100
TZOFFSETTO:+0000
TZNAME:GMT
DTSTART:20251026T010000
END:STANDARD
BEGIN:DAYLIGHT
TZOFFSETFROM:+0000
TZOFFSETTO:+0100
TZNAME:BST
DTSTART:20260329T010000
END:DAYLIGHT
BEGIN:STANDARD
TZOFFSETFROM:+0100
TZOFFSETTO:+0000
TZNAME:GMT
DTSTART:20261025T010000
END:STANDARD
END:VTIMEZONE
BEGIN:VEVENT
DTSTART;TZID=Europe/London:20250309T080000
DTEND;TZID=Europe/London:20250309T090000
DTSTAMP:20260421T183406
CREATED:20250103T153054Z
LAST-MODIFIED:20250103T153054Z
UID:8119-1741507200-1741510800@www.stmaryschurchtickhill.com
SUMMARY:8.00 am - Holy Communion - St Mary's
DESCRIPTION:
URL:https://www.stmaryschurchtickhill.com/event/8-00-am-holy-communion-st-marys-6
LOCATION:St. Mary’s Church\, Tickhill\, St Mary's Church\, St Mary's Rd\, Tickhill\,\, Doncaster\, DN11 9LZ\, United Kingdom
END:VEVENT
BEGIN:VEVENT
DTSTART;TZID=Europe/London:20250309T103000
DTEND;TZID=Europe/London:20250309T120000
DTSTAMP:20260421T183406
CREATED:20250103T151057Z
LAST-MODIFIED:20250103T151057Z
UID:8065-1741516200-1741521600@www.stmaryschurchtickhill.com
SUMMARY:10.45 am – Sung Parish Eucharist – St Mary’s
DESCRIPTION:
URL:https://www.stmaryschurchtickhill.com/event/10-45-am-sung-parish-eucharist-st-marys-12
LOCATION:St. Mary’s Church\, Tickhill\, St Mary's Church\, St Mary's Rd\, Tickhill\,\, Doncaster\, DN11 9LZ\, United Kingdom
END:VEVENT
BEGIN:VEVENT
DTSTART;TZID=Europe/London:20250309T180000
DTEND;TZID=Europe/London:20250309T190000
DTSTAMP:20260421T183406
CREATED:20250103T151717Z
LAST-MODIFIED:20250307T161142Z
UID:8083-1741543200-1741546800@www.stmaryschurchtickhill.com
SUMMARY:6.00 pm - Celtic Evening Prayer - St Mary's
DESCRIPTION:
URL:https://www.stmaryschurchtickhill.com/event/6-00-pm-evening-prayer-st-marys-11
LOCATION:St. Mary’s Church\, Tickhill\, St Mary's Church\, St Mary's Rd\, Tickhill\,\, Doncaster\, DN11 9LZ\, United Kingdom
END:VEVENT
END:VCALENDAR