BEGIN:VCALENDAR
VERSION:2.0
PRODID:-//St Mary&#039;s Church Tickhill - ECPv6.15.20//NONSGML v1.0//EN
CALSCALE:GREGORIAN
METHOD:PUBLISH
X-ORIGINAL-URL:https://www.stmaryschurchtickhill.com
X-WR-CALDESC:Events for St Mary&#039;s Church Tickhill
REFRESH-INTERVAL;VALUE=DURATION:PT1H
X-Robots-Tag:noindex
X-PUBLISHED-TTL:PT1H
BEGIN:VTIMEZONE
TZID:Europe/London
BEGIN:DAYLIGHT
TZOFFSETFROM:+0000
TZOFFSETTO:+0100
TZNAME:BST
DTSTART:20240331T010000
END:DAYLIGHT
BEGIN:STANDARD
TZOFFSETFROM:+0100
TZOFFSETTO:+0000
TZNAME:GMT
DTSTART:20241027T010000
END:STANDARD
BEGIN:DAYLIGHT
TZOFFSETFROM:+0000
TZOFFSETTO:+0100
TZNAME:BST
DTSTART:20250330T010000
END:DAYLIGHT
BEGIN:STANDARD
TZOFFSETFROM:+0100
TZOFFSETTO:+0000
TZNAME:GMT
DTSTART:20251026T010000
END:STANDARD
BEGIN:DAYLIGHT
TZOFFSETFROM:+0000
TZOFFSETTO:+0100
TZNAME:BST
DTSTART:20260329T010000
END:DAYLIGHT
BEGIN:STANDARD
TZOFFSETFROM:+0100
TZOFFSETTO:+0000
TZNAME:GMT
DTSTART:20261025T010000
END:STANDARD
END:VTIMEZONE
BEGIN:VEVENT
DTSTART;TZID=Europe/London:20250420T080000
DTEND;TZID=Europe/London:20250420T090000
DTSTAMP:20260421T165556
CREATED:20250414T194610Z
LAST-MODIFIED:20250414T194610Z
UID:8411-1745136000-1745139600@www.stmaryschurchtickhill.com
SUMMARY:8.00 am - Holy Communion - St Mary's
DESCRIPTION:
URL:https://www.stmaryschurchtickhill.com/event/8-00-am-holy-communion-st-marys-7
LOCATION:St. Mary’s Church\, Tickhill\, St Mary's Church\, St Mary's Rd\, Tickhill\,\, Doncaster\, DN11 9LZ\, United Kingdom
END:VEVENT
BEGIN:VEVENT
DTSTART;TZID=Europe/London:20250420T103000
DTEND;TZID=Europe/London:20250420T120000
DTSTAMP:20260421T165556
CREATED:20250310T193606Z
LAST-MODIFIED:20250414T194529Z
UID:8278-1745145000-1745150400@www.stmaryschurchtickhill.com
SUMMARY:10.45 am – Sung Parish Eucharist – St Mary’s
DESCRIPTION:
URL:https://www.stmaryschurchtickhill.com/event/10-45-am-morning-prayer-st-marys
LOCATION:St. Mary’s Church\, Tickhill\, St Mary's Church\, St Mary's Rd\, Tickhill\,\, Doncaster\, DN11 9LZ\, United Kingdom
END:VEVENT
BEGIN:VEVENT
DTSTART;TZID=Europe/London:20250420T153000
DTEND;TZID=Europe/London:20250420T163000
DTSTAMP:20260421T165556
CREATED:20250414T194657Z
LAST-MODIFIED:20250414T194657Z
UID:8413-1745163000-1745166600@www.stmaryschurchtickhill.com
SUMMARY:3.30pm - Easter Praise and Easter Peg Hunt
DESCRIPTION:
URL:https://www.stmaryschurchtickhill.com/event/3-30pm-easter-praise-and-easter-peg-hunt
LOCATION:St Winifrid’s Stainton
END:VEVENT
BEGIN:VEVENT
DTSTART;TZID=Europe/London:20250420T180000
DTEND;TZID=Europe/London:20250420T190000
DTSTAMP:20260421T165556
CREATED:20250310T194400Z
LAST-MODIFIED:20250414T194447Z
UID:8294-1745172000-1745175600@www.stmaryschurchtickhill.com
SUMMARY:6.00 pm - Evening Prayer - St Mary's
DESCRIPTION:
URL:https://www.stmaryschurchtickhill.com/event/6-00-pm-holy-communion-st-marys-6
LOCATION:St. Mary’s Church\, Tickhill\, St Mary's Church\, St Mary's Rd\, Tickhill\,\, Doncaster\, DN11 9LZ\, United Kingdom
END:VEVENT
END:VCALENDAR