BEGIN:VCALENDAR
VERSION:2.0
PRODID:-//St Mary&#039;s Church Tickhill - ECPv6.15.20//NONSGML v1.0//EN
CALSCALE:GREGORIAN
METHOD:PUBLISH
X-ORIGINAL-URL:https://www.stmaryschurchtickhill.com
X-WR-CALDESC:Events for St Mary&#039;s Church Tickhill
REFRESH-INTERVAL;VALUE=DURATION:PT1H
X-Robots-Tag:noindex
X-PUBLISHED-TTL:PT1H
BEGIN:VTIMEZONE
TZID:Europe/London
BEGIN:DAYLIGHT
TZOFFSETFROM:+0000
TZOFFSETTO:+0100
TZNAME:BST
DTSTART:20240331T010000
END:DAYLIGHT
BEGIN:STANDARD
TZOFFSETFROM:+0100
TZOFFSETTO:+0000
TZNAME:GMT
DTSTART:20241027T010000
END:STANDARD
BEGIN:DAYLIGHT
TZOFFSETFROM:+0000
TZOFFSETTO:+0100
TZNAME:BST
DTSTART:20250330T010000
END:DAYLIGHT
BEGIN:STANDARD
TZOFFSETFROM:+0100
TZOFFSETTO:+0000
TZNAME:GMT
DTSTART:20251026T010000
END:STANDARD
BEGIN:DAYLIGHT
TZOFFSETFROM:+0000
TZOFFSETTO:+0100
TZNAME:BST
DTSTART:20260329T010000
END:DAYLIGHT
BEGIN:STANDARD
TZOFFSETFROM:+0100
TZOFFSETTO:+0000
TZNAME:GMT
DTSTART:20261025T010000
END:STANDARD
END:VTIMEZONE
BEGIN:VEVENT
DTSTART;TZID=Europe/London:20250518T103000
DTEND;TZID=Europe/London:20250518T120000
DTSTAMP:20260421T152812
CREATED:20250310T194011Z
LAST-MODIFIED:20250510T092049Z
UID:8286-1747564200-1747569600@www.stmaryschurchtickhill.com
SUMMARY:10.45 am – Sung Parish Eucharist – St Mary’s
DESCRIPTION:
URL:https://www.stmaryschurchtickhill.com/event/10-45-am-morning-prayer-st-marys-2
LOCATION:St. Mary’s Church\, Tickhill\, St Mary's Church\, St Mary's Rd\, Tickhill\,\, Doncaster\, DN11 9LZ\, United Kingdom
END:VEVENT
BEGIN:VEVENT
DTSTART;TZID=Europe/London:20250518T120000
DTEND;TZID=Europe/London:20250518T130000
DTSTAMP:20260421T152812
CREATED:20250510T092212Z
LAST-MODIFIED:20250510T092212Z
UID:8499-1747569600-1747573200@www.stmaryschurchtickhill.com
SUMMARY:12.00 Vestry and Annual Parochial Church Meeting
DESCRIPTION:
URL:https://www.stmaryschurchtickhill.com/event/12-00-vestry-and-annual-parochial-church-meeting
LOCATION:St. Mary’s Church\, Tickhill\, St Mary's Church\, St Mary's Rd\, Tickhill\,\, Doncaster\, DN11 9LZ\, United Kingdom
END:VEVENT
BEGIN:VEVENT
DTSTART;TZID=Europe/London:20250518T180000
DTEND;TZID=Europe/London:20250518T190000
DTSTAMP:20260421T152812
CREATED:20250310T194606Z
LAST-MODIFIED:20250510T092114Z
UID:8302-1747591200-1747594800@www.stmaryschurchtickhill.com
SUMMARY:6.00 pm - Evening Prayer - St Mary's
DESCRIPTION:
URL:https://www.stmaryschurchtickhill.com/event/6-00-pm-holy-communion-st-marys-7
LOCATION:St. Mary’s Church\, Tickhill\, St Mary's Church\, St Mary's Rd\, Tickhill\,\, Doncaster\, DN11 9LZ\, United Kingdom
END:VEVENT
END:VCALENDAR