BEGIN:VCALENDAR
VERSION:2.0
PRODID:-//St Mary&#039;s Church Tickhill - ECPv6.15.20//NONSGML v1.0//EN
CALSCALE:GREGORIAN
METHOD:PUBLISH
X-WR-CALNAME:St Mary&#039;s Church Tickhill
X-ORIGINAL-URL:https://www.stmaryschurchtickhill.com
X-WR-CALDESC:Events for St Mary&#039;s Church Tickhill
REFRESH-INTERVAL;VALUE=DURATION:PT1H
X-Robots-Tag:noindex
X-PUBLISHED-TTL:PT1H
BEGIN:VTIMEZONE
TZID:Europe/London
BEGIN:DAYLIGHT
TZOFFSETFROM:+0000
TZOFFSETTO:+0100
TZNAME:BST
DTSTART:20240331T010000
END:DAYLIGHT
BEGIN:STANDARD
TZOFFSETFROM:+0100
TZOFFSETTO:+0000
TZNAME:GMT
DTSTART:20241027T010000
END:STANDARD
BEGIN:DAYLIGHT
TZOFFSETFROM:+0000
TZOFFSETTO:+0100
TZNAME:BST
DTSTART:20250330T010000
END:DAYLIGHT
BEGIN:STANDARD
TZOFFSETFROM:+0100
TZOFFSETTO:+0000
TZNAME:GMT
DTSTART:20251026T010000
END:STANDARD
BEGIN:DAYLIGHT
TZOFFSETFROM:+0000
TZOFFSETTO:+0100
TZNAME:BST
DTSTART:20260329T010000
END:DAYLIGHT
BEGIN:STANDARD
TZOFFSETFROM:+0100
TZOFFSETTO:+0000
TZNAME:GMT
DTSTART:20261025T010000
END:STANDARD
END:VTIMEZONE
BEGIN:VEVENT
DTSTART;TZID=Europe/London:20250608T080000
DTEND;TZID=Europe/London:20250608T090000
DTSTAMP:20260421T153332
CREATED:20250510T094043Z
LAST-MODIFIED:20250510T094043Z
UID:8527-1749369600-1749373200@www.stmaryschurchtickhill.com
SUMMARY:8.00 am - Holy Communion
DESCRIPTION:
URL:https://www.stmaryschurchtickhill.com/event/8-00-am-holy-communion-2
LOCATION:St. Mary’s Church\, Tickhill\, St Mary's Church\, St Mary's Rd\, Tickhill\,\, Doncaster\, DN11 9LZ\, United Kingdom
END:VEVENT
BEGIN:VEVENT
DTSTART;TZID=Europe/London:20250608T103000
DTEND;TZID=Europe/London:20250608T120000
DTSTAMP:20260421T153332
CREATED:20250510T093155Z
LAST-MODIFIED:20250510T093155Z
UID:8505-1749378600-1749384000@www.stmaryschurchtickhill.com
SUMMARY:10.45 am – Sung Parish Eucharist – St Mary’s
DESCRIPTION:
URL:https://www.stmaryschurchtickhill.com/event/10-45-am-sung-parish-eucharist-st-marys-22
LOCATION:St. Mary’s Church\, Tickhill\, St Mary's Church\, St Mary's Rd\, Tickhill\,\, Doncaster\, DN11 9LZ\, United Kingdom
END:VEVENT
BEGIN:VEVENT
DTSTART;TZID=Europe/London:20250608T153000
DTEND;TZID=Europe/London:20250608T163000
DTSTAMP:20260421T153332
CREATED:20250510T093453Z
LAST-MODIFIED:20250530T152013Z
UID:8515-1749396600-1749400200@www.stmaryschurchtickhill.com
SUMMARY:3.30 pm - Mission Area Pentecost Praise - at St Michael's Rossington
DESCRIPTION:
URL:https://www.stmaryschurchtickhill.com/event/6-00-pm-evening-prayer-st-marys-19
LOCATION:St Michael’s Rossington
END:VEVENT
END:VCALENDAR