BEGIN:VCALENDAR
VERSION:2.0
PRODID:-//St Mary&#039;s Church Tickhill - ECPv6.15.20//NONSGML v1.0//EN
CALSCALE:GREGORIAN
METHOD:PUBLISH
X-ORIGINAL-URL:https://www.stmaryschurchtickhill.com
X-WR-CALDESC:Events for St Mary&#039;s Church Tickhill
REFRESH-INTERVAL;VALUE=DURATION:PT1H
X-Robots-Tag:noindex
X-PUBLISHED-TTL:PT1H
BEGIN:VTIMEZONE
TZID:Europe/London
BEGIN:DAYLIGHT
TZOFFSETFROM:+0000
TZOFFSETTO:+0100
TZNAME:BST
DTSTART:20240331T010000
END:DAYLIGHT
BEGIN:STANDARD
TZOFFSETFROM:+0100
TZOFFSETTO:+0000
TZNAME:GMT
DTSTART:20241027T010000
END:STANDARD
BEGIN:DAYLIGHT
TZOFFSETFROM:+0000
TZOFFSETTO:+0100
TZNAME:BST
DTSTART:20250330T010000
END:DAYLIGHT
BEGIN:STANDARD
TZOFFSETFROM:+0100
TZOFFSETTO:+0000
TZNAME:GMT
DTSTART:20251026T010000
END:STANDARD
BEGIN:DAYLIGHT
TZOFFSETFROM:+0000
TZOFFSETTO:+0100
TZNAME:BST
DTSTART:20260329T010000
END:DAYLIGHT
BEGIN:STANDARD
TZOFFSETFROM:+0100
TZOFFSETTO:+0000
TZNAME:GMT
DTSTART:20261025T010000
END:STANDARD
END:VTIMEZONE
BEGIN:VEVENT
DTSTART;TZID=Europe/London:20250726T190000
DTEND;TZID=Europe/London:20250726T203000
DTSTAMP:20260421T131927
CREATED:20250705T140718Z
LAST-MODIFIED:20250705T140718Z
UID:8750-1753556400-1753561800@www.stmaryschurchtickhill.com
SUMMARY:7.00pm - Rock St Mary's - free gig by 'The First Ones'
DESCRIPTION:
URL:https://www.stmaryschurchtickhill.com/event/7-00pm-rock-st-marys-free-gig-by-the-first-ones
LOCATION:St. Mary’s Church\, Tickhill\, St Mary's Church\, St Mary's Rd\, Tickhill\,\, Doncaster\, DN11 9LZ\, United Kingdom
END:VEVENT
END:VCALENDAR