BEGIN:VCALENDAR
VERSION:2.0
PRODID:-//St Mary&#039;s Church Tickhill - ECPv6.15.20//NONSGML v1.0//EN
CALSCALE:GREGORIAN
METHOD:PUBLISH
X-WR-CALNAME:St Mary&#039;s Church Tickhill
X-ORIGINAL-URL:https://www.stmaryschurchtickhill.com
X-WR-CALDESC:Events for St Mary&#039;s Church Tickhill
REFRESH-INTERVAL;VALUE=DURATION:PT1H
X-Robots-Tag:noindex
X-PUBLISHED-TTL:PT1H
BEGIN:VTIMEZONE
TZID:Europe/London
BEGIN:DAYLIGHT
TZOFFSETFROM:+0000
TZOFFSETTO:+0100
TZNAME:BST
DTSTART:20230326T010000
END:DAYLIGHT
BEGIN:STANDARD
TZOFFSETFROM:+0100
TZOFFSETTO:+0000
TZNAME:GMT
DTSTART:20231029T010000
END:STANDARD
BEGIN:DAYLIGHT
TZOFFSETFROM:+0000
TZOFFSETTO:+0100
TZNAME:BST
DTSTART:20240331T010000
END:DAYLIGHT
BEGIN:STANDARD
TZOFFSETFROM:+0100
TZOFFSETTO:+0000
TZNAME:GMT
DTSTART:20241027T010000
END:STANDARD
BEGIN:DAYLIGHT
TZOFFSETFROM:+0000
TZOFFSETTO:+0100
TZNAME:BST
DTSTART:20250330T010000
END:DAYLIGHT
BEGIN:STANDARD
TZOFFSETFROM:+0100
TZOFFSETTO:+0000
TZNAME:GMT
DTSTART:20251026T010000
END:STANDARD
END:VTIMEZONE
BEGIN:VEVENT
DTSTART;TZID=Europe/London:20240928T170000
DTEND;TZID=Europe/London:20240928T190000
DTSTAMP:20260420T000231
CREATED:20240921T091750Z
LAST-MODIFIED:20240921T091750Z
UID:7523-1727542800-1727550000@www.stmaryschurchtickhill.com
SUMMARY:5.00pm - Harvest Supper
DESCRIPTION:
URL:https://www.stmaryschurchtickhill.com/event/5-00pm-harvest-supper
END:VEVENT
BEGIN:VEVENT
DTSTART;TZID=Europe/London:20240925T100000
DTEND;TZID=Europe/London:20240925T110000
DTSTAMP:20260420T000231
CREATED:20240809T133038Z
LAST-MODIFIED:20240809T133038Z
UID:7432-1727258400-1727262000@www.stmaryschurchtickhill.com
SUMMARY:10.00am - Holy Communion - St Mary's
DESCRIPTION:
URL:https://www.stmaryschurchtickhill.com/event/10-00am-holy-communion-st-marys-51
LOCATION:St Winifrid’s Stainton
END:VEVENT
BEGIN:VEVENT
DTSTART;TZID=Europe/London:20240922T180000
DTEND;TZID=Europe/London:20240922T190000
DTSTAMP:20260420T000231
CREATED:20240809T131919Z
LAST-MODIFIED:20240809T131919Z
UID:7402-1727028000-1727031600@www.stmaryschurchtickhill.com
SUMMARY:6.00pm - Evening Prayer - St Mary's
DESCRIPTION:
URL:https://www.stmaryschurchtickhill.com/event/6-00pm-evening-prayer-st-marys-54
LOCATION:St. Mary’s Church\, Tickhill\, St Mary's Church\, St Mary's Rd\, Tickhill\,\, Doncaster\, DN11 9LZ\, United Kingdom
END:VEVENT
BEGIN:VEVENT
DTSTART;TZID=Europe/London:20240922T103000
DTEND;TZID=Europe/London:20240922T120000
DTSTAMP:20260420T000231
CREATED:20240809T131339Z
LAST-MODIFIED:20240809T131339Z
UID:7384-1727001000-1727006400@www.stmaryschurchtickhill.com
SUMMARY:10.45 - Sung Parish Eucharist - St Mary's
DESCRIPTION:
URL:https://www.stmaryschurchtickhill.com/event/10-45-sung-parish-eucharist-st-marys-26
LOCATION:St. Mary’s Church\, Tickhill\, St Mary's Church\, St Mary's Rd\, Tickhill\,\, Doncaster\, DN11 9LZ\, United Kingdom
END:VEVENT
BEGIN:VEVENT
DTSTART;TZID=Europe/London:20240921T180000
DTEND;TZID=Europe/London:20240921T193000
DTSTAMP:20260420T000231
CREATED:20240830T140907Z
LAST-MODIFIED:20240830T140907Z
UID:7483-1726941600-1726947000@www.stmaryschurchtickhill.com
SUMMARY:6.00pm - Free concert - Music for Brass\, strings and voices
DESCRIPTION:For more information\, PLEASE CLICK HERE
URL:https://www.stmaryschurchtickhill.com/event/6-00pm-free-concert-music-for-brass-strings-and-voices
LOCATION:St. Mary’s Church\, Tickhill\, St Mary's Church\, St Mary's Rd\, Tickhill\,\, Doncaster\, DN11 9LZ\, United Kingdom
END:VEVENT
BEGIN:VEVENT
DTSTART;TZID=Europe/London:20240918T100000
DTEND;TZID=Europe/London:20240918T110000
DTSTAMP:20260420T000231
CREATED:20240809T132952Z
LAST-MODIFIED:20240809T132952Z
UID:7430-1726653600-1726657200@www.stmaryschurchtickhill.com
SUMMARY:10.00am - Morning Prayer - St Mary's
DESCRIPTION:
URL:https://www.stmaryschurchtickhill.com/event/10-00am-morning-prayer-st-marys-12
LOCATION:St. Mary’s Church\, Tickhill\, St Mary's Church\, St Mary's Rd\, Tickhill\,\, Doncaster\, DN11 9LZ\, United Kingdom
END:VEVENT
BEGIN:VEVENT
DTSTART;TZID=Europe/London:20240915T180000
DTEND;TZID=Europe/London:20240915T190000
DTSTAMP:20260420T000231
CREATED:20240809T131837Z
LAST-MODIFIED:20240809T131837Z
UID:7400-1726423200-1726426800@www.stmaryschurchtickhill.com
SUMMARY:6.00pm - Holy Communion - St Mary's
DESCRIPTION:
URL:https://www.stmaryschurchtickhill.com/event/6-00pm-holy-communion-st-marys-11
LOCATION:St. Mary’s Church\, Tickhill\, St Mary's Church\, St Mary's Rd\, Tickhill\,\, Doncaster\, DN11 9LZ\, United Kingdom
END:VEVENT
BEGIN:VEVENT
DTSTART;TZID=Europe/London:20240915T103000
DTEND;TZID=Europe/London:20240915T120000
DTSTAMP:20260420T000231
CREATED:20240809T131257Z
LAST-MODIFIED:20240809T131257Z
UID:7382-1726396200-1726401600@www.stmaryschurchtickhill.com
SUMMARY:10.45 - Celtic Morning Prayer - St Mary's
DESCRIPTION:
URL:https://www.stmaryschurchtickhill.com/event/10-45-celtic-morning-prayer-st-marys-4
LOCATION:St. Mary’s Church\, Tickhill\, St Mary's Church\, St Mary's Rd\, Tickhill\,\, Doncaster\, DN11 9LZ\, United Kingdom
END:VEVENT
BEGIN:VEVENT
DTSTART;TZID=Europe/London:20240911T100000
DTEND;TZID=Europe/London:20240911T110000
DTSTAMP:20260420T000231
CREATED:20240809T132919Z
LAST-MODIFIED:20240809T132919Z
UID:7428-1726048800-1726052400@www.stmaryschurchtickhill.com
SUMMARY:10.00am - Holy Communion - St Mary's
DESCRIPTION:
URL:https://www.stmaryschurchtickhill.com/event/10-00am-holy-communion-st-marys-50
LOCATION:St. Mary’s Church\, Tickhill\, St Mary's Church\, St Mary's Rd\, Tickhill\,\, Doncaster\, DN11 9LZ\, United Kingdom
END:VEVENT
BEGIN:VEVENT
DTSTART;TZID=Europe/London:20240908T180000
DTEND;TZID=Europe/London:20240908T190000
DTSTAMP:20260420T000231
CREATED:20240809T131742Z
LAST-MODIFIED:20240908T090233Z
UID:7398-1725818400-1725822000@www.stmaryschurchtickhill.com
SUMMARY:6.00pm - Celtic Evening Prayer - St Mary's
DESCRIPTION:
URL:https://www.stmaryschurchtickhill.com/event/6-00pm-evening-prayer-st-marys-53
LOCATION:St. Mary’s Church\, Tickhill\, St Mary's Church\, St Mary's Rd\, Tickhill\,\, Doncaster\, DN11 9LZ\, United Kingdom
END:VEVENT
BEGIN:VEVENT
DTSTART;TZID=Europe/London:20240908T103000
DTEND;TZID=Europe/London:20240908T120000
DTSTAMP:20260420T000231
CREATED:20240809T131211Z
LAST-MODIFIED:20240809T131211Z
UID:7380-1725791400-1725796800@www.stmaryschurchtickhill.com
SUMMARY:10.45 - Sung Parish Eucharist - St Mary's
DESCRIPTION:
URL:https://www.stmaryschurchtickhill.com/event/10-45-sung-parish-eucharist-st-marys-25
LOCATION:St. Mary’s Church\, Tickhill\, St Mary's Church\, St Mary's Rd\, Tickhill\,\, Doncaster\, DN11 9LZ\, United Kingdom
END:VEVENT
BEGIN:VEVENT
DTSTART;TZID=Europe/London:20240908T080000
DTEND;TZID=Europe/London:20240908T090000
DTSTAMP:20260420T000231
CREATED:20240809T132303Z
LAST-MODIFIED:20240830T140606Z
UID:7414-1725782400-1725786000@www.stmaryschurchtickhill.com
SUMMARY:8.00am - Morning Prayer - St Mary's
DESCRIPTION:
URL:https://www.stmaryschurchtickhill.com/event/8-00am-holy-communion-st-marys-16
LOCATION:St. Mary’s Church\, Tickhill\, St Mary's Church\, St Mary's Rd\, Tickhill\,\, Doncaster\, DN11 9LZ\, United Kingdom
END:VEVENT
BEGIN:VEVENT
DTSTART;TZID=Europe/London:20240904T100000
DTEND;TZID=Europe/London:20240904T110000
DTSTAMP:20260420T000231
CREATED:20240809T132837Z
LAST-MODIFIED:20240826T152740Z
UID:7426-1725444000-1725447600@www.stmaryschurchtickhill.com
SUMMARY:10.00am - Holy Communion - St Mary's
DESCRIPTION:
URL:https://www.stmaryschurchtickhill.com/event/10-00am-morning-prayer-st-marys-11
LOCATION:St. Mary’s Church\, Tickhill\, St Mary's Church\, St Mary's Rd\, Tickhill\,\, Doncaster\, DN11 9LZ\, United Kingdom
END:VEVENT
BEGIN:VEVENT
DTSTART;TZID=Europe/London:20240901T180000
DTEND;TZID=Europe/London:20240901T190000
DTSTAMP:20260420T000231
CREATED:20240809T131715Z
LAST-MODIFIED:20240809T131715Z
UID:7396-1725213600-1725217200@www.stmaryschurchtickhill.com
SUMMARY:6.00pm - Evening Prayer - St Mary's
DESCRIPTION:
URL:https://www.stmaryschurchtickhill.com/event/6-00pm-evening-prayer-st-marys-52
LOCATION:St. Mary’s Church\, Tickhill\, St Mary's Church\, St Mary's Rd\, Tickhill\,\, Doncaster\, DN11 9LZ\, United Kingdom
END:VEVENT
BEGIN:VEVENT
DTSTART;TZID=Europe/London:20240901T160000
DTEND;TZID=Europe/London:20240901T170000
DTSTAMP:20260420T000231
CREATED:20240809T132427Z
LAST-MODIFIED:20240809T132427Z
UID:7418-1725206400-1725210000@www.stmaryschurchtickhill.com
SUMMARY:4.00pm - Church Done Differently - St Mary's
DESCRIPTION:
URL:https://www.stmaryschurchtickhill.com/event/4-00pm-church-done-differently-st-marys-8
LOCATION:St. Mary’s Church\, Tickhill\, St Mary's Church\, St Mary's Rd\, Tickhill\,\, Doncaster\, DN11 9LZ\, United Kingdom
END:VEVENT
BEGIN:VEVENT
DTSTART;TZID=Europe/London:20240901T103000
DTEND;TZID=Europe/London:20240901T120000
DTSTAMP:20260420T000231
CREATED:20240809T131117Z
LAST-MODIFIED:20240809T131117Z
UID:7378-1725186600-1725192000@www.stmaryschurchtickhill.com
SUMMARY:10.45 - Sung Parish Eucharist - St Mary's
DESCRIPTION:
URL:https://www.stmaryschurchtickhill.com/event/10-45-sung-parish-eucharist-st-marys-24
LOCATION:St. Mary’s Church\, Tickhill\, St Mary's Church\, St Mary's Rd\, Tickhill\,\, Doncaster\, DN11 9LZ\, United Kingdom
END:VEVENT
BEGIN:VEVENT
DTSTART;TZID=Europe/London:20240901T090000
DTEND;TZID=Europe/London:20240901T100000
DTSTAMP:20260420T000231
CREATED:20240809T132552Z
LAST-MODIFIED:20240809T132552Z
UID:7422-1725181200-1725184800@www.stmaryschurchtickhill.com
SUMMARY:9.15am - Monthly Service - St Winifrid's
DESCRIPTION:
URL:https://www.stmaryschurchtickhill.com/event/9-15am-monthly-service-st-winifrids-5
LOCATION:St Winifrid’s Stainton
END:VEVENT
BEGIN:VEVENT
DTSTART;TZID=Europe/London:20240828T100000
DTEND;TZID=Europe/London:20240828T110000
DTSTAMP:20260420T000231
CREATED:20240608T163910Z
LAST-MODIFIED:20240608T163910Z
UID:7267-1724839200-1724842800@www.stmaryschurchtickhill.com
SUMMARY:10.00am - Holy Communion - St Mary's
DESCRIPTION:
URL:https://www.stmaryschurchtickhill.com/event/10-00am-holy-communion-st-marys-49
LOCATION:St. Mary’s Church\, Tickhill\, St Mary's Church\, St Mary's Rd\, Tickhill\,\, Doncaster\, DN11 9LZ\, United Kingdom
END:VEVENT
BEGIN:VEVENT
DTSTART;TZID=Europe/London:20240825T180000
DTEND;TZID=Europe/London:20240825T190000
DTSTAMP:20260420T000231
CREATED:20240608T162819Z
LAST-MODIFIED:20240817T105532Z
UID:7236-1724608800-1724612400@www.stmaryschurchtickhill.com
SUMMARY:6.00pm - Evensong- St Mary's
DESCRIPTION:
URL:https://www.stmaryschurchtickhill.com/event/6-00pm-evening-prayer-st-marys-51
LOCATION:St. Mary’s Church\, Tickhill\, St Mary's Church\, St Mary's Rd\, Tickhill\,\, Doncaster\, DN11 9LZ\, United Kingdom
END:VEVENT
BEGIN:VEVENT
DTSTART;TZID=Europe/London:20240825T103000
DTEND;TZID=Europe/London:20240825T120000
DTSTAMP:20260420T000231
CREATED:20240608T162238Z
LAST-MODIFIED:20240608T162238Z
UID:7220-1724581800-1724587200@www.stmaryschurchtickhill.com
SUMMARY:10.45 - Sung Parish Eucharist - St Mary's
DESCRIPTION:
URL:https://www.stmaryschurchtickhill.com/event/10-45-sung-parish-eucharist-st-marys-23
LOCATION:St. Mary’s Church\, Tickhill\, St Mary's Church\, St Mary's Rd\, Tickhill\,\, Doncaster\, DN11 9LZ\, United Kingdom
END:VEVENT
BEGIN:VEVENT
DTSTART;TZID=Europe/London:20240821T100000
DTEND;TZID=Europe/London:20240821T110000
DTSTAMP:20260420T000231
CREATED:20240608T163830Z
LAST-MODIFIED:20240817T105504Z
UID:7265-1724234400-1724238000@www.stmaryschurchtickhill.com
SUMMARY:10.00am - Morning Prayer- St Mary's
DESCRIPTION:
URL:https://www.stmaryschurchtickhill.com/event/10-00am-holy-communion-st-marys-48
LOCATION:St. Mary’s Church\, Tickhill\, St Mary's Church\, St Mary's Rd\, Tickhill\,\, Doncaster\, DN11 9LZ\, United Kingdom
END:VEVENT
BEGIN:VEVENT
DTSTART;TZID=Europe/London:20240818T180000
DTEND;TZID=Europe/London:20240818T190000
DTSTAMP:20260420T000231
CREATED:20240608T162747Z
LAST-MODIFIED:20240608T162747Z
UID:7234-1724004000-1724007600@www.stmaryschurchtickhill.com
SUMMARY:6.00pm - Holy Communion - St Mary's
DESCRIPTION:
URL:https://www.stmaryschurchtickhill.com/event/6-00pm-holy-communion-st-marys-10
LOCATION:St. Mary’s Church\, Tickhill\, St Mary's Church\, St Mary's Rd\, Tickhill\,\, Doncaster\, DN11 9LZ\, United Kingdom
END:VEVENT
BEGIN:VEVENT
DTSTART;TZID=Europe/London:20240818T103000
DTEND;TZID=Europe/London:20240818T120000
DTSTAMP:20260420T000231
CREATED:20240608T162205Z
LAST-MODIFIED:20240608T162205Z
UID:7218-1723977000-1723982400@www.stmaryschurchtickhill.com
SUMMARY:10.45 - Celtic Morning Prayer - St Mary's
DESCRIPTION:
URL:https://www.stmaryschurchtickhill.com/event/10-45-celtic-morning-prayer-st-marys-3
LOCATION:St. Mary’s Church\, Tickhill\, St Mary's Church\, St Mary's Rd\, Tickhill\,\, Doncaster\, DN11 9LZ\, United Kingdom
END:VEVENT
BEGIN:VEVENT
DTSTART;TZID=Europe/London:20240814T100000
DTEND;TZID=Europe/London:20240814T110000
DTSTAMP:20260420T000231
CREATED:20240608T163758Z
LAST-MODIFIED:20240608T163758Z
UID:7263-1723629600-1723633200@www.stmaryschurchtickhill.com
SUMMARY:10.00am - Holy Communion - St Mary's
DESCRIPTION:
URL:https://www.stmaryschurchtickhill.com/event/10-00am-holy-communion-st-marys-47
LOCATION:St. Mary’s Church\, Tickhill\, St Mary's Church\, St Mary's Rd\, Tickhill\,\, Doncaster\, DN11 9LZ\, United Kingdom
END:VEVENT
BEGIN:VEVENT
DTSTART;TZID=Europe/London:20240811T180000
DTEND;TZID=Europe/London:20240811T190000
DTSTAMP:20260420T000231
CREATED:20240608T162708Z
LAST-MODIFIED:20240802T173555Z
UID:7232-1723399200-1723402800@www.stmaryschurchtickhill.com
SUMMARY:6.00pm - Celtic Evening Prayer - St Mary's
DESCRIPTION:
URL:https://www.stmaryschurchtickhill.com/event/6-00pm-evening-prayer-st-marys-50
END:VEVENT
BEGIN:VEVENT
DTSTART;TZID=Europe/London:20240811T103000
DTEND;TZID=Europe/London:20240811T120000
DTSTAMP:20260420T000231
CREATED:20240608T162116Z
LAST-MODIFIED:20240608T162116Z
UID:7216-1723372200-1723377600@www.stmaryschurchtickhill.com
SUMMARY:10.45 - Sung Parish Eucharist - St Mary's
DESCRIPTION:
URL:https://www.stmaryschurchtickhill.com/event/10-45-sung-parish-eucharist-st-marys-22
LOCATION:St. Mary’s Church\, Tickhill\, St Mary's Church\, St Mary's Rd\, Tickhill\,\, Doncaster\, DN11 9LZ\, United Kingdom
END:VEVENT
BEGIN:VEVENT
DTSTART;TZID=Europe/London:20240811T080000
DTEND;TZID=Europe/London:20240811T090000
DTSTAMP:20260420T000231
CREATED:20240608T163013Z
LAST-MODIFIED:20240608T163013Z
UID:7240-1723363200-1723366800@www.stmaryschurchtickhill.com
SUMMARY:8.00am - Holy Communion - St Mary's
DESCRIPTION:
URL:https://www.stmaryschurchtickhill.com/event/8-00am-holy-communion-st-marys-15
LOCATION:St. Mary’s Church\, Tickhill\, St Mary's Church\, St Mary's Rd\, Tickhill\,\, Doncaster\, DN11 9LZ\, United Kingdom
END:VEVENT
BEGIN:VEVENT
DTSTART;TZID=Europe/London:20240807T100000
DTEND;TZID=Europe/London:20240807T110000
DTSTAMP:20260420T000231
CREATED:20240608T163732Z
LAST-MODIFIED:20240802T173453Z
UID:7261-1723024800-1723028400@www.stmaryschurchtickhill.com
SUMMARY:10.00am - Morning Prayer - St Mary's
DESCRIPTION:
URL:https://www.stmaryschurchtickhill.com/event/10-00am-holy-communion-st-marys-46
LOCATION:St. Mary’s Church\, Tickhill\, St Mary's Church\, St Mary's Rd\, Tickhill\,\, Doncaster\, DN11 9LZ\, United Kingdom
END:VEVENT
BEGIN:VEVENT
DTSTART;TZID=Europe/London:20240804T180000
DTEND;TZID=Europe/London:20240804T190000
DTSTAMP:20260420T000231
CREATED:20240608T162629Z
LAST-MODIFIED:20240608T162629Z
UID:7230-1722794400-1722798000@www.stmaryschurchtickhill.com
SUMMARY:6.00pm - Evening Prayer - St Mary's
DESCRIPTION:
URL:https://www.stmaryschurchtickhill.com/event/6-00pm-evening-prayer-st-marys-49
LOCATION:St. Mary’s Church\, Tickhill\, St Mary's Church\, St Mary's Rd\, Tickhill\,\, Doncaster\, DN11 9LZ\, United Kingdom
END:VEVENT
BEGIN:VEVENT
DTSTART;TZID=Europe/London:20240804T160000
DTEND;TZID=Europe/London:20240804T170000
DTSTAMP:20260420T000231
CREATED:20240608T163139Z
LAST-MODIFIED:20240608T163139Z
UID:7244-1722787200-1722790800@www.stmaryschurchtickhill.com
SUMMARY:4.00pm - Church Done Differently - St Mary's
DESCRIPTION:
URL:https://www.stmaryschurchtickhill.com/event/4-00pm-church-done-differently-st-marys-7
LOCATION:St. Mary’s Church\, Tickhill\, St Mary's Church\, St Mary's Rd\, Tickhill\,\, Doncaster\, DN11 9LZ\, United Kingdom
END:VEVENT
END:VCALENDAR