BEGIN:VCALENDAR
VERSION:2.0
PRODID:-//St Mary&#039;s Church Tickhill - ECPv6.15.20//NONSGML v1.0//EN
CALSCALE:GREGORIAN
METHOD:PUBLISH
X-WR-CALNAME:St Mary&#039;s Church Tickhill
X-ORIGINAL-URL:https://www.stmaryschurchtickhill.com
X-WR-CALDESC:Events for St Mary&#039;s Church Tickhill
REFRESH-INTERVAL;VALUE=DURATION:PT1H
X-Robots-Tag:noindex
X-PUBLISHED-TTL:PT1H
BEGIN:VTIMEZONE
TZID:Europe/London
BEGIN:DAYLIGHT
TZOFFSETFROM:+0000
TZOFFSETTO:+0100
TZNAME:BST
DTSTART:20230326T010000
END:DAYLIGHT
BEGIN:STANDARD
TZOFFSETFROM:+0100
TZOFFSETTO:+0000
TZNAME:GMT
DTSTART:20231029T010000
END:STANDARD
BEGIN:DAYLIGHT
TZOFFSETFROM:+0000
TZOFFSETTO:+0100
TZNAME:BST
DTSTART:20240331T010000
END:DAYLIGHT
BEGIN:STANDARD
TZOFFSETFROM:+0100
TZOFFSETTO:+0000
TZNAME:GMT
DTSTART:20241027T010000
END:STANDARD
BEGIN:DAYLIGHT
TZOFFSETFROM:+0000
TZOFFSETTO:+0100
TZNAME:BST
DTSTART:20250330T010000
END:DAYLIGHT
BEGIN:STANDARD
TZOFFSETFROM:+0100
TZOFFSETTO:+0000
TZNAME:GMT
DTSTART:20251026T010000
END:STANDARD
END:VTIMEZONE
BEGIN:VEVENT
DTSTART;TZID=Europe/London:20240526T150000
DTEND;TZID=Europe/London:20240526T160000
DTSTAMP:20260420T013414
CREATED:20240212T202243Z
LAST-MODIFIED:20240518T114840Z
UID:6828-1716735600-1716739200@www.stmaryschurchtickhill.com
SUMMARY:3.00pm - The Big Sing - at Tickhill Methodist Church
DESCRIPTION:
URL:https://www.stmaryschurchtickhill.com/event/6-00pm-evening-prayer-st-marys-41
LOCATION:Tickhill Methodist Church\, 8 Buttercross Ct\, Tickhill\,\, Doncaster\, DN11 9JX
END:VEVENT
BEGIN:VEVENT
DTSTART;TZID=Europe/London:20240526T103000
DTEND;TZID=Europe/London:20240526T120000
DTSTAMP:20260420T013414
CREATED:20240212T201659Z
LAST-MODIFIED:20240212T201659Z
UID:6810-1716719400-1716724800@www.stmaryschurchtickhill.com
SUMMARY:10.45am - Sung Parish Eucharist - St Mary's
DESCRIPTION:
URL:https://www.stmaryschurchtickhill.com/event/10-45am-sung-parish-eucharist-st-marys-8
LOCATION:St. Mary’s Church\, Tickhill\, St Mary's Church\, St Mary's Rd\, Tickhill\,\, Doncaster\, DN11 9LZ\, United Kingdom
END:VEVENT
BEGIN:VEVENT
DTSTART;TZID=Europe/London:20240522T100000
DTEND;TZID=Europe/London:20240522T110000
DTSTAMP:20260420T013414
CREATED:20240212T202830Z
LAST-MODIFIED:20240518T114712Z
UID:6846-1716372000-1716375600@www.stmaryschurchtickhill.com
SUMMARY:10.00am - Morning Prayer - St Mary's
DESCRIPTION:
URL:https://www.stmaryschurchtickhill.com/event/10-00am-holy-communion-st-marys-38
LOCATION:St. Mary’s Church\, Tickhill\, St Mary's Church\, St Mary's Rd\, Tickhill\,\, Doncaster\, DN11 9LZ\, United Kingdom
END:VEVENT
BEGIN:VEVENT
DTSTART;TZID=Europe/London:20240519T180000
DTEND;TZID=Europe/London:20240519T190000
DTSTAMP:20260420T013414
CREATED:20240212T202208Z
LAST-MODIFIED:20240510T151823Z
UID:6826-1716141600-1716145200@www.stmaryschurchtickhill.com
SUMMARY:6.00pm - Celtic Evening Prayer - St Mary's
DESCRIPTION:
URL:https://www.stmaryschurchtickhill.com/event/6-00pm-holy-communion-st-marys-7
LOCATION:St. Mary’s Church\, Tickhill\, St Mary's Church\, St Mary's Rd\, Tickhill\,\, Doncaster\, DN11 9LZ\, United Kingdom
END:VEVENT
BEGIN:VEVENT
DTSTART;TZID=Europe/London:20240519T120000
DTEND;TZID=Europe/London:20240519T130000
DTSTAMP:20260420T013414
CREATED:20240429T173008Z
LAST-MODIFIED:20240429T173008Z
UID:7114-1716120000-1716123600@www.stmaryschurchtickhill.com
SUMMARY:12.00 Annual Church Meeting
DESCRIPTION:For more details\, please CLICK HERE
URL:https://www.stmaryschurchtickhill.com/event/12-00-annual-church-meeting
LOCATION:St. Mary’s Church\, Tickhill\, St Mary's Church\, St Mary's Rd\, Tickhill\,\, Doncaster\, DN11 9LZ\, United Kingdom
END:VEVENT
BEGIN:VEVENT
DTSTART;TZID=Europe/London:20240519T080000
DTEND;TZID=Europe/London:20240519T170000
DTSTAMP:20260420T013414
CREATED:20240212T201624Z
LAST-MODIFIED:20240510T151800Z
UID:6808-1716105600-1716138000@www.stmaryschurchtickhill.com
SUMMARY:10.45am - Sung Parish Eucharist - St Mary's
DESCRIPTION:
URL:https://www.stmaryschurchtickhill.com/event/10-45am-morning-praise-st-marys-3
LOCATION:St. Mary’s Church\, Tickhill\, St Mary's Church\, St Mary's Rd\, Tickhill\,\, Doncaster\, DN11 9LZ\, United Kingdom
END:VEVENT
BEGIN:VEVENT
DTSTART;TZID=Europe/London:20240517T200000
DTEND;TZID=Europe/London:20240517T210000
DTSTAMP:20260420T013414
CREATED:20240503T182058Z
LAST-MODIFIED:20240503T182058Z
UID:7127-1715976000-1715979600@www.stmaryschurchtickhill.com
SUMMARY:8.15pm - Compline - St Mary's
DESCRIPTION:
URL:https://www.stmaryschurchtickhill.com/event/8-15pm-compline-st-marys
LOCATION:St. Mary’s Church\, Tickhill\, St Mary's Church\, St Mary's Rd\, Tickhill\,\, Doncaster\, DN11 9LZ\, United Kingdom
END:VEVENT
BEGIN:VEVENT
DTSTART;TZID=Europe/London:20240515T100000
DTEND;TZID=Europe/London:20240515T110000
DTSTAMP:20260420T013414
CREATED:20240212T202751Z
LAST-MODIFIED:20240503T181929Z
UID:6844-1715767200-1715770800@www.stmaryschurchtickhill.com
SUMMARY:10.00am - Holy Communion - St Mary's
DESCRIPTION:
URL:https://www.stmaryschurchtickhill.com/event/10-00am-morning-prayer-st-marys-7
LOCATION:St. Mary’s Church\, Tickhill\, St Mary's Church\, St Mary's Rd\, Tickhill\,\, Doncaster\, DN11 9LZ\, United Kingdom
END:VEVENT
BEGIN:VEVENT
DTSTART;TZID=Europe/London:20240514T190000
DTEND;TZID=Europe/London:20240514T200000
DTSTAMP:20260420T013414
CREATED:20240503T181842Z
LAST-MODIFIED:20240503T181842Z
UID:7123-1715713200-1715716800@www.stmaryschurchtickhill.com
SUMMARY:7.00pm - Vespers Service - St Mary's
DESCRIPTION:
URL:https://www.stmaryschurchtickhill.com/event/7-00pm-vespers-service-st-marys
END:VEVENT
BEGIN:VEVENT
DTSTART;TZID=Europe/London:20240513T090000
DTEND;TZID=Europe/London:20240513T100000
DTSTAMP:20260420T013414
CREATED:20240503T181745Z
LAST-MODIFIED:20240503T181745Z
UID:7121-1715590800-1715594400@www.stmaryschurchtickhill.com
SUMMARY:9.00am - Morning Prayer
DESCRIPTION:
URL:https://www.stmaryschurchtickhill.com/event/9-00am-morning-prayer-2
LOCATION:St. Mary’s Church\, Tickhill\, St Mary's Church\, St Mary's Rd\, Tickhill\,\, Doncaster\, DN11 9LZ\, United Kingdom
END:VEVENT
BEGIN:VEVENT
DTSTART;TZID=Europe/London:20240512T180000
DTEND;TZID=Europe/London:20240512T190000
DTSTAMP:20260420T013414
CREATED:20240212T202132Z
LAST-MODIFIED:20240212T202132Z
UID:6824-1715536800-1715540400@www.stmaryschurchtickhill.com
SUMMARY:6.00pm - Evening Prayer - St Mary's
DESCRIPTION:
URL:https://www.stmaryschurchtickhill.com/event/6-00pm-evening-prayer-st-marys-40
LOCATION:St. Mary’s Church\, Tickhill\, St Mary's Church\, St Mary's Rd\, Tickhill\,\, Doncaster\, DN11 9LZ\, United Kingdom
END:VEVENT
BEGIN:VEVENT
DTSTART;TZID=Europe/London:20240512T103000
DTEND;TZID=Europe/London:20240512T120000
DTSTAMP:20260420T013414
CREATED:20240212T201551Z
LAST-MODIFIED:20240212T201551Z
UID:6806-1715509800-1715515200@www.stmaryschurchtickhill.com
SUMMARY:10.45am - Sung Parish Eucharist - St Mary's
DESCRIPTION:
URL:https://www.stmaryschurchtickhill.com/event/10-45am-sung-parish-eucharist-st-marys-7
LOCATION:St. Mary’s Church\, Tickhill\, St Mary's Church\, St Mary's Rd\, Tickhill\,\, Doncaster\, DN11 9LZ\, United Kingdom
END:VEVENT
BEGIN:VEVENT
DTSTART;TZID=Europe/London:20240512T080000
DTEND;TZID=Europe/London:20240512T090000
DTSTAMP:20260420T013414
CREATED:20240503T182216Z
LAST-MODIFIED:20240503T182216Z
UID:7129-1715500800-1715504400@www.stmaryschurchtickhill.com
SUMMARY:8.00am - Holy Communion - St Mary's
DESCRIPTION:
URL:https://www.stmaryschurchtickhill.com/event/8-00am-holy-communion-st-marys-12
LOCATION:St. Mary’s Church\, Tickhill\, St Mary's Church\, St Mary's Rd\, Tickhill\,\, Doncaster\, DN11 9LZ\, United Kingdom
END:VEVENT
BEGIN:VEVENT
DTSTART;TZID=Europe/London:20240509T100000
DTEND;TZID=Europe/London:20240509T110000
DTSTAMP:20260420T013414
CREATED:20240212T202723Z
LAST-MODIFIED:20240503T181526Z
UID:6842-1715248800-1715252400@www.stmaryschurchtickhill.com
SUMMARY:10.00am - Holy Communion - St Mary's
DESCRIPTION:
URL:https://www.stmaryschurchtickhill.com/event/10-00am-holy-communion-st-marys-37
LOCATION:St. Mary’s Church\, Tickhill\, St Mary's Church\, St Mary's Rd\, Tickhill\,\, Doncaster\, DN11 9LZ\, United Kingdom
END:VEVENT
BEGIN:VEVENT
DTSTART;TZID=Europe/London:20240505T180000
DTEND;TZID=Europe/London:20240505T190000
DTSTAMP:20260420T013414
CREATED:20240212T202100Z
LAST-MODIFIED:20240503T181437Z
UID:6822-1714932000-1714935600@www.stmaryschurchtickhill.com
SUMMARY:6.00pm - Rogationtide Service with farm visits - meet in Methodist Church car park
DESCRIPTION:
URL:https://www.stmaryschurchtickhill.com/event/6-00pm-evening-prayer-st-marys-39
LOCATION:St. Mary’s Church\, Tickhill\, St Mary's Church\, St Mary's Rd\, Tickhill\,\, Doncaster\, DN11 9LZ\, United Kingdom
END:VEVENT
BEGIN:VEVENT
DTSTART;TZID=Europe/London:20240505T160000
DTEND;TZID=Europe/London:20240505T170000
DTSTAMP:20260420T013414
CREATED:20240212T203241Z
LAST-MODIFIED:20240212T203752Z
UID:6858-1714924800-1714928400@www.stmaryschurchtickhill.com
SUMMARY:4.00 pm - 'Church Done Differently' - St Mary's
DESCRIPTION:
URL:https://www.stmaryschurchtickhill.com/event/4-00-pm-church-done-differently
LOCATION:St. Mary’s Church\, Tickhill\, St Mary's Church\, St Mary's Rd\, Tickhill\,\, Doncaster\, DN11 9LZ\, United Kingdom
END:VEVENT
BEGIN:VEVENT
DTSTART;TZID=Europe/London:20240505T103000
DTEND;TZID=Europe/London:20240505T120000
DTSTAMP:20260420T013414
CREATED:20240212T201455Z
LAST-MODIFIED:20240212T201523Z
UID:6803-1714905000-1714910400@www.stmaryschurchtickhill.com
SUMMARY:10.45am - Sung Parish Eucharist - St Mary's
DESCRIPTION:
URL:https://www.stmaryschurchtickhill.com/event/10-45-sung-parish-eucharist-st-marys-17
LOCATION:St. Mary’s Church\, Tickhill\, St Mary's Church\, St Mary's Rd\, Tickhill\,\, Doncaster\, DN11 9LZ\, United Kingdom
END:VEVENT
BEGIN:VEVENT
DTSTART;TZID=Europe/London:20240505T090000
DTEND;TZID=Europe/London:20240505T100000
DTSTAMP:20260420T013414
CREATED:20240212T203405Z
LAST-MODIFIED:20240212T203405Z
UID:6862-1714899600-1714903200@www.stmaryschurchtickhill.com
SUMMARY:9.15 am - Monthly Morning Service - St Winifrid's
DESCRIPTION:
URL:https://www.stmaryschurchtickhill.com/event/9-15-am-monthly-morning-service-st-winifrids
LOCATION:St Winifrid’s Stainton
END:VEVENT
BEGIN:VEVENT
DTSTART;TZID=Europe/London:20240501T100000
DTEND;TZID=Europe/London:20240501T110000
DTSTAMP:20260420T013414
CREATED:20240212T202637Z
LAST-MODIFIED:20240212T202637Z
UID:6840-1714557600-1714561200@www.stmaryschurchtickhill.com
SUMMARY:10.00am - Morning Prayer - St Mary's
DESCRIPTION:
URL:https://www.stmaryschurchtickhill.com/event/10-00am-morning-prayer-st-marys-6
LOCATION:St. Mary’s Church\, Tickhill\, St Mary's Church\, St Mary's Rd\, Tickhill\,\, Doncaster\, DN11 9LZ\, United Kingdom
END:VEVENT
BEGIN:VEVENT
DTSTART;TZID=Europe/London:20240428T180000
DTEND;TZID=Europe/London:20240428T190000
DTSTAMP:20260420T013414
CREATED:20240113T165000Z
LAST-MODIFIED:20240420T101133Z
UID:6695-1714327200-1714330800@www.stmaryschurchtickhill.com
SUMMARY:6.00pm - Evensong - St Mary's
DESCRIPTION:
URL:https://www.stmaryschurchtickhill.com/event/6-00pm-evening-prayer-st-marys-38
LOCATION:St. Mary’s Church\, Tickhill\, St Mary's Church\, St Mary's Rd\, Tickhill\,\, Doncaster\, DN11 9LZ\, United Kingdom
END:VEVENT
BEGIN:VEVENT
DTSTART;TZID=Europe/London:20240428T103000
DTEND;TZID=Europe/London:20240428T120000
DTSTAMP:20260420T013414
CREATED:20240113T164344Z
LAST-MODIFIED:20240113T164344Z
UID:6676-1714300200-1714305600@www.stmaryschurchtickhill.com
SUMMARY:10.45 - Sung Parish Eucharist - St Mary's
DESCRIPTION:
URL:https://www.stmaryschurchtickhill.com/event/10-45-sung-parish-eucharist-st-marys-16
LOCATION:St. Mary’s Church\, Tickhill\, St Mary's Church\, St Mary's Rd\, Tickhill\,\, Doncaster\, DN11 9LZ\, United Kingdom
END:VEVENT
BEGIN:VEVENT
DTSTART;TZID=Europe/London:20240424T100000
DTEND;TZID=Europe/London:20240424T110000
DTSTAMP:20260420T013414
CREATED:20240113T165519Z
LAST-MODIFIED:20240420T100227Z
UID:6711-1713952800-1713956400@www.stmaryschurchtickhill.com
SUMMARY:10.00am - Holy Communion - St Mary's
DESCRIPTION:
URL:https://www.stmaryschurchtickhill.com/event/10-00am-morning-prayer-st-marys-5
LOCATION:St. Mary’s Church\, Tickhill\, St Mary's Church\, St Mary's Rd\, Tickhill\,\, Doncaster\, DN11 9LZ\, United Kingdom
END:VEVENT
BEGIN:VEVENT
DTSTART;TZID=Europe/London:20240421T180000
DTEND;TZID=Europe/London:20240421T190000
DTSTAMP:20260420T013414
CREATED:20240113T164917Z
LAST-MODIFIED:20240113T164917Z
UID:6693-1713722400-1713726000@www.stmaryschurchtickhill.com
SUMMARY:6.00pm - Holy Communion - St Mary's
DESCRIPTION:
URL:https://www.stmaryschurchtickhill.com/event/6-00pm-holy-communion-st-marys-6
LOCATION:St. Mary’s Church\, Tickhill\, St Mary's Church\, St Mary's Rd\, Tickhill\,\, Doncaster\, DN11 9LZ\, United Kingdom
END:VEVENT
BEGIN:VEVENT
DTSTART;TZID=Europe/London:20240421T130000
DTEND;TZID=Europe/London:20240421T170000
DTSTAMP:20260420T013414
CREATED:20240406T152042Z
LAST-MODIFIED:20240406T152142Z
UID:7040-1713704400-1713718800@www.stmaryschurchtickhill.com
SUMMARY:13.00 - 17.00 - Art Exhibition
DESCRIPTION:For more information – PLEASE CLICK HERE
URL:https://www.stmaryschurchtickhill.com/event/13-00-17-00-art-exhibition
LOCATION:St. Mary’s Church\, Tickhill\, St Mary's Church\, St Mary's Rd\, Tickhill\,\, Doncaster\, DN11 9LZ\, United Kingdom
END:VEVENT
BEGIN:VEVENT
DTSTART;TZID=Europe/London:20240421T103000
DTEND;TZID=Europe/London:20240421T120000
DTSTAMP:20260420T013414
CREATED:20240113T164311Z
LAST-MODIFIED:20240415T192115Z
UID:6674-1713695400-1713700800@www.stmaryschurchtickhill.com
SUMMARY:10.45 - God's Creation - Celtic Service - St Mary's
DESCRIPTION:
URL:https://www.stmaryschurchtickhill.com/event/10-45-morning-praise-st-marys-2
LOCATION:St. Mary’s Church\, Tickhill\, St Mary's Church\, St Mary's Rd\, Tickhill\,\, Doncaster\, DN11 9LZ\, United Kingdom
END:VEVENT
BEGIN:VEVENT
DTSTART;TZID=Europe/London:20240420T100000
DTEND;TZID=Europe/London:20240420T160000
DTSTAMP:20260420T013414
CREATED:20240406T151705Z
LAST-MODIFIED:20240406T151830Z
UID:7036-1713607200-1713628800@www.stmaryschurchtickhill.com
SUMMARY:10.00 - 16.00 - Art Exhibition
DESCRIPTION:For more information – PLEASE CLICK HERE
URL:https://www.stmaryschurchtickhill.com/event/10-00-16-00-art-exhibition
LOCATION:St. Mary’s Church\, Tickhill\, St Mary's Church\, St Mary's Rd\, Tickhill\,\, Doncaster\, DN11 9LZ\, United Kingdom
END:VEVENT
BEGIN:VEVENT
DTSTART;TZID=Europe/London:20240417T100000
DTEND;TZID=Europe/London:20240417T110000
DTSTAMP:20260420T013414
CREATED:20240113T165429Z
LAST-MODIFIED:20240113T165445Z
UID:6709-1713348000-1713351600@www.stmaryschurchtickhill.com
SUMMARY:10.00am - Morning Prayer - St Mary's
DESCRIPTION:
URL:https://www.stmaryschurchtickhill.com/event/10-00am-morning-prayer-st-marys-4
LOCATION:St. Mary’s Church\, Tickhill\, St Mary's Church\, St Mary's Rd\, Tickhill\,\, Doncaster\, DN11 9LZ\, United Kingdom
END:VEVENT
BEGIN:VEVENT
DTSTART;TZID=Europe/London:20240414T180000
DTEND;TZID=Europe/London:20240414T190000
DTSTAMP:20260420T013414
CREATED:20240113T164831Z
LAST-MODIFIED:20240316T095457Z
UID:6691-1713117600-1713121200@www.stmaryschurchtickhill.com
SUMMARY:6.00pm - Easter Carol Service - St Mary's
DESCRIPTION:
URL:https://www.stmaryschurchtickhill.com/event/6-00pm-evening-prayer-st-marys-37
LOCATION:St. Mary’s Church\, Tickhill\, St Mary's Church\, St Mary's Rd\, Tickhill\,\, Doncaster\, DN11 9LZ\, United Kingdom
END:VEVENT
BEGIN:VEVENT
DTSTART;TZID=Europe/London:20240414T103000
DTEND;TZID=Europe/London:20240414T120000
DTSTAMP:20260420T013414
CREATED:20240113T164212Z
LAST-MODIFIED:20240113T164212Z
UID:6672-1713090600-1713096000@www.stmaryschurchtickhill.com
SUMMARY:10.45 - Sung Parish Eucharist - St Mary's
DESCRIPTION:
URL:https://www.stmaryschurchtickhill.com/event/10-45-sung-parish-eucharist-st-marys-15
LOCATION:St. Mary’s Church\, Tickhill\, St Mary's Church\, St Mary's Rd\, Tickhill\,\, Doncaster\, DN11 9LZ\, United Kingdom
END:VEVENT
BEGIN:VEVENT
DTSTART;TZID=Europe/London:20240414T080000
DTEND;TZID=Europe/London:20240414T090000
DTSTAMP:20260420T013414
CREATED:20240406T144635Z
LAST-MODIFIED:20240406T144635Z
UID:7026-1713081600-1713085200@www.stmaryschurchtickhill.com
SUMMARY:8.00am - Holy Communion - St Mary's
DESCRIPTION:
URL:https://www.stmaryschurchtickhill.com/event/8-00am-holy-communion-st-marys-11
LOCATION:St. Mary’s Church\, Tickhill\, St Mary's Church\, St Mary's Rd\, Tickhill\,\, Doncaster\, DN11 9LZ\, United Kingdom
END:VEVENT
END:VCALENDAR