BEGIN:VCALENDAR
VERSION:2.0
PRODID:-//St Mary&#039;s Church Tickhill - ECPv6.15.20//NONSGML v1.0//EN
CALSCALE:GREGORIAN
METHOD:PUBLISH
X-WR-CALNAME:St Mary&#039;s Church Tickhill
X-ORIGINAL-URL:https://www.stmaryschurchtickhill.com
X-WR-CALDESC:Events for St Mary&#039;s Church Tickhill
REFRESH-INTERVAL;VALUE=DURATION:PT1H
X-Robots-Tag:noindex
X-PUBLISHED-TTL:PT1H
BEGIN:VTIMEZONE
TZID:Europe/London
BEGIN:DAYLIGHT
TZOFFSETFROM:+0000
TZOFFSETTO:+0100
TZNAME:BST
DTSTART:20230326T010000
END:DAYLIGHT
BEGIN:STANDARD
TZOFFSETFROM:+0100
TZOFFSETTO:+0000
TZNAME:GMT
DTSTART:20231029T010000
END:STANDARD
BEGIN:DAYLIGHT
TZOFFSETFROM:+0000
TZOFFSETTO:+0100
TZNAME:BST
DTSTART:20240331T010000
END:DAYLIGHT
BEGIN:STANDARD
TZOFFSETFROM:+0100
TZOFFSETTO:+0000
TZNAME:GMT
DTSTART:20241027T010000
END:STANDARD
BEGIN:DAYLIGHT
TZOFFSETFROM:+0000
TZOFFSETTO:+0100
TZNAME:BST
DTSTART:20250330T010000
END:DAYLIGHT
BEGIN:STANDARD
TZOFFSETFROM:+0100
TZOFFSETTO:+0000
TZNAME:GMT
DTSTART:20251026T010000
END:STANDARD
END:VTIMEZONE
BEGIN:VEVENT
DTSTART;TZID=Europe/London:20240714T103000
DTEND;TZID=Europe/London:20240714T120000
DTSTAMP:20260420T041149
CREATED:20240608T161829Z
LAST-MODIFIED:20240608T161829Z
UID:7208-1720953000-1720958400@www.stmaryschurchtickhill.com
SUMMARY:10.45 - Sung Parish Eucharist - St Mary's
DESCRIPTION:
URL:https://www.stmaryschurchtickhill.com/event/10-45-sung-parish-eucharist-st-marys-19
LOCATION:St. Mary’s Church\, Tickhill\, St Mary's Church\, St Mary's Rd\, Tickhill\,\, Doncaster\, DN11 9LZ\, United Kingdom
END:VEVENT
BEGIN:VEVENT
DTSTART;TZID=Europe/London:20240714T080000
DTEND;TZID=Europe/London:20240714T090000
DTSTAMP:20260420T041149
CREATED:20240608T162938Z
LAST-MODIFIED:20240608T162938Z
UID:7238-1720944000-1720947600@www.stmaryschurchtickhill.com
SUMMARY:8.00am - Holy Communion - St Mary's
DESCRIPTION:
URL:https://www.stmaryschurchtickhill.com/event/8-00am-holy-communion-st-marys-14
LOCATION:St. Mary’s Church\, Tickhill\, St Mary's Church\, St Mary's Rd\, Tickhill\,\, Doncaster\, DN11 9LZ\, United Kingdom
END:VEVENT
BEGIN:VEVENT
DTSTART;TZID=Europe/London:20240713T190000
DTEND;TZID=Europe/London:20240713T210000
DTSTAMP:20260420T041149
CREATED:20240628T160052Z
LAST-MODIFIED:20240705T141016Z
UID:7301-1720897200-1720904400@www.stmaryschurchtickhill.com
SUMMARY:7.00pm - An Evening of Gilbert and Sullivan - Parish Room
DESCRIPTION:
URL:https://www.stmaryschurchtickhill.com/event/7-00om-an-evening-of-gilbert-and-sullivan-parish-room
LOCATION:Parish Room\, Tickhill Parish Room\, Northgate\, Tickhill\, Doncaster\, DN11 9HZ\, United Kingdom
END:VEVENT
BEGIN:VEVENT
DTSTART;TZID=Europe/London:20240710T100000
DTEND;TZID=Europe/London:20240710T110000
DTSTAMP:20260420T041149
CREATED:20240608T163527Z
LAST-MODIFIED:20240608T163527Z
UID:7253-1720605600-1720609200@www.stmaryschurchtickhill.com
SUMMARY:10.00am - Holy Communion - St Mary's
DESCRIPTION:
URL:https://www.stmaryschurchtickhill.com/event/10-00am-holy-communion-st-marys-42
LOCATION:St. Mary’s Church\, Tickhill\, St Mary's Church\, St Mary's Rd\, Tickhill\,\, Doncaster\, DN11 9LZ\, United Kingdom
END:VEVENT
BEGIN:VEVENT
DTSTART;TZID=Europe/London:20240707T180000
DTEND;TZID=Europe/London:20240707T190000
DTSTAMP:20260420T041149
CREATED:20240608T162326Z
LAST-MODIFIED:20240608T162326Z
UID:7222-1720375200-1720378800@www.stmaryschurchtickhill.com
SUMMARY:6.00pm - Evening Prayer - St Mary's
DESCRIPTION:
URL:https://www.stmaryschurchtickhill.com/event/6-00pm-evening-prayer-st-marys-42
LOCATION:St. Mary’s Church\, Tickhill\, St Mary's Church\, St Mary's Rd\, Tickhill\,\, Doncaster\, DN11 9LZ\, United Kingdom
END:VEVENT
BEGIN:VEVENT
DTSTART;TZID=Europe/London:20240707T160000
DTEND;TZID=Europe/London:20240707T170000
DTSTAMP:20260420T041149
CREATED:20240608T163054Z
LAST-MODIFIED:20240608T163227Z
UID:7242-1720368000-1720371600@www.stmaryschurchtickhill.com
SUMMARY:4.00pm - Church Done Differently - St Mary's
DESCRIPTION:
URL:https://www.stmaryschurchtickhill.com/event/4-00pm-church-done-differently-4
LOCATION:St. Mary’s Church\, Tickhill\, St Mary's Church\, St Mary's Rd\, Tickhill\,\, Doncaster\, DN11 9LZ\, United Kingdom
END:VEVENT
BEGIN:VEVENT
DTSTART;TZID=Europe/London:20240707T103000
DTEND;TZID=Europe/London:20240707T120000
DTSTAMP:20260420T041149
CREATED:20240608T161752Z
LAST-MODIFIED:20240608T161752Z
UID:7206-1720348200-1720353600@www.stmaryschurchtickhill.com
SUMMARY:10.45 - Sung Parish Eucharist - St Mary's
DESCRIPTION:
URL:https://www.stmaryschurchtickhill.com/event/10-45-sung-parish-eucharist-st-marys-18
LOCATION:St. Mary’s Church\, Tickhill\, St Mary's Church\, St Mary's Rd\, Tickhill\,\, Doncaster\, DN11 9LZ\, United Kingdom
END:VEVENT
BEGIN:VEVENT
DTSTART;TZID=Europe/London:20240707T090000
DTEND;TZID=Europe/London:20240707T100000
DTSTAMP:20260420T041149
CREATED:20240608T163323Z
LAST-MODIFIED:20240608T163323Z
UID:7247-1720342800-1720346400@www.stmaryschurchtickhill.com
SUMMARY:9.15am - Monthly Service - St Winifrid's
DESCRIPTION:
URL:https://www.stmaryschurchtickhill.com/event/9-15am-monthly-service-st-winifrids-3
LOCATION:St Winifrid’s Stainton
END:VEVENT
BEGIN:VEVENT
DTSTART;TZID=Europe/London:20240703T100000
DTEND;TZID=Europe/London:20240703T110000
DTSTAMP:20260420T041149
CREATED:20240608T163449Z
LAST-MODIFIED:20240628T155812Z
UID:7251-1720000800-1720004400@www.stmaryschurchtickhill.com
SUMMARY:10.00am - Morning Prayer - St Mary's
DESCRIPTION:
URL:https://www.stmaryschurchtickhill.com/event/10-00am-holy-communion-st-marys-41
LOCATION:St. Mary’s Church\, Tickhill\, St Mary's Church\, St Mary's Rd\, Tickhill\,\, Doncaster\, DN11 9LZ\, United Kingdom
END:VEVENT
BEGIN:VEVENT
DTSTART;TZID=Europe/London:20240630T180000
DTEND;TZID=Europe/London:20240630T190000
DTSTAMP:20260420T041149
CREATED:20240212T202530Z
LAST-MODIFIED:20240212T202530Z
UID:6838-1719770400-1719774000@www.stmaryschurchtickhill.com
SUMMARY:6.00pm - Evening Prayer - St Mary's
DESCRIPTION:
URL:https://www.stmaryschurchtickhill.com/event/6-00pm-evening-prayer-st-marys-45
LOCATION:St. Mary’s Church\, Tickhill\, St Mary's Church\, St Mary's Rd\, Tickhill\,\, Doncaster\, DN11 9LZ\, United Kingdom
END:VEVENT
BEGIN:VEVENT
DTSTART;TZID=Europe/London:20240630T103000
DTEND;TZID=Europe/London:20240630T120000
DTSTAMP:20260420T041149
CREATED:20240212T201954Z
LAST-MODIFIED:20240212T201954Z
UID:6820-1719743400-1719748800@www.stmaryschurchtickhill.com
SUMMARY:10.45am - Sung Parish Eucharist - St Mary's
DESCRIPTION:
URL:https://www.stmaryschurchtickhill.com/event/10-45am-sung-parish-eucharist-st-marys-12
LOCATION:St. Mary’s Church\, Tickhill\, St Mary's Church\, St Mary's Rd\, Tickhill\,\, Doncaster\, DN11 9LZ\, United Kingdom
END:VEVENT
BEGIN:VEVENT
DTSTART;TZID=Europe/London:20240626T100000
DTEND;TZID=Europe/London:20240626T110000
DTSTAMP:20260420T041149
CREATED:20240212T203122Z
LAST-MODIFIED:20240212T203122Z
UID:6856-1719396000-1719399600@www.stmaryschurchtickhill.com
SUMMARY:10.00am - Holy Communion - St Mary's
DESCRIPTION:
URL:https://www.stmaryschurchtickhill.com/event/10-00am-holy-communion-st-marys-40
LOCATION:St. Mary’s Church\, Tickhill\, St Mary's Church\, St Mary's Rd\, Tickhill\,\, Doncaster\, DN11 9LZ\, United Kingdom
END:VEVENT
BEGIN:VEVENT
DTSTART;TZID=Europe/London:20240624T150000
DTEND;TZID=Europe/London:20240624T160000
DTSTAMP:20260420T041149
CREATED:20240622T101838Z
LAST-MODIFIED:20240622T101838Z
UID:7289-1719241200-1719244800@www.stmaryschurchtickhill.com
SUMMARY:3.00pm - Bible Study on Colossians - St Luke's chapel
DESCRIPTION:
URL:https://www.stmaryschurchtickhill.com/event/3-00pm-bible-study-on-colossians-st-lukes-chapel
LOCATION:St. Mary’s Church\, Tickhill\, St Mary's Church\, St Mary's Rd\, Tickhill\,\, Doncaster\, DN11 9LZ\, United Kingdom
END:VEVENT
BEGIN:VEVENT
DTSTART;TZID=Europe/London:20240623T180000
DTEND;TZID=Europe/London:20240623T190000
DTSTAMP:20260420T041149
CREATED:20240212T202503Z
LAST-MODIFIED:20240616T075441Z
UID:6836-1719165600-1719169200@www.stmaryschurchtickhill.com
SUMMARY:6.00pm - Choir Sunday Evensong - St Mary's
DESCRIPTION:
URL:https://www.stmaryschurchtickhill.com/event/6-00pm-evening-prayer-st-marys-44
LOCATION:St. Mary’s Church\, Tickhill\, St Mary's Church\, St Mary's Rd\, Tickhill\,\, Doncaster\, DN11 9LZ\, United Kingdom
END:VEVENT
BEGIN:VEVENT
DTSTART;TZID=Europe/London:20240623T103000
DTEND;TZID=Europe/London:20240623T120000
DTSTAMP:20260420T041149
CREATED:20240212T201921Z
LAST-MODIFIED:20240608T161224Z
UID:6818-1719138600-1719144000@www.stmaryschurchtickhill.com
SUMMARY:10.45am - Choir Sunday Sung Parish Eucharist - St Mary's
DESCRIPTION:
URL:https://www.stmaryschurchtickhill.com/event/10-45am-sung-parish-eucharist-st-marys-11
LOCATION:St. Mary’s Church\, Tickhill\, St Mary's Church\, St Mary's Rd\, Tickhill\,\, Doncaster\, DN11 9LZ\, United Kingdom
END:VEVENT
BEGIN:VEVENT
DTSTART;TZID=Europe/London:20240619T100000
DTEND;TZID=Europe/London:20240619T110000
DTSTAMP:20260420T041149
CREATED:20240212T203041Z
LAST-MODIFIED:20240212T203052Z
UID:6854-1718791200-1718794800@www.stmaryschurchtickhill.com
SUMMARY:10.00am - Morning Prayer - St Mary's
DESCRIPTION:
URL:https://www.stmaryschurchtickhill.com/event/10-00am-morning-prayer-st-marys-10
LOCATION:St. Mary’s Church\, Tickhill\, St Mary's Church\, St Mary's Rd\, Tickhill\,\, Doncaster\, DN11 9LZ\, United Kingdom
END:VEVENT
BEGIN:VEVENT
DTSTART;TZID=Europe/London:20240616T180000
DTEND;TZID=Europe/London:20240616T190000
DTSTAMP:20260420T041149
CREATED:20240212T202431Z
LAST-MODIFIED:20240212T202431Z
UID:6834-1718560800-1718564400@www.stmaryschurchtickhill.com
SUMMARY:6.00pm - Holy Communion - St Mary's
DESCRIPTION:
URL:https://www.stmaryschurchtickhill.com/event/6-00pm-holy-communion-st-marys-8
LOCATION:St. Mary’s Church\, Tickhill\, St Mary's Church\, St Mary's Rd\, Tickhill\,\, Doncaster\, DN11 9LZ\, United Kingdom
END:VEVENT
BEGIN:VEVENT
DTSTART;TZID=Europe/London:20240616T103000
DTEND;TZID=Europe/London:20240616T120000
DTSTAMP:20260420T041149
CREATED:20240212T201847Z
LAST-MODIFIED:20240608T161152Z
UID:6816-1718533800-1718539200@www.stmaryschurchtickhill.com
SUMMARY:10.45am - Celtic Morning Prayer- St Mary's
DESCRIPTION:
URL:https://www.stmaryschurchtickhill.com/event/10-45am-morning-praise-st-marys-4
LOCATION:St. Mary’s Church\, Tickhill\, St Mary's Church\, St Mary's Rd\, Tickhill\,\, Doncaster\, DN11 9LZ\, United Kingdom
END:VEVENT
BEGIN:VEVENT
DTSTART;TZID=Europe/London:20240615T190000
DTEND;TZID=Europe/London:20240615T210000
DTSTAMP:20260420T041149
CREATED:20240420T100913Z
LAST-MODIFIED:20240420T100913Z
UID:7072-1718478000-1718485200@www.stmaryschurchtickhill.com
SUMMARY:7.00pm - Concert of Light Music - Doncaster Wheatsheaf Singers and Anston Male Voice Choir
DESCRIPTION:For more  details – CLICK HERE
URL:https://www.stmaryschurchtickhill.com/event/7-00pm-concert-of-light-music-doncaster-wheatsheaf-singers-and-anston-male-voice-choir
LOCATION:St. Mary’s Church\, Tickhill\, St Mary's Church\, St Mary's Rd\, Tickhill\,\, Doncaster\, DN11 9LZ\, United Kingdom
END:VEVENT
BEGIN:VEVENT
DTSTART;TZID=Europe/London:20240615T140000
DTEND;TZID=Europe/London:20240615T160000
DTSTAMP:20260420T041149
CREATED:20240420T100557Z
LAST-MODIFIED:20240510T151711Z
UID:7068-1718460000-1718467200@www.stmaryschurchtickhill.com
SUMMARY:14.00 - 16.00 - Summer Fayre - St Mary's
DESCRIPTION:
URL:https://www.stmaryschurchtickhill.com/event/10-00-16-00-summer-fayre-st-marys
LOCATION:St. Mary’s Church\, Tickhill\, St Mary's Church\, St Mary's Rd\, Tickhill\,\, Doncaster\, DN11 9LZ\, United Kingdom
END:VEVENT
BEGIN:VEVENT
DTSTART;TZID=Europe/London:20240612T100000
DTEND;TZID=Europe/London:20240612T110000
DTSTAMP:20260420T041149
CREATED:20240212T203014Z
LAST-MODIFIED:20240212T203014Z
UID:6852-1718186400-1718190000@www.stmaryschurchtickhill.com
SUMMARY:10.00am - Holy Communion - St Mary's
DESCRIPTION:
URL:https://www.stmaryschurchtickhill.com/event/10-00am-holy-communion-st-marys-39
LOCATION:St. Mary’s Church\, Tickhill\, St Mary's Church\, St Mary's Rd\, Tickhill\,\, Doncaster\, DN11 9LZ\, United Kingdom
END:VEVENT
BEGIN:VEVENT
DTSTART;TZID=Europe/London:20240609T180000
DTEND;TZID=Europe/London:20240609T190000
DTSTAMP:20260420T041149
CREATED:20240212T203909Z
LAST-MODIFIED:20240602T084942Z
UID:6870-1717956000-1717959600@www.stmaryschurchtickhill.com
SUMMARY:6.00pm -  Celtic Evening Prayer - St Mary's
DESCRIPTION:
URL:https://www.stmaryschurchtickhill.com/event/6-00pm-evening-prayer-st-marys-47
LOCATION:St. Mary’s Church\, Tickhill\, St Mary's Church\, St Mary's Rd\, Tickhill\,\, Doncaster\, DN11 9LZ\, United Kingdom
END:VEVENT
BEGIN:VEVENT
DTSTART;TZID=Europe/London:20240609T103000
DTEND;TZID=Europe/London:20240609T120000
DTSTAMP:20260420T041149
CREATED:20240212T201808Z
LAST-MODIFIED:20240212T201808Z
UID:6814-1717929000-1717934400@www.stmaryschurchtickhill.com
SUMMARY:10.45am - Sung Parish Eucharist - St Mary's
DESCRIPTION:
URL:https://www.stmaryschurchtickhill.com/event/10-45am-sung-parish-eucharist-st-marys-10
LOCATION:St. Mary’s Church\, Tickhill\, St Mary's Church\, St Mary's Rd\, Tickhill\,\, Doncaster\, DN11 9LZ\, United Kingdom
END:VEVENT
BEGIN:VEVENT
DTSTART;TZID=Europe/London:20240609T080000
DTEND;TZID=Europe/London:20240609T090000
DTSTAMP:20260420T041149
CREATED:20240602T084853Z
LAST-MODIFIED:20240602T084853Z
UID:7188-1717920000-1717923600@www.stmaryschurchtickhill.com
SUMMARY:8.00am - Holy Communion - St Mary's
DESCRIPTION:
URL:https://www.stmaryschurchtickhill.com/event/8-00am-holy-communion-st-marys-13
LOCATION:St. Mary’s Church\, Tickhill\, St Mary's Church\, St Mary's Rd\, Tickhill\,\, Doncaster\, DN11 9LZ\, United Kingdom
END:VEVENT
BEGIN:VEVENT
DTSTART;TZID=Europe/London:20240606T190000
DTEND;TZID=Europe/London:20240606T213000
DTSTAMP:20260420T041149
CREATED:20240426T192807Z
LAST-MODIFIED:20240426T193010Z
UID:7093-1717700400-1717709400@www.stmaryschurchtickhill.com
SUMMARY:7.00pm for 8.00pm - D-Day 80th Anniversary Concert - Tickhill Community Choir
DESCRIPTION:Light refreshment served from 7.00pm.  A peal of bells.   Concert starts at 8.00pm and ends in time to gather round the Buttercross for the Lighting of the Beacon.
URL:https://www.stmaryschurchtickhill.com/event/7-00pm-for-8-00pm-d-day-80th-anniversary-concert-tickhill-community-choir
LOCATION:St. Mary’s Church\, Tickhill\, St Mary's Church\, St Mary's Rd\, Tickhill\,\, Doncaster\, DN11 9LZ\, United Kingdom
END:VEVENT
BEGIN:VEVENT
DTSTART;TZID=Europe/London:20240605T100000
DTEND;TZID=Europe/London:20240605T110000
DTSTAMP:20260420T041149
CREATED:20240212T202932Z
LAST-MODIFIED:20240212T202932Z
UID:6850-1717581600-1717585200@www.stmaryschurchtickhill.com
SUMMARY:10.00am - Morning Prayer - St Mary's
DESCRIPTION:
URL:https://www.stmaryschurchtickhill.com/event/10-00am-morning-prayer-st-marys-9
LOCATION:St. Mary’s Church\, Tickhill\, St Mary's Church\, St Mary's Rd\, Tickhill\,\, Doncaster\, DN11 9LZ\, United Kingdom
END:VEVENT
BEGIN:VEVENT
DTSTART;TZID=Europe/London:20240602T180000
DTEND;TZID=Europe/London:20240602T190000
DTSTAMP:20260420T041149
CREATED:20240212T203838Z
LAST-MODIFIED:20240212T203838Z
UID:6868-1717351200-1717354800@www.stmaryschurchtickhill.com
SUMMARY:6.00pm - Evening Prayer - St Mary's
DESCRIPTION:
URL:https://www.stmaryschurchtickhill.com/event/6-00pm-evening-prayer-st-marys-46
LOCATION:St. Mary’s Church\, Tickhill\, St Mary's Church\, St Mary's Rd\, Tickhill\,\, Doncaster\, DN11 9LZ\, United Kingdom
END:VEVENT
BEGIN:VEVENT
DTSTART;TZID=Europe/London:20240602T160000
DTEND;TZID=Europe/London:20240602T170000
DTSTAMP:20260420T041149
CREATED:20240212T203307Z
LAST-MODIFIED:20240212T203720Z
UID:6860-1717344000-1717347600@www.stmaryschurchtickhill.com
SUMMARY:4.00 pm - 'Church Done Differently' - St Mary's
DESCRIPTION:
URL:https://www.stmaryschurchtickhill.com/event/4-00-pm-church-done-differently-2
LOCATION:St. Mary’s Church\, Tickhill\, St Mary's Church\, St Mary's Rd\, Tickhill\,\, Doncaster\, DN11 9LZ\, United Kingdom
END:VEVENT
BEGIN:VEVENT
DTSTART;TZID=Europe/London:20240602T103000
DTEND;TZID=Europe/London:20240602T120000
DTSTAMP:20260420T041149
CREATED:20240212T201731Z
LAST-MODIFIED:20240212T201731Z
UID:6812-1717324200-1717329600@www.stmaryschurchtickhill.com
SUMMARY:10.45am - Sung Parish Eucharist - St Mary's
DESCRIPTION:
URL:https://www.stmaryschurchtickhill.com/event/10-45am-sung-parish-eucharist-st-marys-9
LOCATION:St. Mary’s Church\, Tickhill\, St Mary's Church\, St Mary's Rd\, Tickhill\,\, Doncaster\, DN11 9LZ\, United Kingdom
END:VEVENT
BEGIN:VEVENT
DTSTART;TZID=Europe/London:20240602T090000
DTEND;TZID=Europe/London:20240602T100000
DTSTAMP:20260420T041149
CREATED:20240212T203441Z
LAST-MODIFIED:20240212T203441Z
UID:6864-1717318800-1717322400@www.stmaryschurchtickhill.com
SUMMARY:9.15 am - Monthly Morning Service - St Winifrid's
DESCRIPTION:
URL:https://www.stmaryschurchtickhill.com/event/9-15-am-monthly-morning-service-st-winifrids-2
LOCATION:St Winifrid’s Stainton
END:VEVENT
END:VCALENDAR