BEGIN:VCALENDAR
VERSION:2.0
PRODID:-//St Mary&#039;s Church Tickhill - ECPv6.15.20//NONSGML v1.0//EN
CALSCALE:GREGORIAN
METHOD:PUBLISH
X-WR-CALNAME:St Mary&#039;s Church Tickhill
X-ORIGINAL-URL:https://www.stmaryschurchtickhill.com
X-WR-CALDESC:Events for St Mary&#039;s Church Tickhill
REFRESH-INTERVAL;VALUE=DURATION:PT1H
X-Robots-Tag:noindex
X-PUBLISHED-TTL:PT1H
BEGIN:VTIMEZONE
TZID:Europe/London
BEGIN:DAYLIGHT
TZOFFSETFROM:+0000
TZOFFSETTO:+0100
TZNAME:BST
DTSTART:20220327T010000
END:DAYLIGHT
BEGIN:STANDARD
TZOFFSETFROM:+0100
TZOFFSETTO:+0000
TZNAME:GMT
DTSTART:20221030T010000
END:STANDARD
BEGIN:DAYLIGHT
TZOFFSETFROM:+0000
TZOFFSETTO:+0100
TZNAME:BST
DTSTART:20230326T010000
END:DAYLIGHT
BEGIN:STANDARD
TZOFFSETFROM:+0100
TZOFFSETTO:+0000
TZNAME:GMT
DTSTART:20231029T010000
END:STANDARD
BEGIN:DAYLIGHT
TZOFFSETFROM:+0000
TZOFFSETTO:+0100
TZNAME:BST
DTSTART:20240331T010000
END:DAYLIGHT
BEGIN:STANDARD
TZOFFSETFROM:+0100
TZOFFSETTO:+0000
TZNAME:GMT
DTSTART:20241027T010000
END:STANDARD
END:VTIMEZONE
BEGIN:VEVENT
DTSTART;TZID=Europe/London:20230525T163000
DTEND;TZID=Europe/London:20230525T173000
DTSTAMP:20260423T112955
CREATED:20230521T084955Z
LAST-MODIFIED:20230521T084955Z
UID:5736-1685032200-1685035800@www.stmaryschurchtickhill.com
SUMMARY:4.30pm - Prayer Stations - Methodist Church
DESCRIPTION:
URL:https://www.stmaryschurchtickhill.com/event/4-30pm-prayer-stations-methodist-church
LOCATION:Tickhill Methodist Church\, 8 Buttercross Ct\, Tickhill\,\, Doncaster\, DN11 9JX
END:VEVENT
BEGIN:VEVENT
DTSTART;TZID=Europe/London:20230524T100000
DTEND;TZID=Europe/London:20230524T110000
DTSTAMP:20260423T112955
CREATED:20230401T155229Z
LAST-MODIFIED:20230521T084854Z
UID:5544-1684922400-1684926000@www.stmaryschurchtickhill.com
SUMMARY:10.00am - Morning Prayer
DESCRIPTION:
URL:https://www.stmaryschurchtickhill.com/event/10-00am-holy-communion-6
LOCATION:St. Mary’s Church\, Tickhill\, St Mary's Church\, St Mary's Rd\, Tickhill\,\, Doncaster\, DN11 9LZ\, United Kingdom
END:VEVENT
BEGIN:VEVENT
DTSTART;TZID=Europe/London:20230523T190000
DTEND;TZID=Europe/London:20230523T193000
DTSTAMP:20260423T112955
CREATED:20230521T084752Z
LAST-MODIFIED:20230521T084752Z
UID:5733-1684868400-1684870200@www.stmaryschurchtickhill.com
SUMMARY:7.00pm - Vespers
DESCRIPTION:
URL:https://www.stmaryschurchtickhill.com/event/7-00pm-vespers
LOCATION:St. Mary’s Church\, Tickhill\, St Mary's Church\, St Mary's Rd\, Tickhill\,\, Doncaster\, DN11 9LZ\, United Kingdom
END:VEVENT
BEGIN:VEVENT
DTSTART;TZID=Europe/London:20230522T140000
DTEND;TZID=Europe/London:20230522T153000
DTSTAMP:20260423T112955
CREATED:20230415T110905Z
LAST-MODIFIED:20230415T111026Z
UID:5610-1684764000-1684769400@www.stmaryschurchtickhill.com
SUMMARY:2.00pm - Let's find out more about the Old Testament - Parish Room
DESCRIPTION:
URL:https://www.stmaryschurchtickhill.com/event/2-00pm-lets-find-out-more-about-the-old-testament-parish-room-2
LOCATION:Parish Room\, Tickhill Parish Room\, Northgate\, Tickhill\, Doncaster\, DN11 9HZ\, United Kingdom
END:VEVENT
BEGIN:VEVENT
DTSTART;TZID=Europe/London:20230522T090000
DTEND;TZID=Europe/London:20230522T100000
DTSTAMP:20260423T112955
CREATED:20230521T084626Z
LAST-MODIFIED:20230521T084626Z
UID:5731-1684746000-1684749600@www.stmaryschurchtickhill.com
SUMMARY:9.00am - Morning Prayer
DESCRIPTION:
URL:https://www.stmaryschurchtickhill.com/event/9-00am-morning-prayer
LOCATION:St. Mary’s Church\, Tickhill\, St Mary's Church\, St Mary's Rd\, Tickhill\,\, Doncaster\, DN11 9LZ\, United Kingdom
END:VEVENT
BEGIN:VEVENT
DTSTART;TZID=Europe/London:20230521T180000
DTEND;TZID=Europe/London:20230521T190000
DTSTAMP:20260423T112955
CREATED:20230401T154307Z
LAST-MODIFIED:20230401T154307Z
UID:5530-1684692000-1684695600@www.stmaryschurchtickhill.com
SUMMARY:6.00pm - Holy Communion
DESCRIPTION:
URL:https://www.stmaryschurchtickhill.com/event/6-00pm-holy-communion
LOCATION:St. Mary’s Church\, Tickhill\, St Mary's Church\, St Mary's Rd\, Tickhill\,\, Doncaster\, DN11 9LZ\, United Kingdom
END:VEVENT
BEGIN:VEVENT
DTSTART;TZID=Europe/London:20230521T120000
DTEND;TZID=Europe/London:20230521T130000
DTSTAMP:20260423T112955
CREATED:20230508T134310Z
LAST-MODIFIED:20230508T134944Z
UID:5683-1684670400-1684674000@www.stmaryschurchtickhill.com
SUMMARY:12.00 - Annual Vestry Meeting and Annual Parochial Church Meeting
DESCRIPTION:For more information – please click here
URL:https://www.stmaryschurchtickhill.com/event/12-00-annual-vestry-meeting-and-annual-parochial-church-meeting
LOCATION:St. Mary’s Church\, Tickhill\, St Mary's Church\, St Mary's Rd\, Tickhill\,\, Doncaster\, DN11 9LZ\, United Kingdom
END:VEVENT
BEGIN:VEVENT
DTSTART;TZID=Europe/London:20230521T103000
DTEND;TZID=Europe/London:20230521T120000
DTSTAMP:20260423T112955
CREATED:20230401T153811Z
LAST-MODIFIED:20230521T090418Z
UID:5521-1684665000-1684670400@www.stmaryschurchtickhill.com
SUMMARY:10.45am - Sung Parish Eucharist - St Mary's
DESCRIPTION:
URL:https://www.stmaryschurchtickhill.com/event/10-45am-holy-communion-st-marys-5
LOCATION:St. Mary’s Church\, Tickhill\, St Mary's Church\, St Mary's Rd\, Tickhill\,\, Doncaster\, DN11 9LZ\, United Kingdom
END:VEVENT
BEGIN:VEVENT
DTSTART;TZID=Europe/London:20230520T103000
DTEND;TZID=Europe/London:20230520T113000
DTSTAMP:20260423T112955
CREATED:20230514T084219Z
LAST-MODIFIED:20230514T084219Z
UID:5723-1684578600-1684582200@www.stmaryschurchtickhill.com
SUMMARY:10.30am - Singing for Christian Aid - at the Buttercross
DESCRIPTION:
URL:https://www.stmaryschurchtickhill.com/event/10-30am-singing-for-christian-aid-at-the-buttercross
LOCATION:Buttercross\, Tickhill\, DN11 9QW\, United Kingdom
END:VEVENT
BEGIN:VEVENT
DTSTART;TZID=Europe/London:20230518T100000
DTEND;TZID=Europe/London:20230518T110000
DTSTAMP:20260423T112955
CREATED:20230514T084055Z
LAST-MODIFIED:20230514T084055Z
UID:5721-1684404000-1684407600@www.stmaryschurchtickhill.com
SUMMARY:10.00am - Holy Communion
DESCRIPTION:
URL:https://www.stmaryschurchtickhill.com/event/10-00am-holy-communion-8
LOCATION:St. Mary’s Church\, Tickhill\, St Mary's Church\, St Mary's Rd\, Tickhill\,\, Doncaster\, DN11 9LZ\, United Kingdom
END:VEVENT
BEGIN:VEVENT
DTSTART;TZID=Europe/London:20230517T100000
DTEND;TZID=Europe/London:20230517T110000
DTSTAMP:20260423T112955
CREATED:20230401T155151Z
LAST-MODIFIED:20230514T083959Z
UID:5542-1684317600-1684321200@www.stmaryschurchtickhill.com
SUMMARY:10.00am - Morning Prayer
DESCRIPTION:
URL:https://www.stmaryschurchtickhill.com/event/10-00am-holy-communion-5
LOCATION:St. Mary’s Church\, Tickhill\, St Mary's Church\, St Mary's Rd\, Tickhill\,\, Doncaster\, DN11 9LZ\, United Kingdom
END:VEVENT
BEGIN:VEVENT
DTSTART;TZID=Europe/London:20230515T140000
DTEND;TZID=Europe/London:20230515T153000
DTSTAMP:20260423T112955
CREATED:20230415T110831Z
LAST-MODIFIED:20230415T110831Z
UID:5608-1684159200-1684164600@www.stmaryschurchtickhill.com
SUMMARY:2.00pm - Let's find out more about the Old Testament - Parish Room
DESCRIPTION:
URL:https://www.stmaryschurchtickhill.com/event/2-00pm-lets-find-out-more-about-the-old-testament-parish-room
LOCATION:Parish Room\, Tickhill Parish Room\, Northgate\, Tickhill\, Doncaster\, DN11 9HZ\, United Kingdom
END:VEVENT
BEGIN:VEVENT
DTSTART;TZID=Europe/London:20230514T180000
DTEND;TZID=Europe/London:20230514T190000
DTSTAMP:20260423T112955
CREATED:20230401T154220Z
LAST-MODIFIED:20230508T135456Z
UID:5528-1684087200-1684090800@www.stmaryschurchtickhill.com
SUMMARY:6.00pm - Rogation-tide visit to local farms - starting from the Methodist Church
DESCRIPTION:
URL:https://www.stmaryschurchtickhill.com/event/6-00pm-evening-prayer-9
LOCATION:St. Mary’s Church\, Tickhill\, St Mary's Church\, St Mary's Rd\, Tickhill\,\, Doncaster\, DN11 9LZ\, United Kingdom
END:VEVENT
BEGIN:VEVENT
DTSTART;TZID=Europe/London:20230514T103000
DTEND;TZID=Europe/London:20230514T120000
DTSTAMP:20260423T112955
CREATED:20230401T153633Z
LAST-MODIFIED:20230401T153633Z
UID:5517-1684060200-1684065600@www.stmaryschurchtickhill.com
SUMMARY:10.45am - Holy Communion - St Mary's
DESCRIPTION:
URL:https://www.stmaryschurchtickhill.com/event/10-45am-holy-communion-st-marys-3
LOCATION:St. Mary’s Church\, Tickhill\, St Mary's Church\, St Mary's Rd\, Tickhill\,\, Doncaster\, DN11 9LZ\, United Kingdom
END:VEVENT
BEGIN:VEVENT
DTSTART;TZID=Europe/London:20230514T080000
DTEND;TZID=Europe/London:20230514T090000
DTSTAMP:20260423T112955
CREATED:20230508T135555Z
LAST-MODIFIED:20230508T135555Z
UID:5688-1684051200-1684054800@www.stmaryschurchtickhill.com
SUMMARY:8.00 am - Holy Communion - St Mary's
DESCRIPTION:
URL:https://www.stmaryschurchtickhill.com/event/8-00-am-holy-communion-st-marys
LOCATION:St. Mary’s Church\, Tickhill\, St Mary's Church\, St Mary's Rd\, Tickhill\,\, Doncaster\, DN11 9LZ\, United Kingdom
END:VEVENT
BEGIN:VEVENT
DTSTART;TZID=Europe/London:20230510T100000
DTEND;TZID=Europe/London:20230510T110000
DTSTAMP:20260423T112955
CREATED:20230401T155024Z
LAST-MODIFIED:20230508T135244Z
UID:5540-1683712800-1683716400@www.stmaryschurchtickhill.com
SUMMARY:10.00am - Morning Prayer
DESCRIPTION:
URL:https://www.stmaryschurchtickhill.com/event/10-00am-holy-communion-4
LOCATION:St. Mary’s Church\, Tickhill\, St Mary's Church\, St Mary's Rd\, Tickhill\,\, Doncaster\, DN11 9LZ\, United Kingdom
END:VEVENT
BEGIN:VEVENT
DTSTART;TZID=Europe/London:20230508T180000
DTEND;TZID=Europe/London:20230508T190000
DTSTAMP:20260423T112955
CREATED:20230508T133056Z
LAST-MODIFIED:20230508T133056Z
UID:5665-1683568800-1683572400@www.stmaryschurchtickhill.com
SUMMARY:6.00 pm - Holy Communion - St Mary's
DESCRIPTION:
URL:https://www.stmaryschurchtickhill.com/event/6-00-pm-holy-communion-st-marys
LOCATION:St. Mary’s Church\, Tickhill\, St Mary's Church\, St Mary's Rd\, Tickhill\,\, Doncaster\, DN11 9LZ\, United Kingdom
END:VEVENT
BEGIN:VEVENT
DTSTART;TZID=Europe/London:20230507T180000
DTEND;TZID=Europe/London:20230507T190000
DTSTAMP:20260423T112955
CREATED:20230401T154138Z
LAST-MODIFIED:20230401T154838Z
UID:5526-1683482400-1683486000@www.stmaryschurchtickhill.com
SUMMARY:6.00pm - Evening Prayer - St Mary's
DESCRIPTION:
URL:https://www.stmaryschurchtickhill.com/event/6-00pm-evening-prayer-8
LOCATION:St. Mary’s Church\, Tickhill\, St Mary's Church\, St Mary's Rd\, Tickhill\,\, Doncaster\, DN11 9LZ\, United Kingdom
END:VEVENT
BEGIN:VEVENT
DTSTART;TZID=Europe/London:20230507T160000
DTEND;TZID=Europe/London:20230507T170000
DTSTAMP:20260423T112955
CREATED:20230401T154635Z
LAST-MODIFIED:20230401T154807Z
UID:5534-1683475200-1683478800@www.stmaryschurchtickhill.com
SUMMARY:4.00pm - 'Church Done Differently' - St Mary's
DESCRIPTION:
URL:https://www.stmaryschurchtickhill.com/event/4-00pm-church-done-differently
END:VEVENT
BEGIN:VEVENT
DTSTART;TZID=Europe/London:20230507T103000
DTEND;TZID=Europe/London:20230507T120000
DTSTAMP:20260423T112955
CREATED:20230401T153526Z
LAST-MODIFIED:20230401T153526Z
UID:5515-1683455400-1683460800@www.stmaryschurchtickhill.com
SUMMARY:10.45am - Holy Communion - St Mary's
DESCRIPTION:
URL:https://www.stmaryschurchtickhill.com/event/10-45am-holy-communion-st-marys-2
LOCATION:St. Mary’s Church\, Tickhill\, St Mary's Church\, St Mary's Rd\, Tickhill\,\, Doncaster\, DN11 9LZ\, United Kingdom
END:VEVENT
BEGIN:VEVENT
DTSTART;TZID=Europe/London:20230507T090000
DTEND;TZID=Europe/London:20230507T100000
DTSTAMP:20260423T112955
CREATED:20230203T161122Z
LAST-MODIFIED:20230311T121759Z
UID:5229-1683450000-1683453600@www.stmaryschurchtickhill.com
SUMMARY:9.15am - Holy Communion - St Winifrid's Stainton
DESCRIPTION:
URL:https://www.stmaryschurchtickhill.com/event/9-15am-holy-communion-st-winifreds-stainton-5
END:VEVENT
BEGIN:VEVENT
DTSTART;TZID=Europe/London:20230506T183000
DTEND;TZID=Europe/London:20230506T193000
DTSTAMP:20260423T112955
CREATED:20230406T151308Z
LAST-MODIFIED:20230406T153523Z
UID:5557-1683397800-1683401400@www.stmaryschurchtickhill.com
SUMMARY:6.30pm - Coronation Concert 'Sing for the King' - St Mary Church Tickhill
DESCRIPTION:For more information – PLEASE CLICK HERE
URL:https://www.stmaryschurchtickhill.com/event/6-30pm-coronation-concert-sing-for-the-king-st-mary-church-tickhill
LOCATION:St. Mary’s Church\, Tickhill\, St Mary's Church\, St Mary's Rd\, Tickhill\,\, Doncaster\, DN11 9LZ\, United Kingdom
END:VEVENT
BEGIN:VEVENT
DTSTART;TZID=Europe/London:20230503T100000
DTEND;TZID=Europe/London:20230503T110000
DTSTAMP:20260423T112955
CREATED:20230401T154947Z
LAST-MODIFIED:20230401T154947Z
UID:5538-1683108000-1683111600@www.stmaryschurchtickhill.com
SUMMARY:10.00am - Holy Communion
DESCRIPTION:
URL:https://www.stmaryschurchtickhill.com/event/10-00am-holy-communion-3
LOCATION:St. Mary’s Church\, Tickhill\, St Mary's Church\, St Mary's Rd\, Tickhill\,\, Doncaster\, DN11 9LZ\, United Kingdom
END:VEVENT
BEGIN:VEVENT
DTSTART;TZID=Europe/London:20230430T180000
DTEND;TZID=Europe/London:20230430T190000
DTSTAMP:20260423T112955
CREATED:20230415T111448Z
LAST-MODIFIED:20230415T123432Z
UID:5619-1682877600-1682881200@www.stmaryschurchtickhill.com
SUMMARY:6.00pm - Service of Celebration - St Winifrid's Stainton
DESCRIPTION:
URL:https://www.stmaryschurchtickhill.com/event/6-00pm-service-of-celebration-st-winifrids-stainton
LOCATION:St Winifrid’s Stainton
END:VEVENT
BEGIN:VEVENT
DTSTART;TZID=Europe/London:20230430T153000
DTEND;TZID=Europe/London:20230430T190000
DTSTAMP:20260423T112955
CREATED:20230401T152703Z
LAST-MODIFIED:20230401T152703Z
UID:5511-1682868600-1682881200@www.stmaryschurchtickhill.com
SUMMARY:3.30pm - Pilgrimage to Stainton
DESCRIPTION:
URL:https://www.stmaryschurchtickhill.com/event/3-30pm-pilgrimage-to-stainton
END:VEVENT
BEGIN:VEVENT
DTSTART;TZID=Europe/London:20230430T103000
DTEND;TZID=Europe/London:20230430T120000
DTSTAMP:20260423T112955
CREATED:20230320T163116Z
LAST-MODIFIED:20230320T163116Z
UID:5454-1682850600-1682856000@www.stmaryschurchtickhill.com
SUMMARY:10.45 - Holy Communion - St Mary's Tickhill
DESCRIPTION:
URL:https://www.stmaryschurchtickhill.com/event/10-45-holy-communion-st-marys-tickhill-5
LOCATION:St. Mary’s Church\, Tickhill\, St Mary's Church\, St Mary's Rd\, Tickhill\,\, Doncaster\, DN11 9LZ\, United Kingdom
END:VEVENT
BEGIN:VEVENT
DTSTART;TZID=Europe/London:20230426T100000
DTEND;TZID=Europe/London:20230426T110000
DTSTAMP:20260423T112955
CREATED:20230320T165203Z
LAST-MODIFIED:20230320T165218Z
UID:5480-1682503200-1682506800@www.stmaryschurchtickhill.com
SUMMARY:10.00am - Holy Communion - St Mary's
DESCRIPTION:
URL:https://www.stmaryschurchtickhill.com/event/10-00am-holy-communion-st-marys-3
LOCATION:St. Mary’s Church\, Tickhill\, St Mary's Church\, St Mary's Rd\, Tickhill\,\, Doncaster\, DN11 9LZ\, United Kingdom
END:VEVENT
BEGIN:VEVENT
DTSTART;TZID=Europe/London:20230423T180000
DTEND;TZID=Europe/London:20230423T190000
DTSTAMP:20260423T112955
CREATED:20230320T163858Z
LAST-MODIFIED:20230320T163858Z
UID:5464-1682272800-1682276400@www.stmaryschurchtickhill.com
SUMMARY:6.00pm - Easter Carol Service - St Mary's
DESCRIPTION:
URL:https://www.stmaryschurchtickhill.com/event/6-00pm-easter-carol-service-st-marys
LOCATION:St. Mary’s Church\, Tickhill\, St Mary's Church\, St Mary's Rd\, Tickhill\,\, Doncaster\, DN11 9LZ\, United Kingdom
END:VEVENT
BEGIN:VEVENT
DTSTART;TZID=Europe/London:20230423T103000
DTEND;TZID=Europe/London:20230423T120000
DTSTAMP:20260423T112955
CREATED:20230320T163019Z
LAST-MODIFIED:20230320T163019Z
UID:5452-1682245800-1682251200@www.stmaryschurchtickhill.com
SUMMARY:10.45 - Holy Communion - St Mary's Tickhill
DESCRIPTION:
URL:https://www.stmaryschurchtickhill.com/event/10-45-holy-communion-st-marys-tickhill-4
LOCATION:St. Mary’s Church\, Tickhill\, St Mary's Church\, St Mary's Rd\, Tickhill\,\, Doncaster\, DN11 9LZ\, United Kingdom
END:VEVENT
BEGIN:VEVENT
DTSTART;TZID=Europe/London:20230423T100000
DTEND;TZID=Europe/London:20230423T160000
DTSTAMP:20260423T112955
CREATED:20230406T155811Z
LAST-MODIFIED:20230409T145221Z
UID:5576-1682244000-1682265600@www.stmaryschurchtickhill.com
SUMMARY:10.00am - Open Day
DESCRIPTION:As part of the Warm and Welcoming initiative\, you are warmly invited to  St Mary’s church between 9.00am and 4.00pm to have your say about changes to the use and shape of the church building. \nFor more information – CLICK HERE
URL:https://www.stmaryschurchtickhill.com/event/9-00am-open-day-3
LOCATION:St. Mary’s Church\, Tickhill\, St Mary's Church\, St Mary's Rd\, Tickhill\,\, Doncaster\, DN11 9LZ\, United Kingdom
END:VEVENT
END:VCALENDAR