BEGIN:VCALENDAR
VERSION:2.0
PRODID:-//St Mary&#039;s Church Tickhill - ECPv6.15.20//NONSGML v1.0//EN
CALSCALE:GREGORIAN
METHOD:PUBLISH
X-WR-CALNAME:St Mary&#039;s Church Tickhill
X-ORIGINAL-URL:https://www.stmaryschurchtickhill.com
X-WR-CALDESC:Events for St Mary&#039;s Church Tickhill
REFRESH-INTERVAL;VALUE=DURATION:PT1H
X-Robots-Tag:noindex
X-PUBLISHED-TTL:PT1H
BEGIN:VTIMEZONE
TZID:Europe/London
BEGIN:DAYLIGHT
TZOFFSETFROM:+0000
TZOFFSETTO:+0100
TZNAME:BST
DTSTART:20220327T010000
END:DAYLIGHT
BEGIN:STANDARD
TZOFFSETFROM:+0100
TZOFFSETTO:+0000
TZNAME:GMT
DTSTART:20221030T010000
END:STANDARD
BEGIN:DAYLIGHT
TZOFFSETFROM:+0000
TZOFFSETTO:+0100
TZNAME:BST
DTSTART:20230326T010000
END:DAYLIGHT
BEGIN:STANDARD
TZOFFSETFROM:+0100
TZOFFSETTO:+0000
TZNAME:GMT
DTSTART:20231029T010000
END:STANDARD
BEGIN:DAYLIGHT
TZOFFSETFROM:+0000
TZOFFSETTO:+0100
TZNAME:BST
DTSTART:20240331T010000
END:DAYLIGHT
BEGIN:STANDARD
TZOFFSETFROM:+0100
TZOFFSETTO:+0000
TZNAME:GMT
DTSTART:20241027T010000
END:STANDARD
BEGIN:DAYLIGHT
TZOFFSETFROM:+0000
TZOFFSETTO:+0100
TZNAME:BST
DTSTART:20250330T010000
END:DAYLIGHT
BEGIN:STANDARD
TZOFFSETFROM:+0100
TZOFFSETTO:+0000
TZNAME:GMT
DTSTART:20251026T010000
END:STANDARD
END:VTIMEZONE
BEGIN:VEVENT
DTSTART;TZID=Europe/London:20240218T180000
DTEND;TZID=Europe/London:20240218T190000
DTSTAMP:20260420T051724
CREATED:20231111T173136Z
LAST-MODIFIED:20240210T093058Z
UID:6454-1708279200-1708282800@www.stmaryschurchtickhill.com
SUMMARY:6.00pm - Said Holy Communion - St Mary's
DESCRIPTION:
URL:https://www.stmaryschurchtickhill.com/event/6-00pm-evening-prayer-st-marys-30
LOCATION:St. Mary’s Church\, Tickhill\, St Mary's Church\, St Mary's Rd\, Tickhill\,\, Doncaster\, DN11 9LZ\, United Kingdom
END:VEVENT
BEGIN:VEVENT
DTSTART;TZID=Europe/London:20240218T103000
DTEND;TZID=Europe/London:20240218T120000
DTSTAMP:20260420T051724
CREATED:20231111T172439Z
LAST-MODIFIED:20240210T093004Z
UID:6434-1708252200-1708257600@www.stmaryschurchtickhill.com
SUMMARY:10.45am - Celtic Morning Prayer - St Mary's
DESCRIPTION:
URL:https://www.stmaryschurchtickhill.com/event/10-45am-morning-praise-st-marys-2
LOCATION:St. Mary’s Church\, Tickhill\, St Mary's Church\, St Mary's Rd\, Tickhill\,\, Doncaster\, DN11 9LZ\, United Kingdom
END:VEVENT
BEGIN:VEVENT
DTSTART;TZID=Europe/London:20240214T100000
DTEND;TZID=Europe/London:20240214T110000
DTSTAMP:20260420T051724
CREATED:20231111T173829Z
LAST-MODIFIED:20240210T092908Z
UID:6478-1707904800-1707908400@www.stmaryschurchtickhill.com
SUMMARY:10.00am - Morning Prayer - St Mary's
DESCRIPTION:
URL:https://www.stmaryschurchtickhill.com/event/10-00am-holy-communion-st-marys-31
LOCATION:St. Mary’s Church\, Tickhill\, St Mary's Church\, St Mary's Rd\, Tickhill\,\, Doncaster\, DN11 9LZ\, United Kingdom
END:VEVENT
BEGIN:VEVENT
DTSTART;TZID=Europe/London:20240211T180000
DTEND;TZID=Europe/London:20240211T190000
DTSTAMP:20260420T051724
CREATED:20231111T173103Z
LAST-MODIFIED:20240210T092803Z
UID:6452-1707674400-1707678000@www.stmaryschurchtickhill.com
SUMMARY:6.00pm  - Celtic Evening Prayer -St Mary's
DESCRIPTION:
URL:https://www.stmaryschurchtickhill.com/event/6-00pm-evening-prayer-st-marys-29
LOCATION:St. Mary’s Church\, Tickhill\, St Mary's Church\, St Mary's Rd\, Tickhill\,\, Doncaster\, DN11 9LZ\, United Kingdom
END:VEVENT
BEGIN:VEVENT
DTSTART;TZID=Europe/London:20240211T123000
DTEND;TZID=Europe/London:20240211T140000
DTSTAMP:20260420T051724
CREATED:20240127T160539Z
LAST-MODIFIED:20240127T160539Z
UID:6757-1707654600-1707660000@www.stmaryschurchtickhill.com
SUMMARY:12.30 - Fellowship Lunch - Parish Room
DESCRIPTION:
URL:https://www.stmaryschurchtickhill.com/event/12-30-fellowship-lunch-parish-room
LOCATION:Parish Room\, Tickhill Parish Room\, Northgate\, Tickhill\, Doncaster\, DN11 9HZ\, United Kingdom
END:VEVENT
BEGIN:VEVENT
DTSTART;TZID=Europe/London:20240211T103000
DTEND;TZID=Europe/London:20240211T120000
DTSTAMP:20260420T051724
CREATED:20231111T172355Z
LAST-MODIFIED:20231111T172355Z
UID:6432-1707647400-1707652800@www.stmaryschurchtickhill.com
SUMMARY:10.45am - Sung Parish Eucharist - St Mary's
DESCRIPTION:
URL:https://www.stmaryschurchtickhill.com/event/10-45am-sung-parish-eucharist-st-marys-5
LOCATION:St. Mary’s Church\, Tickhill\, St Mary's Church\, St Mary's Rd\, Tickhill\,\, Doncaster\, DN11 9LZ\, United Kingdom
END:VEVENT
BEGIN:VEVENT
DTSTART;TZID=Europe/London:20240211T080000
DTEND;TZID=Europe/London:20240211T090000
DTSTAMP:20260420T051724
CREATED:20231111T172709Z
LAST-MODIFIED:20231111T172709Z
UID:6440-1707638400-1707642000@www.stmaryschurchtickhill.com
SUMMARY:8.00am - Holy Communion - St Mary's
DESCRIPTION:
URL:https://www.stmaryschurchtickhill.com/event/8-00am-holy-communion-st-marys-9
LOCATION:St. Mary’s Church\, Tickhill\, St Mary's Church\, St Mary's Rd\, Tickhill\,\, Doncaster\, DN11 9LZ\, United Kingdom
END:VEVENT
BEGIN:VEVENT
DTSTART;TZID=Europe/London:20240207T100000
DTEND;TZID=Europe/London:20240207T110000
DTSTAMP:20260420T051724
CREATED:20231111T173804Z
LAST-MODIFIED:20240203T114500Z
UID:6476-1707300000-1707303600@www.stmaryschurchtickhill.com
SUMMARY:10.00am - Morning Prayer - St Mary's
DESCRIPTION:
URL:https://www.stmaryschurchtickhill.com/event/10-00am-holy-communion-st-marys-30
LOCATION:St. Mary’s Church\, Tickhill\, St Mary's Church\, St Mary's Rd\, Tickhill\,\, Doncaster\, DN11 9LZ\, United Kingdom
END:VEVENT
BEGIN:VEVENT
DTSTART;TZID=Europe/London:20240204T180000
DTEND;TZID=Europe/London:20240204T190000
DTSTAMP:20260420T051724
CREATED:20231111T173032Z
LAST-MODIFIED:20231111T173032Z
UID:6450-1707069600-1707073200@www.stmaryschurchtickhill.com
SUMMARY:6.00pm - Evening Prayer -St Mary's
DESCRIPTION:
URL:https://www.stmaryschurchtickhill.com/event/6-00pm-evening-prayer-st-marys-28
LOCATION:St. Mary’s Church\, Tickhill\, St Mary's Church\, St Mary's Rd\, Tickhill\,\, Doncaster\, DN11 9LZ\, United Kingdom
END:VEVENT
BEGIN:VEVENT
DTSTART;TZID=Europe/London:20240204T160000
DTEND;TZID=Europe/London:20240204T170000
DTSTAMP:20260420T051724
CREATED:20231111T173332Z
LAST-MODIFIED:20231111T173332Z
UID:6460-1707062400-1707066000@www.stmaryschurchtickhill.com
SUMMARY:4.00pm - 'Church Done Differently' - St Mary's
DESCRIPTION:
URL:https://www.stmaryschurchtickhill.com/event/4-00pm-church-done-differently-st-marys-4
LOCATION:St. Mary’s Church\, Tickhill\, St Mary's Church\, St Mary's Rd\, Tickhill\,\, Doncaster\, DN11 9LZ\, United Kingdom
END:VEVENT
BEGIN:VEVENT
DTSTART;TZID=Europe/London:20240204T103000
DTEND;TZID=Europe/London:20240204T120000
DTSTAMP:20260420T051724
CREATED:20231111T172322Z
LAST-MODIFIED:20231111T172322Z
UID:6430-1707042600-1707048000@www.stmaryschurchtickhill.com
SUMMARY:10.45am - Sung Parish Eucharist - St Mary's
DESCRIPTION:
URL:https://www.stmaryschurchtickhill.com/event/10-45am-sung-parish-eucharist-st-marys-4
LOCATION:St. Mary’s Church\, Tickhill\, St Mary's Church\, St Mary's Rd\, Tickhill\,\, Doncaster\, DN11 9LZ\, United Kingdom
END:VEVENT
BEGIN:VEVENT
DTSTART;TZID=Europe/London:20240204T090000
DTEND;TZID=Europe/London:20240204T100000
DTSTAMP:20260420T051724
CREATED:20231111T173445Z
LAST-MODIFIED:20240203T114352Z
UID:6464-1707037200-1707040800@www.stmaryschurchtickhill.com
SUMMARY:9.15am - Celtic Morning Prayer - St Winifrid's
DESCRIPTION:
URL:https://www.stmaryschurchtickhill.com/event/9-15am-holy-communion-st-winifrids-7
LOCATION:St Winifrid’s Stainton
END:VEVENT
BEGIN:VEVENT
DTSTART;TZID=Europe/London:20240131T100000
DTEND;TZID=Europe/London:20240131T110000
DTSTAMP:20260420T051724
CREATED:20231111T173732Z
LAST-MODIFIED:20231111T173732Z
UID:6474-1706695200-1706698800@www.stmaryschurchtickhill.com
SUMMARY:10.00am - Holy Communion - St Mary's
DESCRIPTION:
URL:https://www.stmaryschurchtickhill.com/event/10-00am-holy-communion-st-marys-29
LOCATION:St. Mary’s Church\, Tickhill\, St Mary's Church\, St Mary's Rd\, Tickhill\,\, Doncaster\, DN11 9LZ\, United Kingdom
END:VEVENT
BEGIN:VEVENT
DTSTART;TZID=Europe/London:20240128T180000
DTEND;TZID=Europe/London:20240128T190000
DTSTAMP:20260420T051724
CREATED:20231111T173006Z
LAST-MODIFIED:20240120T101819Z
UID:6448-1706464800-1706468400@www.stmaryschurchtickhill.com
SUMMARY:6.00pm - Evensong with Candlemass Procession - St Mary's
DESCRIPTION:
URL:https://www.stmaryschurchtickhill.com/event/6-00pm-evening-prayer-st-marys-27
LOCATION:St. Mary’s Church\, Tickhill\, St Mary's Church\, St Mary's Rd\, Tickhill\,\, Doncaster\, DN11 9LZ\, United Kingdom
END:VEVENT
BEGIN:VEVENT
DTSTART;TZID=Europe/London:20240128T103000
DTEND;TZID=Europe/London:20240128T120000
DTSTAMP:20260420T051724
CREATED:20231111T172246Z
LAST-MODIFIED:20231111T172246Z
UID:6428-1706437800-1706443200@www.stmaryschurchtickhill.com
SUMMARY:10.45am - Sung Parish Eucharist - St Mary's
DESCRIPTION:
URL:https://www.stmaryschurchtickhill.com/event/10-45am-sung-parish-eucharist-st-marys-3
LOCATION:St. Mary’s Church\, Tickhill\, St Mary's Church\, St Mary's Rd\, Tickhill\,\, Doncaster\, DN11 9LZ\, United Kingdom
END:VEVENT
BEGIN:VEVENT
DTSTART;TZID=Europe/London:20240124T100000
DTEND;TZID=Europe/London:20240124T110000
DTSTAMP:20260420T051724
CREATED:20231111T173702Z
LAST-MODIFIED:20240120T101610Z
UID:6472-1706090400-1706094000@www.stmaryschurchtickhill.com
SUMMARY:10.00am - Morning Prayer - St Mary's
DESCRIPTION:
URL:https://www.stmaryschurchtickhill.com/event/10-00am-holy-communion-st-marys-28
LOCATION:St. Mary’s Church\, Tickhill\, St Mary's Church\, St Mary's Rd\, Tickhill\,\, Doncaster\, DN11 9LZ\, United Kingdom
END:VEVENT
BEGIN:VEVENT
DTSTART;TZID=Europe/London:20240121T180000
DTEND;TZID=Europe/London:20240121T190000
DTSTAMP:20260420T051724
CREATED:20231111T172912Z
LAST-MODIFIED:20231111T172912Z
UID:6446-1705860000-1705863600@www.stmaryschurchtickhill.com
SUMMARY:6.00pm - Holy Communion -St Mary's
DESCRIPTION:
URL:https://www.stmaryschurchtickhill.com/event/6-00pm-holy-communion-st-marys-4
LOCATION:St. Mary’s Church\, Tickhill\, St Mary's Church\, St Mary's Rd\, Tickhill\,\, Doncaster\, DN11 9LZ\, United Kingdom
END:VEVENT
BEGIN:VEVENT
DTSTART;TZID=Europe/London:20240121T103000
DTEND;TZID=Europe/London:20240121T120000
DTSTAMP:20260420T051724
CREATED:20231111T172209Z
LAST-MODIFIED:20240113T095936Z
UID:6426-1705833000-1705838400@www.stmaryschurchtickhill.com
SUMMARY:10.45am - Celtic Morning Prayer - St Mary's
DESCRIPTION:
URL:https://www.stmaryschurchtickhill.com/event/10-45am-morning-praise-st-marys
LOCATION:St. Mary’s Church\, Tickhill\, St Mary's Church\, St Mary's Rd\, Tickhill\,\, Doncaster\, DN11 9LZ\, United Kingdom
END:VEVENT
BEGIN:VEVENT
DTSTART;TZID=Europe/London:20240120T180000
DTEND;TZID=Europe/London:20240120T200000
DTSTAMP:20260420T051724
CREATED:20240113T095758Z
LAST-MODIFIED:20240113T095758Z
UID:6655-1705773600-1705780800@www.stmaryschurchtickhill.com
SUMMARY:6.00pm - Unity Supper - Tickhill Churches Together
DESCRIPTION:
URL:https://www.stmaryschurchtickhill.com/event/6-00pm-unity-supper-tickhill-churches-together
LOCATION:Tickhill Methodist Church\, 8 Buttercross Ct\, Tickhill\,\, Doncaster\, DN11 9JX
END:VEVENT
BEGIN:VEVENT
DTSTART;TZID=Europe/London:20240117T100000
DTEND;TZID=Europe/London:20240117T110000
DTSTAMP:20260420T051724
CREATED:20231111T173634Z
LAST-MODIFIED:20240113T095603Z
UID:6470-1705485600-1705489200@www.stmaryschurchtickhill.com
SUMMARY:10.00am - Morning Prayer - St Mary's
DESCRIPTION:
URL:https://www.stmaryschurchtickhill.com/event/10-00am-holy-communion-st-marys-27
LOCATION:St. Mary’s Church\, Tickhill\, St Mary's Church\, St Mary's Rd\, Tickhill\,\, Doncaster\, DN11 9LZ\, United Kingdom
END:VEVENT
BEGIN:VEVENT
DTSTART;TZID=Europe/London:20240114T180000
DTEND;TZID=Europe/London:20240114T190000
DTSTAMP:20260420T051724
CREATED:20231111T172831Z
LAST-MODIFIED:20231111T172831Z
UID:6444-1705255200-1705258800@www.stmaryschurchtickhill.com
SUMMARY:6.00pm - Evening Prayer -St Mary's
DESCRIPTION:
URL:https://www.stmaryschurchtickhill.com/event/6-00pm-evening-prayer-st-marys-26
LOCATION:St. Mary’s Church\, Tickhill\, St Mary's Church\, St Mary's Rd\, Tickhill\,\, Doncaster\, DN11 9LZ\, United Kingdom
END:VEVENT
BEGIN:VEVENT
DTSTART;TZID=Europe/London:20240114T103000
DTEND;TZID=Europe/London:20240114T120000
DTSTAMP:20260420T051724
CREATED:20231111T172116Z
LAST-MODIFIED:20231111T172116Z
UID:6424-1705228200-1705233600@www.stmaryschurchtickhill.com
SUMMARY:10.45am - Sung Parish Eucharist - St Mary's
DESCRIPTION:
URL:https://www.stmaryschurchtickhill.com/event/10-45am-sung-parish-eucharist-st-marys-2
LOCATION:St. Mary’s Church\, Tickhill\, St Mary's Church\, St Mary's Rd\, Tickhill\,\, Doncaster\, DN11 9LZ\, United Kingdom
END:VEVENT
BEGIN:VEVENT
DTSTART;TZID=Europe/London:20240114T080000
DTEND;TZID=Europe/London:20240114T090000
DTSTAMP:20260420T051724
CREATED:20231111T172631Z
LAST-MODIFIED:20231111T172631Z
UID:6438-1705219200-1705222800@www.stmaryschurchtickhill.com
SUMMARY:8.00am - Holy Communion - St Mary's
DESCRIPTION:
URL:https://www.stmaryschurchtickhill.com/event/8-00am-holy-communion-st-marys-8
LOCATION:St. Mary’s Church\, Tickhill\, St Mary's Church\, St Mary's Rd\, Tickhill\,\, Doncaster\, DN11 9LZ\, United Kingdom
END:VEVENT
BEGIN:VEVENT
DTSTART;TZID=Europe/London:20240110T100000
DTEND;TZID=Europe/London:20240110T110000
DTSTAMP:20260420T051724
CREATED:20231111T173603Z
LAST-MODIFIED:20231111T173603Z
UID:6468-1704880800-1704884400@www.stmaryschurchtickhill.com
SUMMARY:10.00am - Holy Communion - St Mary's
DESCRIPTION:
URL:https://www.stmaryschurchtickhill.com/event/10-00am-holy-communion-st-marys-26
LOCATION:St. Mary’s Church\, Tickhill\, St Mary's Church\, St Mary's Rd\, Tickhill\,\, Doncaster\, DN11 9LZ\, United Kingdom
END:VEVENT
BEGIN:VEVENT
DTSTART;TZID=Europe/London:20240107T180000
DTEND;TZID=Europe/London:20240107T190000
DTSTAMP:20260420T051724
CREATED:20231111T172759Z
LAST-MODIFIED:20231111T174237Z
UID:6442-1704650400-1704654000@www.stmaryschurchtickhill.com
SUMMARY:6.00pm - Plough Sunday Service - St Mary's
DESCRIPTION:
URL:https://www.stmaryschurchtickhill.com/event/6-00pm-evening-prayer-st-marys-25
LOCATION:St. Mary’s Church\, Tickhill\, St Mary's Church\, St Mary's Rd\, Tickhill\,\, Doncaster\, DN11 9LZ\, United Kingdom
END:VEVENT
BEGIN:VEVENT
DTSTART;TZID=Europe/London:20240107T160000
DTEND;TZID=Europe/London:20240107T170000
DTSTAMP:20260420T051724
CREATED:20231111T173307Z
LAST-MODIFIED:20231111T173307Z
UID:6458-1704643200-1704646800@www.stmaryschurchtickhill.com
SUMMARY:4.00pm - 'Church Done Differently' - St Mary's
DESCRIPTION:
URL:https://www.stmaryschurchtickhill.com/event/4-00pm-church-done-differently-st-marys-3
LOCATION:St. Mary’s Church\, Tickhill\, St Mary's Church\, St Mary's Rd\, Tickhill\,\, Doncaster\, DN11 9LZ\, United Kingdom
END:VEVENT
BEGIN:VEVENT
DTSTART;TZID=Europe/London:20240107T103000
DTEND;TZID=Europe/London:20240107T120000
DTSTAMP:20260420T051724
CREATED:20231111T172043Z
LAST-MODIFIED:20231111T172043Z
UID:6422-1704623400-1704628800@www.stmaryschurchtickhill.com
SUMMARY:10.45am - Sung Parish Eucharist - St Mary's
DESCRIPTION:
URL:https://www.stmaryschurchtickhill.com/event/10-45am-sung-parish-eucharist-st-marys
LOCATION:St. Mary’s Church\, Tickhill\, St Mary's Church\, St Mary's Rd\, Tickhill\,\, Doncaster\, DN11 9LZ\, United Kingdom
END:VEVENT
BEGIN:VEVENT
DTSTART;TZID=Europe/London:20240107T090000
DTEND;TZID=Europe/London:20240107T100000
DTSTAMP:20260420T051724
CREATED:20231111T173417Z
LAST-MODIFIED:20231111T173417Z
UID:6462-1704618000-1704621600@www.stmaryschurchtickhill.com
SUMMARY:9.15am - Holy Communion - St Winifrid's
DESCRIPTION:
URL:https://www.stmaryschurchtickhill.com/event/9-15am-holy-communion-st-winifrids-6
LOCATION:St Winifrid’s Stainton
END:VEVENT
BEGIN:VEVENT
DTSTART;TZID=Europe/London:20240103T100000
DTEND;TZID=Europe/London:20240103T230000
DTSTAMP:20260420T051724
CREATED:20231111T173532Z
LAST-MODIFIED:20231229T142408Z
UID:6466-1704276000-1704322800@www.stmaryschurchtickhill.com
SUMMARY:10.00am - Morning Prayer - St Mary's
DESCRIPTION:
URL:https://www.stmaryschurchtickhill.com/event/10-00am-holy-communion-st-marys-25
LOCATION:St. Mary’s Church\, Tickhill\, St Mary's Church\, St Mary's Rd\, Tickhill\,\, Doncaster\, DN11 9LZ\, United Kingdom
END:VEVENT
BEGIN:VEVENT
DTSTART;TZID=Europe/London:20231231T180000
DTEND;TZID=Europe/London:20231231T190000
DTSTAMP:20260420T051724
CREATED:20230903T163441Z
LAST-MODIFIED:20231216T122037Z
UID:6218-1704045600-1704049200@www.stmaryschurchtickhill.com
SUMMARY:4.00pm - Memory Tree Service - St Mary's
DESCRIPTION:
URL:https://www.stmaryschurchtickhill.com/event/6-00pm-evening-prayer-st-marys-24
LOCATION:St. Mary’s Church\, Tickhill\, St Mary's Church\, St Mary's Rd\, Tickhill\,\, Doncaster\, DN11 9LZ\, United Kingdom
END:VEVENT
END:VCALENDAR