BEGIN:VCALENDAR
VERSION:2.0
PRODID:-//St Mary&#039;s Church Tickhill - ECPv6.15.20//NONSGML v1.0//EN
CALSCALE:GREGORIAN
METHOD:PUBLISH
X-WR-CALNAME:St Mary&#039;s Church Tickhill
X-ORIGINAL-URL:https://www.stmaryschurchtickhill.com
X-WR-CALDESC:Events for St Mary&#039;s Church Tickhill
REFRESH-INTERVAL;VALUE=DURATION:PT1H
X-Robots-Tag:noindex
X-PUBLISHED-TTL:PT1H
BEGIN:VTIMEZONE
TZID:Europe/London
BEGIN:DAYLIGHT
TZOFFSETFROM:+0000
TZOFFSETTO:+0100
TZNAME:BST
DTSTART:20220327T010000
END:DAYLIGHT
BEGIN:STANDARD
TZOFFSETFROM:+0100
TZOFFSETTO:+0000
TZNAME:GMT
DTSTART:20221030T010000
END:STANDARD
BEGIN:DAYLIGHT
TZOFFSETFROM:+0000
TZOFFSETTO:+0100
TZNAME:BST
DTSTART:20230326T010000
END:DAYLIGHT
BEGIN:STANDARD
TZOFFSETFROM:+0100
TZOFFSETTO:+0000
TZNAME:GMT
DTSTART:20231029T010000
END:STANDARD
BEGIN:DAYLIGHT
TZOFFSETFROM:+0000
TZOFFSETTO:+0100
TZNAME:BST
DTSTART:20240331T010000
END:DAYLIGHT
BEGIN:STANDARD
TZOFFSETFROM:+0100
TZOFFSETTO:+0000
TZNAME:GMT
DTSTART:20241027T010000
END:STANDARD
END:VTIMEZONE
BEGIN:VEVENT
DTSTART;TZID=Europe/London:20231001T180000
DTEND;TZID=Europe/London:20231001T190000
DTSTAMP:20260420T074742
CREATED:20230806T084750Z
LAST-MODIFIED:20230806T084750Z
UID:6042-1696183200-1696186800@www.stmaryschurchtickhill.com
SUMMARY:6.00pm - Evening Prayer - St Mary's
DESCRIPTION:
URL:https://www.stmaryschurchtickhill.com/event/6-00pm-evening-prayer-st-marys-15
LOCATION:St. Mary’s Church\, Tickhill\, St Mary's Church\, St Mary's Rd\, Tickhill\,\, Doncaster\, DN11 9LZ\, United Kingdom
END:VEVENT
BEGIN:VEVENT
DTSTART;TZID=Europe/London:20231001T160000
DTEND;TZID=Europe/London:20231001T170000
DTSTAMP:20260420T074742
CREATED:20230806T085858Z
LAST-MODIFIED:20230806T085858Z
UID:6070-1696176000-1696179600@www.stmaryschurchtickhill.com
SUMMARY:4.00pm - Church Done Differently - St Mary's
DESCRIPTION:
URL:https://www.stmaryschurchtickhill.com/event/4-00pm-church-done-differently-st-marys-2
LOCATION:St. Mary’s Church\, Tickhill\, St Mary's Church\, St Mary's Rd\, Tickhill\,\, Doncaster\, DN11 9LZ\, United Kingdom
END:VEVENT
BEGIN:VEVENT
DTSTART;TZID=Europe/London:20231001T123000
DTEND;TZID=Europe/London:20231001T143000
DTSTAMP:20260420T074742
CREATED:20230828T163724Z
LAST-MODIFIED:20230828T163724Z
UID:6157-1696163400-1696170600@www.stmaryschurchtickhill.com
SUMMARY:12.30pm - 2.30pm - An Exhibition of Art by Tickhill Artists
DESCRIPTION:For more details – CLICK HERE
URL:https://www.stmaryschurchtickhill.com/event/12-30pm-2-30pm-an-exhibition-of-art-by-tickhill-artists
LOCATION:St. Mary’s Church\, Tickhill\, St Mary's Church\, St Mary's Rd\, Tickhill\,\, Doncaster\, DN11 9LZ\, United Kingdom
END:VEVENT
BEGIN:VEVENT
DTSTART;TZID=Europe/London:20231001T103000
DTEND;TZID=Europe/London:20231001T120000
DTSTAMP:20260420T074742
CREATED:20230806T084036Z
LAST-MODIFIED:20230806T084036Z
UID:6024-1696156200-1696161600@www.stmaryschurchtickhill.com
SUMMARY:10.45am - Holy Communion - St Mary's
DESCRIPTION:
URL:https://www.stmaryschurchtickhill.com/event/10-45am-holy-communion-st-marys-10
LOCATION:St. Mary’s Church\, Tickhill\, St Mary's Church\, St Mary's Rd\, Tickhill\,\, Doncaster\, DN11 9LZ\, United Kingdom
END:VEVENT
BEGIN:VEVENT
DTSTART;TZID=Europe/London:20231001T090000
DTEND;TZID=Europe/London:20231001T100000
DTSTAMP:20260420T074742
CREATED:20230806T090239Z
LAST-MODIFIED:20230806T090239Z
UID:6078-1696150800-1696154400@www.stmaryschurchtickhill.com
SUMMARY:9.15am - Holy Communion - St Winifrid's
DESCRIPTION:
URL:https://www.stmaryschurchtickhill.com/event/9-15am-holy-communion-st-winifrids-3
LOCATION:St Winifrid’s Stainton
END:VEVENT
BEGIN:VEVENT
DTSTART;TZID=Europe/London:20230930T100000
DTEND;TZID=Europe/London:20230930T163000
DTSTAMP:20260420T074742
CREATED:20230828T163100Z
LAST-MODIFIED:20230828T163100Z
UID:6153-1696068000-1696091400@www.stmaryschurchtickhill.com
SUMMARY:10.00am - 4.30pm - An Exhibition of Art by Tickhill Artists
DESCRIPTION:For more details – CLICK HERE
URL:https://www.stmaryschurchtickhill.com/event/10-00am-4-30pm-an-exhibition-of-art-by-tickhill-artists
LOCATION:St. Mary’s Church\, Tickhill\, St Mary's Church\, St Mary's Rd\, Tickhill\,\, Doncaster\, DN11 9LZ\, United Kingdom
END:VEVENT
BEGIN:VEVENT
DTSTART;TZID=Europe/London:20230927T100000
DTEND;TZID=Europe/London:20230927T110000
DTSTAMP:20260420T074742
CREATED:20230806T085506Z
LAST-MODIFIED:20230806T085506Z
UID:6060-1695808800-1695812400@www.stmaryschurchtickhill.com
SUMMARY:10.00am - Holy Communion - St Mary's
DESCRIPTION:
URL:https://www.stmaryschurchtickhill.com/event/10-00am-holy-communion-st-marys-12
LOCATION:St. Mary’s Church\, Tickhill\, St Mary's Church\, St Mary's Rd\, Tickhill\,\, Doncaster\, DN11 9LZ\, United Kingdom
END:VEVENT
BEGIN:VEVENT
DTSTART;TZID=Europe/London:20230924T180000
DTEND;TZID=Europe/London:20230924T190000
DTSTAMP:20260420T074742
CREATED:20230806T084718Z
LAST-MODIFIED:20230922T194329Z
UID:6040-1695578400-1695582000@www.stmaryschurchtickhill.com
SUMMARY:6.00pm - Harvest Evensong - St Mary's
DESCRIPTION:
URL:https://www.stmaryschurchtickhill.com/event/6-00pm-evening-prayer-st-marys-14
LOCATION:St. Mary’s Church\, Tickhill\, St Mary's Church\, St Mary's Rd\, Tickhill\,\, Doncaster\, DN11 9LZ\, United Kingdom
END:VEVENT
BEGIN:VEVENT
DTSTART;TZID=Europe/London:20230924T103000
DTEND;TZID=Europe/London:20230924T120000
DTSTAMP:20260420T074742
CREATED:20230806T083926Z
LAST-MODIFIED:20230806T083926Z
UID:6022-1695551400-1695556800@www.stmaryschurchtickhill.com
SUMMARY:10.45am - Holy Communion - St Mary's
DESCRIPTION:
URL:https://www.stmaryschurchtickhill.com/event/10-45am-holy-communion-st-marys-9
LOCATION:St. Mary’s Church\, Tickhill\, St Mary's Church\, St Mary's Rd\, Tickhill\,\, Doncaster\, DN11 9LZ\, United Kingdom
END:VEVENT
BEGIN:VEVENT
DTSTART;TZID=Europe/London:20230923T170000
DTEND;TZID=Europe/London:20230923T183000
DTSTAMP:20260420T074742
CREATED:20230828T161958Z
LAST-MODIFIED:20230828T162031Z
UID:6146-1695488400-1695493800@www.stmaryschurchtickhill.com
SUMMARY:SATURDAY 23 SEPTEMBER - HARVEST SUPPER - 5.00PM
DESCRIPTION:HARVEST SUPPER – BUFFET AND DESSERTS – £7.00 per ticket – from ELAINE MILLARD
URL:https://www.stmaryschurchtickhill.com/event/harvest-supper-5-00pm
LOCATION:St. Mary’s Church\, Tickhill\, St Mary's Church\, St Mary's Rd\, Tickhill\,\, Doncaster\, DN11 9LZ\, United Kingdom
END:VEVENT
BEGIN:VEVENT
DTSTART;TZID=Europe/London:20230920T100000
DTEND;TZID=Europe/London:20230920T110000
DTSTAMP:20260420T074742
CREATED:20230806T085426Z
LAST-MODIFIED:20230917T150304Z
UID:6058-1695204000-1695207600@www.stmaryschurchtickhill.com
SUMMARY:10.00am - Morning Prayer - St Mary's
DESCRIPTION:
URL:https://www.stmaryschurchtickhill.com/event/10-00am-holy-communion-st-marys-11
LOCATION:St. Mary’s Church\, Tickhill\, St Mary's Church\, St Mary's Rd\, Tickhill\,\, Doncaster\, DN11 9LZ\, United Kingdom
END:VEVENT
BEGIN:VEVENT
DTSTART;TZID=Europe/London:20230917T180000
DTEND;TZID=Europe/London:20230917T190000
DTSTAMP:20260420T074742
CREATED:20230806T084646Z
LAST-MODIFIED:20230806T084646Z
UID:6038-1694973600-1694977200@www.stmaryschurchtickhill.com
SUMMARY:6.00pm - Holy Communion - St Mary's
DESCRIPTION:
URL:https://www.stmaryschurchtickhill.com/event/6-00pm-holy-communion-st-marys
LOCATION:St. Mary’s Church\, Tickhill\, St Mary's Church\, St Mary's Rd\, Tickhill\,\, Doncaster\, DN11 9LZ\, United Kingdom
END:VEVENT
BEGIN:VEVENT
DTSTART;TZID=Europe/London:20230917T103000
DTEND;TZID=Europe/London:20230917T120000
DTSTAMP:20260420T074742
CREATED:20230806T083843Z
LAST-MODIFIED:20230910T084323Z
UID:6020-1694946600-1694952000@www.stmaryschurchtickhill.com
SUMMARY:10.45am - Celtic Morning Prayer - St Mary's
DESCRIPTION:
URL:https://www.stmaryschurchtickhill.com/event/10-45am-holy-communion-st-marys-8
LOCATION:St. Mary’s Church\, Tickhill\, St Mary's Church\, St Mary's Rd\, Tickhill\,\, Doncaster\, DN11 9LZ\, United Kingdom
END:VEVENT
BEGIN:VEVENT
DTSTART;TZID=Europe/London:20230916T180000
DTEND;TZID=Europe/London:20230916T193000
DTSTAMP:20260420T074742
CREATED:20230811T153827Z
LAST-MODIFIED:20230812T113852Z
UID:6091-1694887200-1694892600@www.stmaryschurchtickhill.com
SUMMARY:6.00pm - Concert - Music for brass\, strings & voices - in aid of the Warm and Welcoming Appeal
DESCRIPTION:For more details  – CLICK HERE
URL:https://www.stmaryschurchtickhill.com/event/6-00pm-concert-music-for-brass-strings-voices-in-aid-of-the-warm-and-welcoming-appeal
LOCATION:St. Mary’s Church\, Tickhill\, St Mary's Church\, St Mary's Rd\, Tickhill\,\, Doncaster\, DN11 9LZ\, United Kingdom
END:VEVENT
BEGIN:VEVENT
DTSTART;TZID=Europe/London:20230913T100000
DTEND;TZID=Europe/London:20230913T110000
DTSTAMP:20260420T074742
CREATED:20230806T085347Z
LAST-MODIFIED:20230806T085347Z
UID:6056-1694599200-1694602800@www.stmaryschurchtickhill.com
SUMMARY:10.00am - Holy Communion - St Mary's
DESCRIPTION:
URL:https://www.stmaryschurchtickhill.com/event/10-00am-holy-communion-st-marys-10
LOCATION:St. Mary’s Church\, Tickhill\, St Mary's Church\, St Mary's Rd\, Tickhill\,\, Doncaster\, DN11 9LZ\, United Kingdom
END:VEVENT
BEGIN:VEVENT
DTSTART;TZID=Europe/London:20230910T180000
DTEND;TZID=Europe/London:20230910T190000
DTSTAMP:20260420T074742
CREATED:20230806T084528Z
LAST-MODIFIED:20230806T084528Z
UID:6036-1694368800-1694372400@www.stmaryschurchtickhill.com
SUMMARY:6.00pm - Evening Prayer - St Mary's
DESCRIPTION:
URL:https://www.stmaryschurchtickhill.com/event/6-00pm-evening-prayer-st-marys-13
LOCATION:St. Mary’s Church\, Tickhill\, St Mary's Church\, St Mary's Rd\, Tickhill\,\, Doncaster\, DN11 9LZ\, United Kingdom
END:VEVENT
BEGIN:VEVENT
DTSTART;TZID=Europe/London:20230910T103000
DTEND;TZID=Europe/London:20230910T120000
DTSTAMP:20260420T074742
CREATED:20230806T083756Z
LAST-MODIFIED:20230806T083756Z
UID:6018-1694341800-1694347200@www.stmaryschurchtickhill.com
SUMMARY:10.45am - Holy Communion - St Mary's
DESCRIPTION:
URL:https://www.stmaryschurchtickhill.com/event/10-45am-holy-communion-st-marys-7
LOCATION:St. Mary’s Church\, Tickhill\, St Mary's Church\, St Mary's Rd\, Tickhill\,\, Doncaster\, DN11 9LZ\, United Kingdom
END:VEVENT
BEGIN:VEVENT
DTSTART;TZID=Europe/London:20230910T080000
DTEND;TZID=Europe/London:20230910T090000
DTSTAMP:20260420T074742
CREATED:20230806T085946Z
LAST-MODIFIED:20230806T085946Z
UID:6072-1694332800-1694336400@www.stmaryschurchtickhill.com
SUMMARY:8.00am - Holy Communion - St Mary's
DESCRIPTION:
URL:https://www.stmaryschurchtickhill.com/event/8-00am-holy-communion-st-marys-4
LOCATION:St. Mary’s Church\, Tickhill\, St Mary's Church\, St Mary's Rd\, Tickhill\,\, Doncaster\, DN11 9LZ\, United Kingdom
END:VEVENT
BEGIN:VEVENT
DTSTART;TZID=Europe/London:20230909T140000
DTEND;TZID=Europe/London:20230909T173000
DTSTAMP:20260420T074742
CREATED:20230828T162304Z
LAST-MODIFIED:20230828T162403Z
UID:6149-1694268000-1694280600@www.stmaryschurchtickhill.com
SUMMARY:2.00pm - COMMUNITY SPONSORED WALK
DESCRIPTION:For more details – CLICK HERE
URL:https://www.stmaryschurchtickhill.com/event/2-00pm-community-sponsored-walk
END:VEVENT
BEGIN:VEVENT
DTSTART;TZID=Europe/London:20230906T100000
DTEND;TZID=Europe/London:20230906T110000
DTSTAMP:20260420T074742
CREATED:20230806T085314Z
LAST-MODIFIED:20230901T203529Z
UID:6054-1693994400-1693998000@www.stmaryschurchtickhill.com
SUMMARY:10.00am - Morning Prayer - St Mary's
DESCRIPTION:
URL:https://www.stmaryschurchtickhill.com/event/10-00am-holy-communion-st-marys-9
LOCATION:St. Mary’s Church\, Tickhill\, St Mary's Church\, St Mary's Rd\, Tickhill\,\, Doncaster\, DN11 9LZ\, United Kingdom
END:VEVENT
BEGIN:VEVENT
DTSTART;TZID=Europe/London:20230903T180000
DTEND;TZID=Europe/London:20230903T190000
DTSTAMP:20260420T074742
CREATED:20230903T163244Z
LAST-MODIFIED:20230903T163244Z
UID:6214-1693764000-1693767600@www.stmaryschurchtickhill.com
SUMMARY:6.00pm - Christmas Carol Service - St Mary's
DESCRIPTION:
URL:https://www.stmaryschurchtickhill.com/event/6-00pm-christmas-carol-service-st-marys
LOCATION:St. Mary’s Church\, Tickhill\, St Mary's Church\, St Mary's Rd\, Tickhill\,\, Doncaster\, DN11 9LZ\, United Kingdom
END:VEVENT
BEGIN:VEVENT
DTSTART;TZID=Europe/London:20230903T180000
DTEND;TZID=Europe/London:20230903T190000
DTSTAMP:20260420T074742
CREATED:20230806T084453Z
LAST-MODIFIED:20230806T084453Z
UID:6034-1693764000-1693767600@www.stmaryschurchtickhill.com
SUMMARY:6.00pm - Evening Prayer - St Mary's
DESCRIPTION:
URL:https://www.stmaryschurchtickhill.com/event/6-00pm-evening-prayer-st-marys-12
LOCATION:St. Mary’s Church\, Tickhill\, St Mary's Church\, St Mary's Rd\, Tickhill\,\, Doncaster\, DN11 9LZ\, United Kingdom
END:VEVENT
BEGIN:VEVENT
DTSTART;TZID=Europe/London:20230903T103000
DTEND;TZID=Europe/London:20230903T120000
DTSTAMP:20260420T074742
CREATED:20230806T083717Z
LAST-MODIFIED:20230806T083717Z
UID:6016-1693737000-1693742400@www.stmaryschurchtickhill.com
SUMMARY:10.45am - Holy Communion - St Mary's
DESCRIPTION:
URL:https://www.stmaryschurchtickhill.com/event/10-45am-holy-communion-st-marys-4
LOCATION:St. Mary’s Church\, Tickhill\, St Mary's Church\, St Mary's Rd\, Tickhill\,\, Doncaster\, DN11 9LZ\, United Kingdom
END:VEVENT
BEGIN:VEVENT
DTSTART;TZID=Europe/London:20230903T090000
DTEND;TZID=Europe/London:20230903T100000
DTSTAMP:20260420T074742
CREATED:20230806T090138Z
LAST-MODIFIED:20230806T090138Z
UID:6076-1693731600-1693735200@www.stmaryschurchtickhill.com
SUMMARY:9.15am - Holy Communion - St Winifrid's
DESCRIPTION:
URL:https://www.stmaryschurchtickhill.com/event/9-15am-holy-communion-st-winifrids-2
LOCATION:St Winifrid’s Stainton
END:VEVENT
BEGIN:VEVENT
DTSTART;TZID=Europe/London:20230830T100000
DTEND;TZID=Europe/London:20230830T110000
DTSTAMP:20260420T074742
CREATED:20230623T150619Z
LAST-MODIFIED:20230828T161729Z
UID:5922-1693389600-1693393200@www.stmaryschurchtickhill.com
SUMMARY:10.00am - Morning Prayer - St Mary's
DESCRIPTION:
URL:https://www.stmaryschurchtickhill.com/event/10-00am-holy-communion-st-marys-8
LOCATION:St. Mary’s Church\, Tickhill\, St Mary's Church\, St Mary's Rd\, Tickhill\,\, Doncaster\, DN11 9LZ\, United Kingdom
END:VEVENT
BEGIN:VEVENT
DTSTART;TZID=Europe/London:20230827T180000
DTEND;TZID=Europe/London:20230827T190000
DTSTAMP:20260420T074742
CREATED:20230623T150044Z
LAST-MODIFIED:20230623T150044Z
UID:5910-1693159200-1693162800@www.stmaryschurchtickhill.com
SUMMARY:6.00pm - Evening Prayer - St Mary's
DESCRIPTION:
URL:https://www.stmaryschurchtickhill.com/event/6-00pm-evening-prayer-st-marys-11
LOCATION:St. Mary’s Church\, Tickhill\, St Mary's Church\, St Mary's Rd\, Tickhill\,\, Doncaster\, DN11 9LZ\, United Kingdom
END:VEVENT
BEGIN:VEVENT
DTSTART;TZID=Europe/London:20230827T103000
DTEND;TZID=Europe/London:20230827T120000
DTSTAMP:20260420T074742
CREATED:20230623T145712Z
LAST-MODIFIED:20230623T145712Z
UID:5902-1693132200-1693137600@www.stmaryschurchtickhill.com
SUMMARY:10.45 - Holy Communion - St Mary's
DESCRIPTION:
URL:https://www.stmaryschurchtickhill.com/event/10-45-holy-communion-st-marys-8
LOCATION:St. Mary’s Church\, Tickhill\, St Mary's Church\, St Mary's Rd\, Tickhill\,\, Doncaster\, DN11 9LZ\, United Kingdom
END:VEVENT
BEGIN:VEVENT
DTSTART;TZID=Europe/London:20230823T100000
DTEND;TZID=Europe/London:20230823T110000
DTSTAMP:20260420T074742
CREATED:20230623T150530Z
LAST-MODIFIED:20230623T150530Z
UID:5920-1692784800-1692788400@www.stmaryschurchtickhill.com
SUMMARY:10.00am - Holy Communion - St Mary's
DESCRIPTION:
URL:https://www.stmaryschurchtickhill.com/event/10-00am-holy-communion-st-marys-7
LOCATION:St. Mary’s Church\, Tickhill\, St Mary's Church\, St Mary's Rd\, Tickhill\,\, Doncaster\, DN11 9LZ\, United Kingdom
END:VEVENT
BEGIN:VEVENT
DTSTART;TZID=Europe/London:20230820T180000
DTEND;TZID=Europe/London:20230820T190000
DTSTAMP:20260420T074742
CREATED:20230623T150007Z
LAST-MODIFIED:20230623T150007Z
UID:5908-1692554400-1692558000@www.stmaryschurchtickhill.com
SUMMARY:6.00pm - Said Holy Communion - St Mary's
DESCRIPTION:
URL:https://www.stmaryschurchtickhill.com/event/6-00pm-said-holy-communion-st-marys
LOCATION:St. Mary’s Church\, Tickhill\, St Mary's Church\, St Mary's Rd\, Tickhill\,\, Doncaster\, DN11 9LZ\, United Kingdom
END:VEVENT
BEGIN:VEVENT
DTSTART;TZID=Europe/London:20230820T103000
DTEND;TZID=Europe/London:20230820T120000
DTSTAMP:20260420T074742
CREATED:20230623T145634Z
LAST-MODIFIED:20230623T145634Z
UID:5900-1692527400-1692532800@www.stmaryschurchtickhill.com
SUMMARY:10.45 - Celtic Morning Prayer - St Mary's
DESCRIPTION:
URL:https://www.stmaryschurchtickhill.com/event/10-45-celtic-morning-prayer-st-marys
LOCATION:St. Mary’s Church\, Tickhill\, St Mary's Church\, St Mary's Rd\, Tickhill\,\, Doncaster\, DN11 9LZ\, United Kingdom
END:VEVENT
END:VCALENDAR