BEGIN:VCALENDAR
VERSION:2.0
PRODID:-//St Mary&#039;s Church Tickhill - ECPv6.15.20//NONSGML v1.0//EN
CALSCALE:GREGORIAN
METHOD:PUBLISH
X-WR-CALNAME:St Mary&#039;s Church Tickhill
X-ORIGINAL-URL:https://www.stmaryschurchtickhill.com
X-WR-CALDESC:Events for St Mary&#039;s Church Tickhill
REFRESH-INTERVAL;VALUE=DURATION:PT1H
X-Robots-Tag:noindex
X-PUBLISHED-TTL:PT1H
BEGIN:VTIMEZONE
TZID:Europe/London
BEGIN:DAYLIGHT
TZOFFSETFROM:+0000
TZOFFSETTO:+0100
TZNAME:BST
DTSTART:20220327T010000
END:DAYLIGHT
BEGIN:STANDARD
TZOFFSETFROM:+0100
TZOFFSETTO:+0000
TZNAME:GMT
DTSTART:20221030T010000
END:STANDARD
BEGIN:DAYLIGHT
TZOFFSETFROM:+0000
TZOFFSETTO:+0100
TZNAME:BST
DTSTART:20230326T010000
END:DAYLIGHT
BEGIN:STANDARD
TZOFFSETFROM:+0100
TZOFFSETTO:+0000
TZNAME:GMT
DTSTART:20231029T010000
END:STANDARD
BEGIN:DAYLIGHT
TZOFFSETFROM:+0000
TZOFFSETTO:+0100
TZNAME:BST
DTSTART:20240331T010000
END:DAYLIGHT
BEGIN:STANDARD
TZOFFSETFROM:+0100
TZOFFSETTO:+0000
TZNAME:GMT
DTSTART:20241027T010000
END:STANDARD
END:VTIMEZONE
BEGIN:VEVENT
DTSTART;TZID=Europe/London:20231108T100000
DTEND;TZID=Europe/London:20231108T110000
DTSTAMP:20260420T085310
CREATED:20230903T163916Z
LAST-MODIFIED:20230903T163916Z
UID:6229-1699437600-1699441200@www.stmaryschurchtickhill.com
SUMMARY:10.00am - Holy Communion - St Mary's
DESCRIPTION:
URL:https://www.stmaryschurchtickhill.com/event/10-00am-holy-communion-st-marys-17
LOCATION:St. Mary’s Church\, Tickhill\, St Mary's Church\, St Mary's Rd\, Tickhill\,\, Doncaster\, DN11 9LZ\, United Kingdom
END:VEVENT
BEGIN:VEVENT
DTSTART;TZID=Europe/London:20231105T180000
DTEND;TZID=Europe/London:20231105T190000
DTSTAMP:20260420T085310
CREATED:20230903T162726Z
LAST-MODIFIED:20230903T162726Z
UID:6202-1699207200-1699210800@www.stmaryschurchtickhill.com
SUMMARY:6.00pm - Evening Prayer - St Mary's
DESCRIPTION:
URL:https://www.stmaryschurchtickhill.com/event/6-00pm-evening-prayer-st-marys-19
LOCATION:St. Mary’s Church\, Tickhill\, St Mary's Church\, St Mary's Rd\, Tickhill\,\, Doncaster\, DN11 9LZ\, United Kingdom
END:VEVENT
BEGIN:VEVENT
DTSTART;TZID=Europe/London:20231105T160000
DTEND;TZID=Europe/London:20231105T170000
DTSTAMP:20260420T085310
CREATED:20230903T163703Z
LAST-MODIFIED:20231019T193719Z
UID:6222-1699200000-1699203600@www.stmaryschurchtickhill.com
SUMMARY:4.00pm - Church Done Differently - Light Party - a non-scary alternative to Halloween - St Mary's
DESCRIPTION:For more information – please CLICK HERE
URL:https://www.stmaryschurchtickhill.com/event/4-00pm-church-done-differently-2
LOCATION:St. Mary’s Church\, Tickhill\, St Mary's Church\, St Mary's Rd\, Tickhill\,\, Doncaster\, DN11 9LZ\, United Kingdom
END:VEVENT
BEGIN:VEVENT
DTSTART;TZID=Europe/London:20231105T103000
DTEND;TZID=Europe/London:20231105T120000
DTSTAMP:20260420T085310
CREATED:20230903T161932Z
LAST-MODIFIED:20230903T161932Z
UID:6184-1699180200-1699185600@www.stmaryschurchtickhill.com
SUMMARY:10.45 - Sung Parish Eucharist - St Mary's
DESCRIPTION:
URL:https://www.stmaryschurchtickhill.com/event/10-45-sung-parish-eucharist-st-marys
LOCATION:St. Mary’s Church\, Tickhill\, St Mary's Church\, St Mary's Rd\, Tickhill\,\, Doncaster\, DN11 9LZ\, United Kingdom
END:VEVENT
BEGIN:VEVENT
DTSTART;TZID=Europe/London:20231105T090000
DTEND;TZID=Europe/London:20231105T100000
DTSTAMP:20260420T085310
CREATED:20230903T161708Z
LAST-MODIFIED:20230903T161708Z
UID:6180-1699174800-1699178400@www.stmaryschurchtickhill.com
SUMMARY:9.15am - Holy Communion - St Winifrid's
DESCRIPTION:
URL:https://www.stmaryschurchtickhill.com/event/9-15am-holy-communion-st-winifrids-4
LOCATION:St Winifrid’s Stainton
END:VEVENT
BEGIN:VEVENT
DTSTART;TZID=Europe/London:20231101T100000
DTEND;TZID=Europe/London:20231101T110000
DTSTAMP:20260420T085310
CREATED:20230903T163821Z
LAST-MODIFIED:20231029T100859Z
UID:6226-1698832800-1698836400@www.stmaryschurchtickhill.com
SUMMARY:10.00am - Morning Prayer - St Mary's
DESCRIPTION:
URL:https://www.stmaryschurchtickhill.com/event/10-00am-holy-communion-13
LOCATION:St. Mary’s Church\, Tickhill\, St Mary's Church\, St Mary's Rd\, Tickhill\,\, Doncaster\, DN11 9LZ\, United Kingdom
END:VEVENT
BEGIN:VEVENT
DTSTART;TZID=Europe/London:20231029T180000
DTEND;TZID=Europe/London:20231029T190000
DTSTAMP:20260420T085310
CREATED:20230806T085027Z
LAST-MODIFIED:20231003T183900Z
UID:6050-1698602400-1698606000@www.stmaryschurchtickhill.com
SUMMARY:6.00pm - Service of Thanksgiving Remembrance and Hope - St Mary's
DESCRIPTION:Service of Remembrance\, Thanksgiving and Hope 6:00pm Sunday\, 29th October\nAt this service we particularly remember all those in the Parish who have died recently. We also ask anyone who has a loved one they wish to remember to complete a card at the back of church. You will be invited to light a candle and prayers will be said for the departed at the service. \nJudith Black\, Pastoral Committee
URL:https://www.stmaryschurchtickhill.com/event/6-00pm-evening-prayer-st-marys-18
LOCATION:St. Mary’s Church\, Tickhill\, St Mary's Church\, St Mary's Rd\, Tickhill\,\, Doncaster\, DN11 9LZ\, United Kingdom
END:VEVENT
BEGIN:VEVENT
DTSTART;TZID=Europe/London:20231029T103000
DTEND;TZID=Europe/London:20231029T120000
DTSTAMP:20260420T085310
CREATED:20230806T084313Z
LAST-MODIFIED:20230806T084313Z
UID:6032-1698575400-1698580800@www.stmaryschurchtickhill.com
SUMMARY:10.45am - Holy Communion - St Mary's
DESCRIPTION:
URL:https://www.stmaryschurchtickhill.com/event/10-45am-holy-communion-st-marys-14
LOCATION:St. Mary’s Church\, Tickhill\, St Mary's Church\, St Mary's Rd\, Tickhill\,\, Doncaster\, DN11 9LZ\, United Kingdom
END:VEVENT
BEGIN:VEVENT
DTSTART;TZID=Europe/London:20231028T140000
DTEND;TZID=Europe/London:20231028T173000
DTSTAMP:20260420T085310
CREATED:20230908T195345Z
LAST-MODIFIED:20231026T152744Z
UID:6260-1698501600-1698514200@www.stmaryschurchtickhill.com
SUMMARY:2.00PM - COMMUNITY SPONSORED WALK - now cancelled
DESCRIPTION:NOW CANCELLED \nFor more details – CLICK HERE
URL:https://www.stmaryschurchtickhill.com/event/2-00pm-community-sponsored-walk-2
LOCATION:St. Mary’s Church\, Tickhill\, St Mary's Church\, St Mary's Rd\, Tickhill\,\, Doncaster\, DN11 9LZ\, United Kingdom
END:VEVENT
BEGIN:VEVENT
DTSTART;TZID=Europe/London:20231025T100000
DTEND;TZID=Europe/London:20231025T110000
DTSTAMP:20260420T085310
CREATED:20230806T085707Z
LAST-MODIFIED:20230806T085707Z
UID:6068-1698228000-1698231600@www.stmaryschurchtickhill.com
SUMMARY:10.00am - Holy Communion - St Mary's
DESCRIPTION:
URL:https://www.stmaryschurchtickhill.com/event/10-00am-holy-communion-st-marys-16
LOCATION:St. Mary’s Church\, Tickhill\, St Mary's Church\, St Mary's Rd\, Tickhill\,\, Doncaster\, DN11 9LZ\, United Kingdom
END:VEVENT
BEGIN:VEVENT
DTSTART;TZID=Europe/London:20231022T180000
DTEND;TZID=Europe/London:20231022T190000
DTSTAMP:20260420T085310
CREATED:20230806T084953Z
LAST-MODIFIED:20231021T105156Z
UID:6048-1697997600-1698001200@www.stmaryschurchtickhill.com
SUMMARY:6.00pm - Evensong - St Mary's
DESCRIPTION:
URL:https://www.stmaryschurchtickhill.com/event/6-00pm-evening-prayer-st-marys-17
LOCATION:St. Mary’s Church\, Tickhill\, St Mary's Church\, St Mary's Rd\, Tickhill\,\, Doncaster\, DN11 9LZ\, United Kingdom
END:VEVENT
BEGIN:VEVENT
DTSTART;TZID=Europe/London:20231022T103000
DTEND;TZID=Europe/London:20231022T120000
DTSTAMP:20260420T085310
CREATED:20230806T084233Z
LAST-MODIFIED:20230806T084233Z
UID:6030-1697970600-1697976000@www.stmaryschurchtickhill.com
SUMMARY:10.45am - Holy Communion - St Mary's
DESCRIPTION:
URL:https://www.stmaryschurchtickhill.com/event/10-45am-holy-communion-st-marys-13
LOCATION:St. Mary’s Church\, Tickhill\, St Mary's Church\, St Mary's Rd\, Tickhill\,\, Doncaster\, DN11 9LZ\, United Kingdom
END:VEVENT
BEGIN:VEVENT
DTSTART;TZID=Europe/London:20231018T100000
DTEND;TZID=Europe/London:20231018T110000
DTSTAMP:20260420T085310
CREATED:20230806T085637Z
LAST-MODIFIED:20231015T090327Z
UID:6066-1697623200-1697626800@www.stmaryschurchtickhill.com
SUMMARY:10.00am - Morning Prayer - St Mary's
DESCRIPTION:
URL:https://www.stmaryschurchtickhill.com/event/10-00am-holy-communion-st-marys-15
LOCATION:St. Mary’s Church\, Tickhill\, St Mary's Church\, St Mary's Rd\, Tickhill\,\, Doncaster\, DN11 9LZ\, United Kingdom
END:VEVENT
BEGIN:VEVENT
DTSTART;TZID=Europe/London:20231015T180000
DTEND;TZID=Europe/London:20231015T190000
DTSTAMP:20260420T085310
CREATED:20230806T084918Z
LAST-MODIFIED:20230806T084918Z
UID:6046-1697392800-1697396400@www.stmaryschurchtickhill.com
SUMMARY:6.00pm - Holy Communion - St Mary's
DESCRIPTION:
URL:https://www.stmaryschurchtickhill.com/event/6-00pm-holy-communion-st-marys-2
LOCATION:St. Mary’s Church\, Tickhill\, St Mary's Church\, St Mary's Rd\, Tickhill\,\, Doncaster\, DN11 9LZ\, United Kingdom
END:VEVENT
BEGIN:VEVENT
DTSTART;TZID=Europe/London:20231015T103000
DTEND;TZID=Europe/London:20231015T120000
DTSTAMP:20260420T085310
CREATED:20230806T084154Z
LAST-MODIFIED:20231006T193118Z
UID:6028-1697365800-1697371200@www.stmaryschurchtickhill.com
SUMMARY:10.45am - Celtic Morning Prayer - St Mary's
DESCRIPTION:
URL:https://www.stmaryschurchtickhill.com/event/10-45am-holy-communion-st-marys-12
LOCATION:St. Mary’s Church\, Tickhill\, St Mary's Church\, St Mary's Rd\, Tickhill\,\, Doncaster\, DN11 9LZ\, United Kingdom
END:VEVENT
BEGIN:VEVENT
DTSTART;TZID=Europe/London:20231011T100000
DTEND;TZID=Europe/London:20231011T110000
DTSTAMP:20260420T085310
CREATED:20230806T085607Z
LAST-MODIFIED:20231006T192938Z
UID:6064-1697018400-1697022000@www.stmaryschurchtickhill.com
SUMMARY:10.00am - Morning Prayer - St Mary's
DESCRIPTION:
URL:https://www.stmaryschurchtickhill.com/event/10-00am-holy-communion-st-marys-14
LOCATION:St. Mary’s Church\, Tickhill\, St Mary's Church\, St Mary's Rd\, Tickhill\,\, Doncaster\, DN11 9LZ\, United Kingdom
END:VEVENT
BEGIN:VEVENT
DTSTART;TZID=Europe/London:20231008T180000
DTEND;TZID=Europe/London:20231008T190000
DTSTAMP:20260420T085310
CREATED:20230806T084827Z
LAST-MODIFIED:20230929T191053Z
UID:6044-1696788000-1696791600@www.stmaryschurchtickhill.com
SUMMARY:6.00pm - Celtic Evening Service - St Mary's
DESCRIPTION:
URL:https://www.stmaryschurchtickhill.com/event/6-00pm-evening-prayer-st-marys-16
LOCATION:St. Mary’s Church\, Tickhill\, St Mary's Church\, St Mary's Rd\, Tickhill\,\, Doncaster\, DN11 9LZ\, United Kingdom
END:VEVENT
BEGIN:VEVENT
DTSTART;TZID=Europe/London:20231008T160000
DTEND;TZID=Europe/London:20231008T170000
DTSTAMP:20260420T085310
CREATED:20230929T190923Z
LAST-MODIFIED:20230929T190923Z
UID:6300-1696780800-1696784400@www.stmaryschurchtickhill.com
SUMMARY:4.00pm - Pet Service - 'One of the Family'
DESCRIPTION:
URL:https://www.stmaryschurchtickhill.com/event/4-00pm-pet-service-one-of-the-family
LOCATION:St. Mary’s Church\, Tickhill\, St Mary's Church\, St Mary's Rd\, Tickhill\,\, Doncaster\, DN11 9LZ\, United Kingdom
END:VEVENT
BEGIN:VEVENT
DTSTART;TZID=Europe/London:20231008T153000
DTEND;TZID=Europe/London:20231008T170000
DTSTAMP:20260420T085310
CREATED:20230929T191158Z
LAST-MODIFIED:20230929T191158Z
UID:6304-1696779000-1696784400@www.stmaryschurchtickhill.com
SUMMARY:3.30pm Harvest Service - St Winifrid's
DESCRIPTION:
URL:https://www.stmaryschurchtickhill.com/event/3-30pm-harvest-service-st-winifrids
LOCATION:St Winifrid’s Stainton
END:VEVENT
BEGIN:VEVENT
DTSTART;TZID=Europe/London:20231008T103000
DTEND;TZID=Europe/London:20231008T120000
DTSTAMP:20260420T085310
CREATED:20230806T084109Z
LAST-MODIFIED:20230806T084109Z
UID:6026-1696761000-1696766400@www.stmaryschurchtickhill.com
SUMMARY:10.45am - Holy Communion - St Mary's
DESCRIPTION:
URL:https://www.stmaryschurchtickhill.com/event/10-45am-holy-communion-st-marys-11
LOCATION:St. Mary’s Church\, Tickhill\, St Mary's Church\, St Mary's Rd\, Tickhill\,\, Doncaster\, DN11 9LZ\, United Kingdom
END:VEVENT
BEGIN:VEVENT
DTSTART;TZID=Europe/London:20231008T080000
DTEND;TZID=Europe/London:20231008T090000
DTSTAMP:20260420T085310
CREATED:20230806T090035Z
LAST-MODIFIED:20230806T090035Z
UID:6074-1696752000-1696755600@www.stmaryschurchtickhill.com
SUMMARY:8.00am - Holy Communion - St Mary's
DESCRIPTION:
URL:https://www.stmaryschurchtickhill.com/event/8-00am-holy-communion-st-marys-5
LOCATION:St. Mary’s Church\, Tickhill\, St Mary's Church\, St Mary's Rd\, Tickhill\,\, Doncaster\, DN11 9LZ\, United Kingdom
END:VEVENT
BEGIN:VEVENT
DTSTART;TZID=Europe/London:20231004T100000
DTEND;TZID=Europe/London:20231004T110000
DTSTAMP:20260420T085310
CREATED:20230806T085537Z
LAST-MODIFIED:20230806T085537Z
UID:6062-1696413600-1696417200@www.stmaryschurchtickhill.com
SUMMARY:10.00am - Holy Communion - St Mary's
DESCRIPTION:
URL:https://www.stmaryschurchtickhill.com/event/10-00am-holy-communion-st-marys-13
LOCATION:St. Mary’s Church\, Tickhill\, St Mary's Church\, St Mary's Rd\, Tickhill\,\, Doncaster\, DN11 9LZ\, United Kingdom
END:VEVENT
BEGIN:VEVENT
DTSTART;TZID=Europe/London:20231001T180000
DTEND;TZID=Europe/London:20231001T190000
DTSTAMP:20260420T085311
CREATED:20230806T084750Z
LAST-MODIFIED:20230806T084750Z
UID:6042-1696183200-1696186800@www.stmaryschurchtickhill.com
SUMMARY:6.00pm - Evening Prayer - St Mary's
DESCRIPTION:
URL:https://www.stmaryschurchtickhill.com/event/6-00pm-evening-prayer-st-marys-15
LOCATION:St. Mary’s Church\, Tickhill\, St Mary's Church\, St Mary's Rd\, Tickhill\,\, Doncaster\, DN11 9LZ\, United Kingdom
END:VEVENT
BEGIN:VEVENT
DTSTART;TZID=Europe/London:20231001T160000
DTEND;TZID=Europe/London:20231001T170000
DTSTAMP:20260420T085311
CREATED:20230806T085858Z
LAST-MODIFIED:20230806T085858Z
UID:6070-1696176000-1696179600@www.stmaryschurchtickhill.com
SUMMARY:4.00pm - Church Done Differently - St Mary's
DESCRIPTION:
URL:https://www.stmaryschurchtickhill.com/event/4-00pm-church-done-differently-st-marys-2
LOCATION:St. Mary’s Church\, Tickhill\, St Mary's Church\, St Mary's Rd\, Tickhill\,\, Doncaster\, DN11 9LZ\, United Kingdom
END:VEVENT
BEGIN:VEVENT
DTSTART;TZID=Europe/London:20231001T123000
DTEND;TZID=Europe/London:20231001T143000
DTSTAMP:20260420T085311
CREATED:20230828T163724Z
LAST-MODIFIED:20230828T163724Z
UID:6157-1696163400-1696170600@www.stmaryschurchtickhill.com
SUMMARY:12.30pm - 2.30pm - An Exhibition of Art by Tickhill Artists
DESCRIPTION:For more details – CLICK HERE
URL:https://www.stmaryschurchtickhill.com/event/12-30pm-2-30pm-an-exhibition-of-art-by-tickhill-artists
LOCATION:St. Mary’s Church\, Tickhill\, St Mary's Church\, St Mary's Rd\, Tickhill\,\, Doncaster\, DN11 9LZ\, United Kingdom
END:VEVENT
BEGIN:VEVENT
DTSTART;TZID=Europe/London:20231001T103000
DTEND;TZID=Europe/London:20231001T120000
DTSTAMP:20260420T085311
CREATED:20230806T084036Z
LAST-MODIFIED:20230806T084036Z
UID:6024-1696156200-1696161600@www.stmaryschurchtickhill.com
SUMMARY:10.45am - Holy Communion - St Mary's
DESCRIPTION:
URL:https://www.stmaryschurchtickhill.com/event/10-45am-holy-communion-st-marys-10
LOCATION:St. Mary’s Church\, Tickhill\, St Mary's Church\, St Mary's Rd\, Tickhill\,\, Doncaster\, DN11 9LZ\, United Kingdom
END:VEVENT
BEGIN:VEVENT
DTSTART;TZID=Europe/London:20231001T090000
DTEND;TZID=Europe/London:20231001T100000
DTSTAMP:20260420T085311
CREATED:20230806T090239Z
LAST-MODIFIED:20230806T090239Z
UID:6078-1696150800-1696154400@www.stmaryschurchtickhill.com
SUMMARY:9.15am - Holy Communion - St Winifrid's
DESCRIPTION:
URL:https://www.stmaryschurchtickhill.com/event/9-15am-holy-communion-st-winifrids-3
LOCATION:St Winifrid’s Stainton
END:VEVENT
BEGIN:VEVENT
DTSTART;TZID=Europe/London:20230930T100000
DTEND;TZID=Europe/London:20230930T163000
DTSTAMP:20260420T085311
CREATED:20230828T163100Z
LAST-MODIFIED:20230828T163100Z
UID:6153-1696068000-1696091400@www.stmaryschurchtickhill.com
SUMMARY:10.00am - 4.30pm - An Exhibition of Art by Tickhill Artists
DESCRIPTION:For more details – CLICK HERE
URL:https://www.stmaryschurchtickhill.com/event/10-00am-4-30pm-an-exhibition-of-art-by-tickhill-artists
LOCATION:St. Mary’s Church\, Tickhill\, St Mary's Church\, St Mary's Rd\, Tickhill\,\, Doncaster\, DN11 9LZ\, United Kingdom
END:VEVENT
BEGIN:VEVENT
DTSTART;TZID=Europe/London:20230927T100000
DTEND;TZID=Europe/London:20230927T110000
DTSTAMP:20260420T085311
CREATED:20230806T085506Z
LAST-MODIFIED:20230806T085506Z
UID:6060-1695808800-1695812400@www.stmaryschurchtickhill.com
SUMMARY:10.00am - Holy Communion - St Mary's
DESCRIPTION:
URL:https://www.stmaryschurchtickhill.com/event/10-00am-holy-communion-st-marys-12
LOCATION:St. Mary’s Church\, Tickhill\, St Mary's Church\, St Mary's Rd\, Tickhill\,\, Doncaster\, DN11 9LZ\, United Kingdom
END:VEVENT
BEGIN:VEVENT
DTSTART;TZID=Europe/London:20230924T180000
DTEND;TZID=Europe/London:20230924T190000
DTSTAMP:20260420T085311
CREATED:20230806T084718Z
LAST-MODIFIED:20230922T194329Z
UID:6040-1695578400-1695582000@www.stmaryschurchtickhill.com
SUMMARY:6.00pm - Harvest Evensong - St Mary's
DESCRIPTION:
URL:https://www.stmaryschurchtickhill.com/event/6-00pm-evening-prayer-st-marys-14
LOCATION:St. Mary’s Church\, Tickhill\, St Mary's Church\, St Mary's Rd\, Tickhill\,\, Doncaster\, DN11 9LZ\, United Kingdom
END:VEVENT
END:VCALENDAR