BEGIN:VCALENDAR
VERSION:2.0
PRODID:-//St Mary&#039;s Church Tickhill - ECPv6.15.20//NONSGML v1.0//EN
CALSCALE:GREGORIAN
METHOD:PUBLISH
X-WR-CALNAME:St Mary&#039;s Church Tickhill
X-ORIGINAL-URL:https://www.stmaryschurchtickhill.com
X-WR-CALDESC:Events for St Mary&#039;s Church Tickhill
REFRESH-INTERVAL;VALUE=DURATION:PT1H
X-Robots-Tag:noindex
X-PUBLISHED-TTL:PT1H
BEGIN:VTIMEZONE
TZID:Europe/London
BEGIN:DAYLIGHT
TZOFFSETFROM:+0000
TZOFFSETTO:+0100
TZNAME:BST
DTSTART:20220327T010000
END:DAYLIGHT
BEGIN:STANDARD
TZOFFSETFROM:+0100
TZOFFSETTO:+0000
TZNAME:GMT
DTSTART:20221030T010000
END:STANDARD
BEGIN:DAYLIGHT
TZOFFSETFROM:+0000
TZOFFSETTO:+0100
TZNAME:BST
DTSTART:20230326T010000
END:DAYLIGHT
BEGIN:STANDARD
TZOFFSETFROM:+0100
TZOFFSETTO:+0000
TZNAME:GMT
DTSTART:20231029T010000
END:STANDARD
BEGIN:DAYLIGHT
TZOFFSETFROM:+0000
TZOFFSETTO:+0100
TZNAME:BST
DTSTART:20240331T010000
END:DAYLIGHT
BEGIN:STANDARD
TZOFFSETFROM:+0100
TZOFFSETTO:+0000
TZNAME:GMT
DTSTART:20241027T010000
END:STANDARD
END:VTIMEZONE
BEGIN:VEVENT
DTSTART;TZID=Europe/London:20230716T103000
DTEND;TZID=Europe/London:20230716T120000
DTSTAMP:20260422T225340
CREATED:20230528T082552Z
LAST-MODIFIED:20230709T090343Z
UID:5773-1689503400-1689508800@www.stmaryschurchtickhill.com
SUMMARY:10.45 - Celtic Morning Prayer - St Mary's
DESCRIPTION:
URL:https://www.stmaryschurchtickhill.com/event/10-45-holy-communion-st-marys-3
LOCATION:St. Mary’s Church\, Tickhill\, St Mary's Church\, St Mary's Rd\, Tickhill\,\, Doncaster\, DN11 9LZ\, United Kingdom
END:VEVENT
BEGIN:VEVENT
DTSTART;TZID=Europe/London:20230714T090000
DTEND;TZID=Europe/London:20230714T140000
DTSTAMP:20260422T225340
CREATED:20230701T095544Z
LAST-MODIFIED:20230701T095700Z
UID:5936-1689325200-1689343200@www.stmaryschurchtickhill.com
SUMMARY:9.00am - 2.00pm - Retreat Day - led by Hannah Sandoval - St John's Church Wadworth
DESCRIPTION:For more details – CLICK HERE
URL:https://www.stmaryschurchtickhill.com/event/9-00am-2-00pm-retreat-day-led-by-hannah-sandoval-st-johns-church-wadworth
END:VEVENT
BEGIN:VEVENT
DTSTART;TZID=Europe/London:20230712T100000
DTEND;TZID=Europe/London:20230712T110000
DTSTAMP:20260422T225340
CREATED:20230528T083529Z
LAST-MODIFIED:20230528T083529Z
UID:5793-1689156000-1689159600@www.stmaryschurchtickhill.com
SUMMARY:10.00am - Holy Communion
DESCRIPTION:
URL:https://www.stmaryschurchtickhill.com/event/10-00am-holy-communion-10
LOCATION:St. Mary’s Church\, Tickhill\, St Mary's Church\, St Mary's Rd\, Tickhill\,\, Doncaster\, DN11 9LZ\, United Kingdom
END:VEVENT
BEGIN:VEVENT
DTSTART;TZID=Europe/London:20230709T180000
DTEND;TZID=Europe/London:20230709T190000
DTSTAMP:20260422T225340
CREATED:20230528T083005Z
LAST-MODIFIED:20230701T100107Z
UID:5781-1688925600-1688929200@www.stmaryschurchtickhill.com
SUMMARY:6.00pm - Celtic Evening Service - St Mary's
DESCRIPTION:
URL:https://www.stmaryschurchtickhill.com/event/6-00pm-evening-prayer-st-marys-5
LOCATION:St. Mary’s Church\, Tickhill\, St Mary's Church\, St Mary's Rd\, Tickhill\,\, Doncaster\, DN11 9LZ\, United Kingdom
END:VEVENT
BEGIN:VEVENT
DTSTART;TZID=Europe/London:20230709T103000
DTEND;TZID=Europe/London:20230709T120000
DTSTAMP:20260422T225340
CREATED:20230528T082512Z
LAST-MODIFIED:20230528T082512Z
UID:5771-1688898600-1688904000@www.stmaryschurchtickhill.com
SUMMARY:10.45 - Holy Communion - St Mary's
DESCRIPTION:
URL:https://www.stmaryschurchtickhill.com/event/10-45-holy-communion-st-marys-2
LOCATION:St. Mary’s Church\, Tickhill\, St Mary's Church\, St Mary's Rd\, Tickhill\,\, Doncaster\, DN11 9LZ\, United Kingdom
END:VEVENT
BEGIN:VEVENT
DTSTART;TZID=Europe/London:20230709T080000
DTEND;TZID=Europe/London:20230709T090000
DTSTAMP:20260422T225340
CREATED:20230701T095922Z
LAST-MODIFIED:20230701T095936Z
UID:5939-1688889600-1688893200@www.stmaryschurchtickhill.com
SUMMARY:8.00am - Holy Communion - St Mary's
DESCRIPTION:
URL:https://www.stmaryschurchtickhill.com/event/8-00am-holy-communion-st-marys-2
LOCATION:St. Mary’s Church\, Tickhill\, St Mary's Church\, St Mary's Rd\, Tickhill\,\, Doncaster\, DN11 9LZ\, United Kingdom
END:VEVENT
BEGIN:VEVENT
DTSTART;TZID=Europe/London:20230705T100000
DTEND;TZID=Europe/London:20230705T110000
DTSTAMP:20260422T225340
CREATED:20230528T083443Z
LAST-MODIFIED:20230701T095252Z
UID:5791-1688551200-1688554800@www.stmaryschurchtickhill.com
SUMMARY:10.00am - Morning Prayer
DESCRIPTION:
URL:https://www.stmaryschurchtickhill.com/event/10-00am-holy-communion-9
LOCATION:St. Mary’s Church\, Tickhill\, St Mary's Church\, St Mary's Rd\, Tickhill\,\, Doncaster\, DN11 9LZ\, United Kingdom
END:VEVENT
BEGIN:VEVENT
DTSTART;TZID=Europe/London:20230702T180000
DTEND;TZID=Europe/London:20230702T190000
DTSTAMP:20260422T225340
CREATED:20230528T082933Z
LAST-MODIFIED:20230528T082933Z
UID:5779-1688320800-1688324400@www.stmaryschurchtickhill.com
SUMMARY:6.00pm - Evening Prayer - St Mary's
DESCRIPTION:
URL:https://www.stmaryschurchtickhill.com/event/6-00pm-evening-prayer-st-marys-4
LOCATION:St. Mary’s Church\, Tickhill\, St Mary's Church\, St Mary's Rd\, Tickhill\,\, Doncaster\, DN11 9LZ\, United Kingdom
END:VEVENT
BEGIN:VEVENT
DTSTART;TZID=Europe/London:20230702T160000
DTEND;TZID=Europe/London:20230702T170000
DTSTAMP:20260422T225340
CREATED:20230528T083357Z
LAST-MODIFIED:20230528T083357Z
UID:5789-1688313600-1688317200@www.stmaryschurchtickhill.com
SUMMARY:4.00pm - 'Church Done Differently' - St Mary's
DESCRIPTION:
URL:https://www.stmaryschurchtickhill.com/event/4-00pm-church-done-differently-st-marys
LOCATION:St. Mary’s Church\, Tickhill\, St Mary's Church\, St Mary's Rd\, Tickhill\,\, Doncaster\, DN11 9LZ\, United Kingdom
END:VEVENT
BEGIN:VEVENT
DTSTART;TZID=Europe/London:20230702T103000
DTEND;TZID=Europe/London:20230702T120000
DTSTAMP:20260422T225340
CREATED:20230528T082437Z
LAST-MODIFIED:20230528T082437Z
UID:5769-1688293800-1688299200@www.stmaryschurchtickhill.com
SUMMARY:10.45 - Holy Communion - St Mary's
DESCRIPTION:
URL:https://www.stmaryschurchtickhill.com/event/10-45-holy-communion-st-marys
LOCATION:St. Mary’s Church\, Tickhill\, St Mary's Church\, St Mary's Rd\, Tickhill\,\, Doncaster\, DN11 9LZ\, United Kingdom
END:VEVENT
BEGIN:VEVENT
DTSTART;TZID=Europe/London:20230702T090000
DTEND;TZID=Europe/London:20230702T100000
DTSTAMP:20260422T225340
CREATED:20230528T083759Z
LAST-MODIFIED:20230528T083759Z
UID:5799-1688288400-1688292000@www.stmaryschurchtickhill.com
SUMMARY:9.15am - Holy Communion - St Winifrid's Stainton
DESCRIPTION:
URL:https://www.stmaryschurchtickhill.com/event/9-15am-holy-communion-st-winifrids-stainton
LOCATION:St Winifrid’s Stainton
END:VEVENT
BEGIN:VEVENT
DTSTART;TZID=Europe/London:20230701T150000
DTEND;TZID=Europe/London:20230701T170000
DTSTAMP:20260422T225340
CREATED:20230521T090019Z
LAST-MODIFIED:20230529T183256Z
UID:5744-1688223600-1688230800@www.stmaryschurchtickhill.com
SUMMARY:3.00pm - Organ Recital by Chris Totney and Afternoon Tea
DESCRIPTION:For more information\, please CLICK HERE
URL:https://www.stmaryschurchtickhill.com/event/3-00pm-organ-recital-by-chris-totney-and-afternoon-tea
LOCATION:St. Mary’s Church\, Tickhill\, St Mary's Church\, St Mary's Rd\, Tickhill\,\, Doncaster\, DN11 9LZ\, United Kingdom
CATEGORIES:WARM AND WELCOMING CHURCH
END:VEVENT
BEGIN:VEVENT
DTSTART;TZID=Europe/London:20230628T100000
DTEND;TZID=Europe/London:20230628T110000
DTSTAMP:20260422T225340
CREATED:20230508T134150Z
LAST-MODIFIED:20230508T134150Z
UID:5681-1687946400-1687950000@www.stmaryschurchtickhill.com
SUMMARY:10.00 - Holy Communion - St Mary's
DESCRIPTION:
URL:https://www.stmaryschurchtickhill.com/event/10-00-holy-communion-st-marys-4
LOCATION:St. Mary’s Church\, Tickhill\, St Mary's Church\, St Mary's Rd\, Tickhill\,\, Doncaster\, DN11 9LZ\, United Kingdom
END:VEVENT
BEGIN:VEVENT
DTSTART;TZID=Europe/London:20230625T180000
DTEND;TZID=Europe/London:20230625T190000
DTSTAMP:20260422T225340
CREATED:20230508T133143Z
LAST-MODIFIED:20230617T093652Z
UID:5667-1687716000-1687719600@www.stmaryschurchtickhill.com
SUMMARY:6.00 pm - Choral Evensong - St Mary's
DESCRIPTION:
URL:https://www.stmaryschurchtickhill.com/event/6-00-pm-evening-prayer-st-marys-3
LOCATION:St. Mary’s Church\, Tickhill\, St Mary's Church\, St Mary's Rd\, Tickhill\,\, Doncaster\, DN11 9LZ\, United Kingdom
END:VEVENT
BEGIN:VEVENT
DTSTART;TZID=Europe/London:20230625T103000
DTEND;TZID=Europe/London:20230625T120000
DTSTAMP:20260422T225340
CREATED:20230508T132618Z
LAST-MODIFIED:20230508T132618Z
UID:5656-1687689000-1687694400@www.stmaryschurchtickhill.com
SUMMARY:10.45 am - Sung Parish Eucharist - St Mary's
DESCRIPTION:
URL:https://www.stmaryschurchtickhill.com/event/10-45-am-sung-parish-eucharist-st-marys-3
LOCATION:St. Mary’s Church\, Tickhill\, St Mary's Church\, St Mary's Rd\, Tickhill\,\, Doncaster\, DN11 9LZ\, United Kingdom
END:VEVENT
BEGIN:VEVENT
DTSTART;TZID=Europe/London:20230621T100000
DTEND;TZID=Europe/London:20230621T110000
DTSTAMP:20260422T225340
CREATED:20230508T134120Z
LAST-MODIFIED:20230617T093534Z
UID:5679-1687341600-1687345200@www.stmaryschurchtickhill.com
SUMMARY:10.00 - Morning Prayer - St Mary's
DESCRIPTION:
URL:https://www.stmaryschurchtickhill.com/event/10-00-holy-communion-st-marys-3
LOCATION:St. Mary’s Church\, Tickhill\, St Mary's Church\, St Mary's Rd\, Tickhill\,\, Doncaster\, DN11 9LZ\, United Kingdom
END:VEVENT
BEGIN:VEVENT
DTSTART;TZID=Europe/London:20230619T140000
DTEND;TZID=Europe/London:20230619T153000
DTSTAMP:20260422T225340
CREATED:20230415T111142Z
LAST-MODIFIED:20230415T111142Z
UID:5617-1687183200-1687188600@www.stmaryschurchtickhill.com
SUMMARY:2.00pm - Let's find out more about the Old Testament - Parish Room
DESCRIPTION:
URL:https://www.stmaryschurchtickhill.com/event/2-00pm-lets-find-out-more-about-the-old-testament-parish-room-5
LOCATION:Parish Room\, Tickhill Parish Room\, Northgate\, Tickhill\, Doncaster\, DN11 9HZ\, United Kingdom
END:VEVENT
BEGIN:VEVENT
DTSTART;TZID=Europe/London:20230618T180000
DTEND;TZID=Europe/London:20230618T190000
DTSTAMP:20260422T225340
CREATED:20230508T133422Z
LAST-MODIFIED:20230609T195457Z
UID:5669-1687111200-1687114800@www.stmaryschurchtickhill.com
SUMMARY:6.00 pm - Said Communion - St Mary's
DESCRIPTION:
URL:https://www.stmaryschurchtickhill.com/event/6-00-pm-holy-communion-st-marys-2
LOCATION:St. Mary’s Church\, Tickhill\, St Mary's Church\, St Mary's Rd\, Tickhill\,\, Doncaster\, DN11 9LZ\, United Kingdom
END:VEVENT
BEGIN:VEVENT
DTSTART;TZID=Europe/London:20230618T103000
DTEND;TZID=Europe/London:20230618T120000
DTSTAMP:20260422T225340
CREATED:20230508T132521Z
LAST-MODIFIED:20230617T093416Z
UID:5654-1687084200-1687089600@www.stmaryschurchtickhill.com
SUMMARY:10.45 am - Celtic Morning Service - St Mary's
DESCRIPTION:
URL:https://www.stmaryschurchtickhill.com/event/10-45-am-morning-praise-st-marys
LOCATION:St. Mary’s Church\, Tickhill\, St Mary's Church\, St Mary's Rd\, Tickhill\,\, Doncaster\, DN11 9LZ\, United Kingdom
END:VEVENT
BEGIN:VEVENT
DTSTART;TZID=Europe/London:20230617T130000
DTEND;TZID=Europe/London:20230617T160000
DTSTAMP:20260422T225340
CREATED:20230602T193025Z
LAST-MODIFIED:20230603T115555Z
UID:5829-1687006800-1687017600@www.stmaryschurchtickhill.com
SUMMARY:1.00pm - Summer Fayre
DESCRIPTION:
URL:https://www.stmaryschurchtickhill.com/event/10-00-summer-fayre
LOCATION:St. Mary’s Church\, Tickhill\, St Mary's Church\, St Mary's Rd\, Tickhill\,\, Doncaster\, DN11 9LZ\, United Kingdom
END:VEVENT
BEGIN:VEVENT
DTSTART;TZID=Europe/London:20230614T100000
DTEND;TZID=Europe/London:20230614T110000
DTSTAMP:20260422T225340
CREATED:20230508T134041Z
LAST-MODIFIED:20230609T195303Z
UID:5677-1686736800-1686740400@www.stmaryschurchtickhill.com
SUMMARY:10.00 - Morning Prayer - St Mary's
DESCRIPTION:
URL:https://www.stmaryschurchtickhill.com/event/10-00-holy-communion-st-marys-2
LOCATION:St. Mary’s Church\, Tickhill\, St Mary's Church\, St Mary's Rd\, Tickhill\,\, Doncaster\, DN11 9LZ\, United Kingdom
END:VEVENT
BEGIN:VEVENT
DTSTART;TZID=Europe/London:20230612T140000
DTEND;TZID=Europe/London:20230612T153000
DTSTAMP:20260422T225340
CREATED:20230415T111104Z
LAST-MODIFIED:20230415T111104Z
UID:5615-1686578400-1686583800@www.stmaryschurchtickhill.com
SUMMARY:2.00pm - Let's find out more about the Old Testament - Parish Room
DESCRIPTION:
URL:https://www.stmaryschurchtickhill.com/event/2-00pm-lets-find-out-more-about-the-old-testament-parish-room-4
LOCATION:Parish Room\, Tickhill Parish Room\, Northgate\, Tickhill\, Doncaster\, DN11 9HZ\, United Kingdom
END:VEVENT
BEGIN:VEVENT
DTSTART;TZID=Europe/London:20230611T180000
DTEND;TZID=Europe/London:20230611T190000
DTSTAMP:20260422T225340
CREATED:20230508T133007Z
LAST-MODIFIED:20230609T195209Z
UID:5663-1686506400-1686510000@www.stmaryschurchtickhill.com
SUMMARY:6.00 pm - Celtic Night Prayer - St Mary's
DESCRIPTION:
URL:https://www.stmaryschurchtickhill.com/event/6-00-pm-evening-prayer-st-marys-2
LOCATION:St. Mary’s Church\, Tickhill\, St Mary's Church\, St Mary's Rd\, Tickhill\,\, Doncaster\, DN11 9LZ\, United Kingdom
END:VEVENT
BEGIN:VEVENT
DTSTART;TZID=Europe/London:20230611T103000
DTEND;TZID=Europe/London:20230611T120000
DTSTAMP:20260422T225340
CREATED:20230508T132420Z
LAST-MODIFIED:20230508T132420Z
UID:5652-1686479400-1686484800@www.stmaryschurchtickhill.com
SUMMARY:10.45 am - Sung Parish Eucharist - St Mary's
DESCRIPTION:
URL:https://www.stmaryschurchtickhill.com/event/10-45-am-sung-parish-eucharist-st-marys-2
LOCATION:St. Mary’s Church\, Tickhill\, St Mary's Church\, St Mary's Rd\, Tickhill\,\, Doncaster\, DN11 9LZ\, United Kingdom
END:VEVENT
BEGIN:VEVENT
DTSTART;TZID=Europe/London:20230611T080000
DTEND;TZID=Europe/London:20230611T090000
DTSTAMP:20260422T225340
CREATED:20230508T135705Z
LAST-MODIFIED:20230508T135705Z
UID:5690-1686470400-1686474000@www.stmaryschurchtickhill.com
SUMMARY:8.00 am - Holy Communion - St Mary's
DESCRIPTION:
URL:https://www.stmaryschurchtickhill.com/event/8-00-am-holy-communion-st-marys-2
END:VEVENT
BEGIN:VEVENT
DTSTART;TZID=Europe/London:20230607T100000
DTEND;TZID=Europe/London:20230607T110000
DTSTAMP:20260422T225340
CREATED:20230508T133950Z
LAST-MODIFIED:20230508T133950Z
UID:5675-1686132000-1686135600@www.stmaryschurchtickhill.com
SUMMARY:10.00 - Holy Communion - St Mary's
DESCRIPTION:
URL:https://www.stmaryschurchtickhill.com/event/10-00-holy-communion-st-marys
LOCATION:St. Mary’s Church\, Tickhill\, St Mary's Church\, St Mary's Rd\, Tickhill\,\, Doncaster\, DN11 9LZ\, United Kingdom
END:VEVENT
BEGIN:VEVENT
DTSTART;TZID=Europe/London:20230605T140000
DTEND;TZID=Europe/London:20230605T153000
DTSTAMP:20260422T225340
CREATED:20230415T110952Z
LAST-MODIFIED:20230415T110952Z
UID:5613-1685973600-1685979000@www.stmaryschurchtickhill.com
SUMMARY:2.00pm - Let's find out more about the Old Testament - Parish Room
DESCRIPTION:
URL:https://www.stmaryschurchtickhill.com/event/2-00pm-lets-find-out-more-about-the-old-testament-parish-room-3
LOCATION:Parish Room\, Tickhill Parish Room\, Northgate\, Tickhill\, Doncaster\, DN11 9HZ\, United Kingdom
END:VEVENT
BEGIN:VEVENT
DTSTART;TZID=Europe/London:20230604T180000
DTEND;TZID=Europe/London:20230604T190000
DTSTAMP:20260422T225340
CREATED:20230508T132837Z
LAST-MODIFIED:20230508T132929Z
UID:5658-1685901600-1685905200@www.stmaryschurchtickhill.com
SUMMARY:6.00 pm - Evening Prayer - St Mary's
DESCRIPTION:
URL:https://www.stmaryschurchtickhill.com/event/6-00-pm-evening-prayer
LOCATION:St. Mary’s Church\, Tickhill\, St Mary's Church\, St Mary's Rd\, Tickhill\,\, Doncaster\, DN11 9LZ\, United Kingdom
END:VEVENT
BEGIN:VEVENT
DTSTART;TZID=Europe/London:20230604T160000
DTEND;TZID=Europe/London:20230604T170000
DTSTAMP:20260422T225340
CREATED:20230508T133759Z
LAST-MODIFIED:20230508T133759Z
UID:5671-1685894400-1685898000@www.stmaryschurchtickhill.com
SUMMARY:4.00 pm - 'Church Done Differently' - St Mary's
DESCRIPTION:
URL:https://www.stmaryschurchtickhill.com/event/4-00-pm-church-done-differently-st-marys-2
LOCATION:St. Mary’s Church\, Tickhill\, St Mary's Church\, St Mary's Rd\, Tickhill\,\, Doncaster\, DN11 9LZ\, United Kingdom
END:VEVENT
BEGIN:VEVENT
DTSTART;TZID=Europe/London:20230604T103000
DTEND;TZID=Europe/London:20230604T120000
DTSTAMP:20260422T225340
CREATED:20230508T132344Z
LAST-MODIFIED:20230508T132344Z
UID:5650-1685874600-1685880000@www.stmaryschurchtickhill.com
SUMMARY:10.45 am - Sung Parish Eucharist - St Mary's
DESCRIPTION:
URL:https://www.stmaryschurchtickhill.com/event/10-45-am-sung-parish-eucharist-st-marys
LOCATION:St. Mary’s Church\, Tickhill\, St Mary's Church\, St Mary's Rd\, Tickhill\,\, Doncaster\, DN11 9LZ\, United Kingdom
END:VEVENT
END:VCALENDAR