BEGIN:VCALENDAR
VERSION:2.0
PRODID:-//St Mary&#039;s Church Tickhill - ECPv6.15.20//NONSGML v1.0//EN
CALSCALE:GREGORIAN
METHOD:PUBLISH
X-WR-CALNAME:St Mary&#039;s Church Tickhill
X-ORIGINAL-URL:https://www.stmaryschurchtickhill.com
X-WR-CALDESC:Events for St Mary&#039;s Church Tickhill
REFRESH-INTERVAL;VALUE=DURATION:PT1H
X-Robots-Tag:noindex
X-PUBLISHED-TTL:PT1H
BEGIN:VTIMEZONE
TZID:Europe/London
BEGIN:DAYLIGHT
TZOFFSETFROM:+0000
TZOFFSETTO:+0100
TZNAME:BST
DTSTART:20220327T010000
END:DAYLIGHT
BEGIN:STANDARD
TZOFFSETFROM:+0100
TZOFFSETTO:+0000
TZNAME:GMT
DTSTART:20221030T010000
END:STANDARD
BEGIN:DAYLIGHT
TZOFFSETFROM:+0000
TZOFFSETTO:+0100
TZNAME:BST
DTSTART:20230326T010000
END:DAYLIGHT
BEGIN:STANDARD
TZOFFSETFROM:+0100
TZOFFSETTO:+0000
TZNAME:GMT
DTSTART:20231029T010000
END:STANDARD
BEGIN:DAYLIGHT
TZOFFSETFROM:+0000
TZOFFSETTO:+0100
TZNAME:BST
DTSTART:20240331T010000
END:DAYLIGHT
BEGIN:STANDARD
TZOFFSETFROM:+0100
TZOFFSETTO:+0000
TZNAME:GMT
DTSTART:20241027T010000
END:STANDARD
END:VTIMEZONE
BEGIN:VEVENT
DTSTART;TZID=Europe/London:20230416T103000
DTEND;TZID=Europe/London:20230416T120000
DTSTAMP:20260422T235115
CREATED:20230320T162930Z
LAST-MODIFIED:20230415T110444Z
UID:5450-1681641000-1681646400@www.stmaryschurchtickhill.com
SUMMARY:10.45 - Morning Praise - St Mary's Tickhill
DESCRIPTION:
URL:https://www.stmaryschurchtickhill.com/event/10-45-holy-communion-st-marys-tickhill-3
LOCATION:St. Mary’s Church\, Tickhill\, St Mary's Church\, St Mary's Rd\, Tickhill\,\, Doncaster\, DN11 9LZ\, United Kingdom
END:VEVENT
BEGIN:VEVENT
DTSTART;TZID=Europe/London:20230412T173000
DTEND;TZID=Europe/London:20230412T183000
DTSTAMP:20260422T235115
CREATED:20230406T155147Z
LAST-MODIFIED:20230406T155147Z
UID:5570-1681320600-1681324200@www.stmaryschurchtickhill.com
SUMMARY:5.45pm - Contemplative Prayer - St Luke's Chapel
DESCRIPTION:
URL:https://www.stmaryschurchtickhill.com/event/5-45pm-contemplative-prayer-st-lukes-chapel-11
LOCATION:St. Mary’s Church\, Tickhill\, St Mary's Church\, St Mary's Rd\, Tickhill\,\, Doncaster\, DN11 9LZ\, United Kingdom
END:VEVENT
BEGIN:VEVENT
DTSTART;TZID=Europe/London:20230412T100000
DTEND;TZID=Europe/London:20230412T110000
DTSTAMP:20260422T235115
CREATED:20230320T165052Z
LAST-MODIFIED:20230320T165052Z
UID:5476-1681293600-1681297200@www.stmaryschurchtickhill.com
SUMMARY:10.00am - Holy Communion - St Mary's
DESCRIPTION:
URL:https://www.stmaryschurchtickhill.com/event/10-00am-holy-communion-st-marys
LOCATION:St. Mary’s Church\, Tickhill\, St Mary's Church\, St Mary's Rd\, Tickhill\,\, Doncaster\, DN11 9LZ\, United Kingdom
END:VEVENT
BEGIN:VEVENT
DTSTART;TZID=Europe/London:20230409T180000
DTEND;TZID=Europe/London:20230409T190000
DTSTAMP:20260422T235115
CREATED:20230320T163726Z
LAST-MODIFIED:20230406T154737Z
UID:5460-1681063200-1681066800@www.stmaryschurchtickhill.com
SUMMARY:6.00pm - Celtic Evening Service - St Mary's
DESCRIPTION:
URL:https://www.stmaryschurchtickhill.com/event/6-00pm-evening-prayer-st-marys-2
END:VEVENT
BEGIN:VEVENT
DTSTART;TZID=Europe/London:20230409T153000
DTEND;TZID=Europe/London:20230409T163000
DTSTAMP:20260422T235115
CREATED:20230406T154931Z
LAST-MODIFIED:20230406T154931Z
UID:5567-1681054200-1681057800@www.stmaryschurchtickhill.com
SUMMARY:3.30pm - Family Service and Easter 'Peg Hunt' - St Winifrid's
DESCRIPTION:
URL:https://www.stmaryschurchtickhill.com/event/3-30pm-family-service-and-easter-peg-hunt-st-winifrids
LOCATION:St Winifrid’s Stainton
END:VEVENT
BEGIN:VEVENT
DTSTART;TZID=Europe/London:20230409T103000
DTEND;TZID=Europe/London:20230409T120000
DTSTAMP:20260422T235115
CREATED:20230320T162842Z
LAST-MODIFIED:20230320T162842Z
UID:5448-1681036200-1681041600@www.stmaryschurchtickhill.com
SUMMARY:10.45 - Holy Communion - St Mary's Tickhill
DESCRIPTION:
URL:https://www.stmaryschurchtickhill.com/event/10-45-holy-communion-st-marys-tickhill-2
LOCATION:St. Mary’s Church\, Tickhill\, St Mary's Church\, St Mary's Rd\, Tickhill\,\, Doncaster\, DN11 9LZ\, United Kingdom
END:VEVENT
BEGIN:VEVENT
DTSTART;TZID=Europe/London:20230409T080000
DTEND;TZID=Europe/London:20230409T090000
DTSTAMP:20260422T235115
CREATED:20230320T163409Z
LAST-MODIFIED:20230320T163409Z
UID:5456-1681027200-1681030800@www.stmaryschurchtickhill.com
SUMMARY:8.00am - Holy Communion - St Mary's
DESCRIPTION:
URL:https://www.stmaryschurchtickhill.com/event/8-00am-holy-communion-st-marys
END:VEVENT
BEGIN:VEVENT
DTSTART;TZID=Europe/London:20230409T073000
DTEND;TZID=Europe/London:20230409T080000
DTSTAMP:20260422T235115
CREATED:20230324T181449Z
LAST-MODIFIED:20230324T181449Z
UID:5496-1681025400-1681027200@www.stmaryschurchtickhill.com
SUMMARY:7.30am - Tickhill Churches Together - Easter Day - Hymns and Readings at the Buttercross
DESCRIPTION:
URL:https://www.stmaryschurchtickhill.com/event/7-30am-tickhill-churches-together-easter-day-hymns-and-readings-at-the-buttercross
LOCATION:Buttercross\, Tickhill\, DN11 9QW\, United Kingdom
END:VEVENT
BEGIN:VEVENT
DTSTART;TZID=Europe/London:20230408T190000
DTEND;TZID=Europe/London:20230408T200000
DTSTAMP:20260422T235115
CREATED:20230324T181333Z
LAST-MODIFIED:20230324T181333Z
UID:5494-1680980400-1680984000@www.stmaryschurchtickhill.com
SUMMARY:7.00pm - Compline
DESCRIPTION:
URL:https://www.stmaryschurchtickhill.com/event/7-00pm-compline
LOCATION:St. Mary’s Church\, Tickhill\, St Mary's Church\, St Mary's Rd\, Tickhill\,\, Doncaster\, DN11 9LZ\, United Kingdom
END:VEVENT
BEGIN:VEVENT
DTSTART;TZID=Europe/London:20230407T190000
DTEND;TZID=Europe/London:20230407T200000
DTSTAMP:20260422T235115
CREATED:20230319T095620Z
LAST-MODIFIED:20230320T164228Z
UID:5421-1680894000-1680897600@www.stmaryschurchtickhill.com
SUMMARY:7.00pm - Stainer Crucifixion
DESCRIPTION:
URL:https://www.stmaryschurchtickhill.com/event/7-00pm-stainer-crucifixion
END:VEVENT
BEGIN:VEVENT
DTSTART;TZID=Europe/London:20230407T120000
DTEND;TZID=Europe/London:20230407T150000
DTSTAMP:20260422T235115
CREATED:20230324T181206Z
LAST-MODIFIED:20230324T181206Z
UID:5492-1680868800-1680879600@www.stmaryschurchtickhill.com
SUMMARY:12.00 - Three Hour Devotion
DESCRIPTION:
URL:https://www.stmaryschurchtickhill.com/event/12-00-three-hour-devotion
LOCATION:St. Mary’s Church\, Tickhill\, St Mary's Church\, St Mary's Rd\, Tickhill\,\, Doncaster\, DN11 9LZ\, United Kingdom
END:VEVENT
BEGIN:VEVENT
DTSTART;TZID=Europe/London:20230407T110000
DTEND;TZID=Europe/London:20230407T120000
DTSTAMP:20260422T235115
CREATED:20230324T181112Z
LAST-MODIFIED:20230324T181112Z
UID:5490-1680865200-1680868800@www.stmaryschurchtickhill.com
SUMMARY:11.00am - Tickhill Churches Together - at the Buttercross
DESCRIPTION:
URL:https://www.stmaryschurchtickhill.com/event/11-00am-tickhill-churches-together-at-the-buttercross
LOCATION:Buttercross\, Tickhill\, DN11 9QW\, United Kingdom
END:VEVENT
BEGIN:VEVENT
DTSTART;TZID=Europe/London:20230407T100000
DTEND;TZID=Europe/London:20230407T110000
DTSTAMP:20260422T235115
CREATED:20230320T164642Z
LAST-MODIFIED:20230401T152451Z
UID:5470-1680861600-1680865200@www.stmaryschurchtickhill.com
SUMMARY:10.00am - 'Church Done Differently' - Easter Part Two
DESCRIPTION:For more details – CLICK HERE
URL:https://www.stmaryschurchtickhill.com/event/10-00pm-church-done-differently-easter-part-two
LOCATION:St. Mary’s Church\, Tickhill\, St Mary's Church\, St Mary's Rd\, Tickhill\,\, Doncaster\, DN11 9LZ\, United Kingdom
END:VEVENT
BEGIN:VEVENT
DTSTART;TZID=Europe/London:20230406T193000
DTEND;TZID=Europe/London:20230406T203000
DTSTAMP:20260422T235115
CREATED:20230401T152347Z
LAST-MODIFIED:20230401T152347Z
UID:5508-1680809400-1680813000@www.stmaryschurchtickhill.com
SUMMARY:7.30pm - Holy Communion and Stripping of the Altar
DESCRIPTION:
URL:https://www.stmaryschurchtickhill.com/event/7-30pm-holy-communion-and-stripping-of-the-altar
END:VEVENT
BEGIN:VEVENT
DTSTART;TZID=Europe/London:20230405T173000
DTEND;TZID=Europe/London:20230405T183000
DTSTAMP:20260422T235115
CREATED:20230401T152127Z
LAST-MODIFIED:20230401T152127Z
UID:5506-1680715800-1680719400@www.stmaryschurchtickhill.com
SUMMARY:5.45pm - Contemplative Prayer - St Luke's Chapel
DESCRIPTION:
URL:https://www.stmaryschurchtickhill.com/event/5-45pm-contemplative-prayer-st-lukes-chapel-10
END:VEVENT
BEGIN:VEVENT
DTSTART;TZID=Europe/London:20230405T100000
DTEND;TZID=Europe/London:20230405T110000
DTSTAMP:20260422T235115
CREATED:20230320T164936Z
LAST-MODIFIED:20230320T165014Z
UID:5472-1680688800-1680692400@www.stmaryschurchtickhill.com
SUMMARY:10.00am - Holy Communion - St Mary's
DESCRIPTION:
URL:https://www.stmaryschurchtickhill.com/event/10-00-holy-communion-3
LOCATION:St. Mary’s Church\, Tickhill\, St Mary's Church\, St Mary's Rd\, Tickhill\,\, Doncaster\, DN11 9LZ\, United Kingdom
END:VEVENT
BEGIN:VEVENT
DTSTART;TZID=Europe/London:20230402T180000
DTEND;TZID=Europe/London:20230402T190000
DTSTAMP:20260422T235115
CREATED:20230320T163649Z
LAST-MODIFIED:20230320T163649Z
UID:5458-1680458400-1680462000@www.stmaryschurchtickhill.com
SUMMARY:6.00pm - Evening Prayer - St Mary's
DESCRIPTION:
URL:https://www.stmaryschurchtickhill.com/event/6-00pm-evening-prayer-st-marys
LOCATION:St. Mary’s Church\, Tickhill\, St Mary's Church\, St Mary's Rd\, Tickhill\,\, Doncaster\, DN11 9LZ\, United Kingdom
END:VEVENT
BEGIN:VEVENT
DTSTART;TZID=Europe/London:20230402T160000
DTEND;TZID=Europe/London:20230402T170000
DTSTAMP:20260422T235115
CREATED:20230320T164441Z
LAST-MODIFIED:20230320T164441Z
UID:5468-1680451200-1680454800@www.stmaryschurchtickhill.com
SUMMARY:4.00pm - 'Church Done Differently' - Easter Part One
DESCRIPTION:For more details – please CLICK HERE
URL:https://www.stmaryschurchtickhill.com/event/4-00pm-church-done-differently-easter-part-one
LOCATION:St. Mary’s Church\, Tickhill\, St Mary's Church\, St Mary's Rd\, Tickhill\,\, Doncaster\, DN11 9LZ\, United Kingdom
END:VEVENT
BEGIN:VEVENT
DTSTART;TZID=Europe/London:20230402T103000
DTEND;TZID=Europe/London:20230402T120000
DTSTAMP:20260422T235115
CREATED:20230320T162800Z
LAST-MODIFIED:20230320T162800Z
UID:5446-1680431400-1680436800@www.stmaryschurchtickhill.com
SUMMARY:10.45 - Holy Communion - St Mary's Tickhill
DESCRIPTION:
URL:https://www.stmaryschurchtickhill.com/event/10-45-holy-communion-st-marys-tickhill
LOCATION:St. Mary’s Church\, Tickhill\, St Mary's Church\, St Mary's Rd\, Tickhill\,\, Doncaster\, DN11 9LZ\, United Kingdom
END:VEVENT
BEGIN:VEVENT
DTSTART;TZID=Europe/London:20230402T090000
DTEND;TZID=Europe/London:20230402T100000
DTSTAMP:20260422T235115
CREATED:20230203T161039Z
LAST-MODIFIED:20230311T121822Z
UID:5227-1680426000-1680429600@www.stmaryschurchtickhill.com
SUMMARY:9.15am - Holy Communion - St Winifrid's Stainton
DESCRIPTION:
URL:https://www.stmaryschurchtickhill.com/event/9-15am-holy-communion-st-winifreds-stainton-4
END:VEVENT
BEGIN:VEVENT
DTSTART;TZID=Europe/London:20230331T120000
DTEND;TZID=Europe/London:20230331T140000
DTSTAMP:20260422T235115
CREATED:20230102T103124Z
LAST-MODIFIED:20230102T115049Z
UID:5113-1680264000-1680271200@www.stmaryschurchtickhill.com
SUMMARY:12.00 - Soup Lunch - Parish Room
DESCRIPTION:For more details – click here
URL:https://www.stmaryschurchtickhill.com/event/10-00-soup-lunch-parish-room
LOCATION:Parish Room\, Tickhill Parish Room\, Northgate\, Tickhill\, Doncaster\, DN11 9HZ\, United Kingdom
END:VEVENT
BEGIN:VEVENT
DTSTART;TZID=Europe/London:20230329T193000
DTEND;TZID=Europe/London:20230329T210000
DTSTAMP:20260422T235115
CREATED:20230216T200159Z
LAST-MODIFIED:20230216T200159Z
UID:5315-1680118200-1680123600@www.stmaryschurchtickhill.com
SUMMARY:7.30 pm Lent Course - Personal Rules for Life - Methodist Church Lounge
DESCRIPTION:
URL:https://www.stmaryschurchtickhill.com/event/7-30-pm-lent-course-personal-rules-for-life-methodist-church-lounge-5
END:VEVENT
BEGIN:VEVENT
DTSTART;TZID=Europe/London:20230329T173000
DTEND;TZID=Europe/London:20230329T183000
DTSTAMP:20260422T235115
CREATED:20230324T180817Z
LAST-MODIFIED:20230324T180817Z
UID:5488-1680111000-1680114600@www.stmaryschurchtickhill.com
SUMMARY:5.45pm - Contemplative Prayer - St Luke's Chapel
DESCRIPTION:
URL:https://www.stmaryschurchtickhill.com/event/5-45pm-contemplative-prayer-st-lukes-chapel-9
LOCATION:St. Mary’s Church\, Tickhill\, St Mary's Church\, St Mary's Rd\, Tickhill\,\, Doncaster\, DN11 9LZ\, United Kingdom
END:VEVENT
BEGIN:VEVENT
DTSTART;TZID=Europe/London:20230329T100000
DTEND;TZID=Europe/London:20230329T110000
DTSTAMP:20260422T235115
CREATED:20230203T163043Z
LAST-MODIFIED:20230203T163043Z
UID:5261-1680084000-1680087600@www.stmaryschurchtickhill.com
SUMMARY:10.00am Morning Prayer
DESCRIPTION:
URL:https://www.stmaryschurchtickhill.com/event/10-00am-morning-prayer-7
END:VEVENT
BEGIN:VEVENT
DTSTART;TZID=Europe/London:20230327T140000
DTEND;TZID=Europe/London:20230327T153000
DTSTAMP:20260422T235115
CREATED:20230216T195824Z
LAST-MODIFIED:20230216T195824Z
UID:5305-1679925600-1679931000@www.stmaryschurchtickhill.com
SUMMARY:2.00 pm Lent Course - Personal Rules for Life - Methodist Church Lounge
DESCRIPTION:
URL:https://www.stmaryschurchtickhill.com/event/2-00-pm-lent-course-personal-rules-for-life-methodist-church-lounge-4
END:VEVENT
BEGIN:VEVENT
DTSTART;TZID=Europe/London:20230326T180000
DTEND;TZID=Europe/London:20230326T190000
DTSTAMP:20260422T235115
CREATED:20230203T162047Z
LAST-MODIFIED:20230203T162047Z
UID:5245-1679853600-1679857200@www.stmaryschurchtickhill.com
SUMMARY:6.00 pm Evensong
DESCRIPTION:
URL:https://www.stmaryschurchtickhill.com/event/6-00-pm-evensong
END:VEVENT
BEGIN:VEVENT
DTSTART;TZID=Europe/London:20230326T103000
DTEND;TZID=Europe/London:20230326T120000
DTSTAMP:20260422T235115
CREATED:20230203T161624Z
LAST-MODIFIED:20230203T161624Z
UID:5237-1679826600-1679832000@www.stmaryschurchtickhill.com
SUMMARY:10.45am - Holy Communion
DESCRIPTION:
URL:https://www.stmaryschurchtickhill.com/event/10-45am-holy-communion-9
END:VEVENT
BEGIN:VEVENT
DTSTART;TZID=Europe/London:20230322T193000
DTEND;TZID=Europe/London:20230322T210000
DTSTAMP:20260422T235115
CREATED:20230216T200124Z
LAST-MODIFIED:20230216T200537Z
UID:5313-1679513400-1679518800@www.stmaryschurchtickhill.com
SUMMARY:7.30 pm Lent Course - Personal Rules for Life - Methodist Church Lounge
DESCRIPTION:
URL:https://www.stmaryschurchtickhill.com/event/7-30-pm-lent-course-personal-rules-for-life-methodist-church-lounge-4
END:VEVENT
BEGIN:VEVENT
DTSTART;TZID=Europe/London:20230322T173000
DTEND;TZID=Europe/London:20230322T183000
DTSTAMP:20260422T235115
CREATED:20230319T095359Z
LAST-MODIFIED:20230319T095359Z
UID:5419-1679506200-1679509800@www.stmaryschurchtickhill.com
SUMMARY:5.45pm - Contemplative Prayer - St Luke's Chapel
DESCRIPTION:
URL:https://www.stmaryschurchtickhill.com/event/5-45pm-contemplative-prayer-st-lukes-chapel-8
END:VEVENT
BEGIN:VEVENT
DTSTART;TZID=Europe/London:20230322T100000
DTEND;TZID=Europe/London:20230322T110000
DTSTAMP:20260422T235115
CREATED:20230203T163003Z
LAST-MODIFIED:20230203T163003Z
UID:5259-1679479200-1679482800@www.stmaryschurchtickhill.com
SUMMARY:10.00am Holy Communion
DESCRIPTION:
URL:https://www.stmaryschurchtickhill.com/event/10-00am-holy-communion-2
END:VEVENT
END:VCALENDAR