BEGIN:VCALENDAR
VERSION:2.0
PRODID:-//St Mary&#039;s Church Tickhill - ECPv6.15.20//NONSGML v1.0//EN
CALSCALE:GREGORIAN
METHOD:PUBLISH
X-WR-CALNAME:St Mary&#039;s Church Tickhill
X-ORIGINAL-URL:https://www.stmaryschurchtickhill.com
X-WR-CALDESC:Events for St Mary&#039;s Church Tickhill
REFRESH-INTERVAL;VALUE=DURATION:PT1H
X-Robots-Tag:noindex
X-PUBLISHED-TTL:PT1H
BEGIN:VTIMEZONE
TZID:Europe/London
BEGIN:DAYLIGHT
TZOFFSETFROM:+0000
TZOFFSETTO:+0100
TZNAME:BST
DTSTART:20220327T010000
END:DAYLIGHT
BEGIN:STANDARD
TZOFFSETFROM:+0100
TZOFFSETTO:+0000
TZNAME:GMT
DTSTART:20221030T010000
END:STANDARD
BEGIN:DAYLIGHT
TZOFFSETFROM:+0000
TZOFFSETTO:+0100
TZNAME:BST
DTSTART:20230326T010000
END:DAYLIGHT
BEGIN:STANDARD
TZOFFSETFROM:+0100
TZOFFSETTO:+0000
TZNAME:GMT
DTSTART:20231029T010000
END:STANDARD
BEGIN:DAYLIGHT
TZOFFSETFROM:+0000
TZOFFSETTO:+0100
TZNAME:BST
DTSTART:20240331T010000
END:DAYLIGHT
BEGIN:STANDARD
TZOFFSETFROM:+0100
TZOFFSETTO:+0000
TZNAME:GMT
DTSTART:20241027T010000
END:STANDARD
END:VTIMEZONE
BEGIN:VEVENT
DTSTART;TZID=Europe/London:20230226T180000
DTEND;TZID=Europe/London:20230226T190000
DTSTAMP:20260423T000125
CREATED:20230102T110000Z
LAST-MODIFIED:20230224T160847Z
UID:5136-1677434400-1677438000@www.stmaryschurchtickhill.com
SUMMARY:6.00pm - Evensong
DESCRIPTION:
URL:https://www.stmaryschurchtickhill.com/event/6-00pm-evening-prayer-6
END:VEVENT
BEGIN:VEVENT
DTSTART;TZID=Europe/London:20230226T103000
DTEND;TZID=Europe/London:20230226T120000
DTSTAMP:20260423T000125
CREATED:20230102T105450Z
LAST-MODIFIED:20230102T105450Z
UID:5126-1677407400-1677412800@www.stmaryschurchtickhill.com
SUMMARY:10.45am - Holy Communion
DESCRIPTION:
URL:https://www.stmaryschurchtickhill.com/event/10-45am-holy-communion-6
LOCATION:St. Mary’s Church\, Tickhill\, St Mary's Church\, St Mary's Rd\, Tickhill\,\, Doncaster\, DN11 9LZ\, United Kingdom
END:VEVENT
BEGIN:VEVENT
DTSTART;TZID=Europe/London:20230224T090000
DTEND;TZID=Europe/London:20230224T090000
DTSTAMP:20260423T000125
CREATED:20230211T112440Z
LAST-MODIFIED:20230211T112440Z
UID:5272-1677229200-1677229200@www.stmaryschurchtickhill.com
SUMMARY:9.00am - Morning Prayer for Ukraine
DESCRIPTION:
URL:https://www.stmaryschurchtickhill.com/event/9-00am-morning-prayer-for-ukraine
END:VEVENT
BEGIN:VEVENT
DTSTART;TZID=Europe/London:20230222T100000
DTEND;TZID=Europe/London:20230222T110000
DTSTAMP:20260423T000125
CREATED:20230102T111737Z
LAST-MODIFIED:20230216T194646Z
UID:5144-1677060000-1677063600@www.stmaryschurchtickhill.com
SUMMARY:10.00 - Holy Communion with Ashing
DESCRIPTION:
URL:https://www.stmaryschurchtickhill.com/event/10-00-morning-prayer-6
END:VEVENT
BEGIN:VEVENT
DTSTART;TZID=Europe/London:20230219T180000
DTEND;TZID=Europe/London:20230219T190000
DTSTAMP:20260423T000125
CREATED:20230102T105931Z
LAST-MODIFIED:20230211T112535Z
UID:5134-1676829600-1676833200@www.stmaryschurchtickhill.com
SUMMARY:6.00pm - Said Eucharist
DESCRIPTION:
URL:https://www.stmaryschurchtickhill.com/event/6-00pm-evening-prayer-5
END:VEVENT
BEGIN:VEVENT
DTSTART;TZID=Europe/London:20230219T103000
DTEND;TZID=Europe/London:20230219T120000
DTSTAMP:20260423T000125
CREATED:20230102T105320Z
LAST-MODIFIED:20230102T105320Z
UID:5124-1676802600-1676808000@www.stmaryschurchtickhill.com
SUMMARY:10.45am - Morning Praise
DESCRIPTION:
URL:https://www.stmaryschurchtickhill.com/event/10-45am-morning-praise
END:VEVENT
BEGIN:VEVENT
DTSTART;TZID=Europe/London:20230217T120000
DTEND;TZID=Europe/London:20230217T140000
DTSTAMP:20260423T000125
CREATED:20230102T102747Z
LAST-MODIFIED:20230102T115447Z
UID:5107-1676635200-1676642400@www.stmaryschurchtickhill.com
SUMMARY:12.00 - Soup Lunch - Parish Room
DESCRIPTION:https://www.stmaryschurchtickhill.com/2023/01/02/soup-lunches-in-february-and-march-12-00-parish-room \n 
URL:https://www.stmaryschurchtickhill.com/event/12-00-soup-lunch-parish-room
LOCATION:Parish Room\, Tickhill Parish Room\, Northgate\, Tickhill\, Doncaster\, DN11 9HZ\, United Kingdom
END:VEVENT
BEGIN:VEVENT
DTSTART;TZID=Europe/London:20230215T100000
DTEND;TZID=Europe/London:20230215T110000
DTSTAMP:20260423T000125
CREATED:20230102T111655Z
LAST-MODIFIED:20230102T111655Z
UID:5142-1676455200-1676458800@www.stmaryschurchtickhill.com
SUMMARY:10.00 - Morning Prayer
DESCRIPTION:
URL:https://www.stmaryschurchtickhill.com/event/10-00-morning-prayer-5
END:VEVENT
BEGIN:VEVENT
DTSTART;TZID=Europe/London:20230212T180000
DTEND;TZID=Europe/London:20230212T190000
DTSTAMP:20260423T000125
CREATED:20230102T105750Z
LAST-MODIFIED:20230211T112159Z
UID:5132-1676224800-1676228400@www.stmaryschurchtickhill.com
SUMMARY:6.00pm - Celtic Night Prayer
DESCRIPTION:
URL:https://www.stmaryschurchtickhill.com/event/6-00pm-evening-prayer-4
LOCATION:St. Mary’s Church\, Tickhill\, St Mary's Church\, St Mary's Rd\, Tickhill\,\, Doncaster\, DN11 9LZ\, United Kingdom
END:VEVENT
BEGIN:VEVENT
DTSTART;TZID=Europe/London:20230212T103000
DTEND;TZID=Europe/London:20230212T120000
DTSTAMP:20260423T000125
CREATED:20230102T105234Z
LAST-MODIFIED:20230102T105234Z
UID:5122-1676197800-1676203200@www.stmaryschurchtickhill.com
SUMMARY:10.45am - Holy Communion
DESCRIPTION:
URL:https://www.stmaryschurchtickhill.com/event/10-45am-holy-communion-5
LOCATION:St. Mary’s Church\, Tickhill\, St Mary's Church\, St Mary's Rd\, Tickhill\,\, Doncaster\, DN11 9LZ\, United Kingdom
END:VEVENT
BEGIN:VEVENT
DTSTART;TZID=Europe/London:20230212T080000
DTEND;TZID=Europe/London:20230212T090000
DTSTAMP:20260423T000125
CREATED:20230211T112308Z
LAST-MODIFIED:20230211T112308Z
UID:5270-1676188800-1676192400@www.stmaryschurchtickhill.com
SUMMARY:8.00am - Holy Communion
DESCRIPTION:
URL:https://www.stmaryschurchtickhill.com/event/8-00am-holy-communion-3
END:VEVENT
BEGIN:VEVENT
DTSTART;TZID=Europe/London:20230208T100000
DTEND;TZID=Europe/London:20230208T110000
DTSTAMP:20260423T000125
CREATED:20230102T111515Z
LAST-MODIFIED:20230102T111856Z
UID:5140-1675850400-1675854000@www.stmaryschurchtickhill.com
SUMMARY:10.00 - Morning Prayer
DESCRIPTION:
URL:https://www.stmaryschurchtickhill.com/event/10-00-morning-prayer-4
END:VEVENT
BEGIN:VEVENT
DTSTART;TZID=Europe/London:20230205T180000
DTEND;TZID=Europe/London:20230205T190000
DTSTAMP:20260423T000125
CREATED:20230203T161841Z
LAST-MODIFIED:20230203T161841Z
UID:5239-1675620000-1675623600@www.stmaryschurchtickhill.com
SUMMARY:6.00 pm Evening Prayer - St Mary's
DESCRIPTION:
URL:https://www.stmaryschurchtickhill.com/event/6-00-pm-evening-prayer-st-marys
END:VEVENT
BEGIN:VEVENT
DTSTART;TZID=Europe/London:20230205T180000
DTEND;TZID=Europe/London:20230205T190000
DTSTAMP:20260423T000125
CREATED:20230102T105659Z
LAST-MODIFIED:20230102T105659Z
UID:5130-1675620000-1675623600@www.stmaryschurchtickhill.com
SUMMARY:6.00pm - Evening Prayer - St Mary's Tickhill
DESCRIPTION:
URL:https://www.stmaryschurchtickhill.com/event/6-00pm-evening-prayer-st-marys-tickhill
END:VEVENT
BEGIN:VEVENT
DTSTART;TZID=Europe/London:20230205T160000
DTEND;TZID=Europe/London:20230205T170000
DTSTAMP:20260423T000125
CREATED:20230102T105554Z
LAST-MODIFIED:20230117T153657Z
UID:5128-1675612800-1675616400@www.stmaryschurchtickhill.com
SUMMARY:4.00pm - Church Done Differently - St Mary's Tickhill
DESCRIPTION:  \n  \nFor more details – please click here
URL:https://www.stmaryschurchtickhill.com/event/4-00pm-church-done-differently-st-marys-tickhill
END:VEVENT
BEGIN:VEVENT
DTSTART;TZID=Europe/London:20230205T103000
DTEND;TZID=Europe/London:20230205T120000
DTSTAMP:20260423T000125
CREATED:20230102T105124Z
LAST-MODIFIED:20230102T105124Z
UID:5120-1675593000-1675598400@www.stmaryschurchtickhill.com
SUMMARY:10.45am - Holy Communion - St Mary's Tickhill
DESCRIPTION:
URL:https://www.stmaryschurchtickhill.com/event/10-45am-holy-communion-st-marys-tickhill
END:VEVENT
BEGIN:VEVENT
DTSTART;TZID=Europe/London:20230205T090000
DTEND;TZID=Europe/London:20230205T100000
DTSTAMP:20260423T000125
CREATED:20230102T105022Z
LAST-MODIFIED:20230102T105022Z
UID:5118-1675587600-1675591200@www.stmaryschurchtickhill.com
SUMMARY:9.15am - Holy Communion - St Winifred's Stainton
DESCRIPTION:
URL:https://www.stmaryschurchtickhill.com/event/9-15am-holy-communion-st-winifreds-stainton-2
END:VEVENT
BEGIN:VEVENT
DTSTART;TZID=Europe/London:20230203T120000
DTEND;TZID=Europe/London:20230203T140000
DTSTAMP:20260423T000125
CREATED:20230102T102641Z
LAST-MODIFIED:20230102T115523Z
UID:5105-1675425600-1675432800@www.stmaryschurchtickhill.com
SUMMARY:12.00 noon -  Soup Lunch - Parish Room
DESCRIPTION:https://www.stmaryschurchtickhill.com/2023/01/02/soup-lunches-in-february-and-march-12-00-parish-room
URL:https://www.stmaryschurchtickhill.com/event/12-00-noon-soup-lunch-parish-room
LOCATION:Parish Room\, Tickhill Parish Room\, Northgate\, Tickhill\, Doncaster\, DN11 9HZ\, United Kingdom
END:VEVENT
BEGIN:VEVENT
DTSTART;TZID=Europe/London:20230201T100000
DTEND;TZID=Europe/London:20230201T110000
DTSTAMP:20260423T000125
CREATED:20230102T111442Z
LAST-MODIFIED:20230102T111442Z
UID:5138-1675245600-1675249200@www.stmaryschurchtickhill.com
SUMMARY:10.00 - Morning Prayer
DESCRIPTION:
URL:https://www.stmaryschurchtickhill.com/event/10-00-morning-prayer-3
END:VEVENT
BEGIN:VEVENT
DTSTART;TZID=Europe/London:20230129T180000
DTEND;TZID=Europe/London:20230129T190000
DTSTAMP:20260423T000125
CREATED:20221205T163045Z
LAST-MODIFIED:20221205T163213Z
UID:4989-1675015200-1675018800@www.stmaryschurchtickhill.com
SUMMARY:6.00pm - Candlemas Procession
DESCRIPTION:
URL:https://www.stmaryschurchtickhill.com/event/6-00pm-candlemas-processions
END:VEVENT
BEGIN:VEVENT
DTSTART;TZID=Europe/London:20230129T103000
DTEND;TZID=Europe/London:20230129T120000
DTSTAMP:20260423T000125
CREATED:20221205T162524Z
LAST-MODIFIED:20221205T162524Z
UID:4979-1674988200-1674993600@www.stmaryschurchtickhill.com
SUMMARY:10.45am - Holy Communion
DESCRIPTION:
URL:https://www.stmaryschurchtickhill.com/event/10-45am-holy-communion-4
END:VEVENT
BEGIN:VEVENT
DTSTART;TZID=Europe/London:20230125T100000
DTEND;TZID=Europe/London:20230125T110000
DTSTAMP:20260423T000125
CREATED:20221205T163812Z
LAST-MODIFIED:20221205T163812Z
UID:4999-1674640800-1674644400@www.stmaryschurchtickhill.com
SUMMARY:10.00 - Holy Communion
DESCRIPTION:
URL:https://www.stmaryschurchtickhill.com/event/10-00-holy-communion-2
END:VEVENT
BEGIN:VEVENT
DTSTART;TZID=Europe/London:20230124T190000
DTEND;TZID=Europe/London:20230124T210000
DTSTAMP:20260423T000125
CREATED:20230102T101212Z
LAST-MODIFIED:20230102T101315Z
UID:5100-1674586800-1674594000@www.stmaryschurchtickhill.com
SUMMARY:7.00 Unity Supper - in the Methodist School Room
DESCRIPTION:Unity Supper – Tuesday 24th January – 7.00pm \nThe Unity Supper will be held on Tuesday\, 24th January and it will start at 7.00 pm in the Methodist Schoolroom. Tickets are £7 each\, available from Elaine Millard. 
URL:https://www.stmaryschurchtickhill.com/event/7-00-unity-supper-in-the-methodist-school-room
END:VEVENT
BEGIN:VEVENT
DTSTART;TZID=Europe/London:20230122T180000
DTEND;TZID=Europe/London:20230122T190000
DTSTAMP:20260423T000125
CREATED:20221205T162949Z
LAST-MODIFIED:20221205T162949Z
UID:4987-1674410400-1674414000@www.stmaryschurchtickhill.com
SUMMARY:6.00pm - Evensong
DESCRIPTION:
URL:https://www.stmaryschurchtickhill.com/event/6-00pm-evensong
END:VEVENT
BEGIN:VEVENT
DTSTART;TZID=Europe/London:20230122T103000
DTEND;TZID=Europe/London:20230122T120000
DTSTAMP:20260423T000125
CREATED:20221205T162452Z
LAST-MODIFIED:20221205T162452Z
UID:4977-1674383400-1674388800@www.stmaryschurchtickhill.com
SUMMARY:10.45am - Holy Communion
DESCRIPTION:
URL:https://www.stmaryschurchtickhill.com/event/10-45am-holy-communion-3
END:VEVENT
BEGIN:VEVENT
DTSTART;TZID=Europe/London:20230121T190000
DTEND;TZID=Europe/London:20230121T210000
DTSTAMP:20260423T000125
CREATED:20230102T101812Z
LAST-MODIFIED:20230102T122023Z
UID:5103-1674327600-1674334800@www.stmaryschurchtickhill.com
SUMMARY:7.00 for 7.30pm - Burns Night Celebration - Parish Room - Saturday 21 January
DESCRIPTION:https://www.stmaryschurchtickhill.com/2023/01/02/burns-night-celebration-7-00pm-for-7-30pm-saturday-21-january-parish-rooms \n 
URL:https://www.stmaryschurchtickhill.com/event/7-00-for-7-30pm-burns-night-celebration-parish-room-saturday-21-january
LOCATION:Parish Room\, Tickhill Parish Room\, Northgate\, Tickhill\, Doncaster\, DN11 9HZ\, United Kingdom
END:VEVENT
BEGIN:VEVENT
DTSTART;TZID=Europe/London:20230118T100000
DTEND;TZID=Europe/London:20230118T110000
DTSTAMP:20260423T000125
CREATED:20221205T163546Z
LAST-MODIFIED:20221205T163546Z
UID:4997-1674036000-1674039600@www.stmaryschurchtickhill.com
SUMMARY:10.00 - Morning Prayer
DESCRIPTION:
URL:https://www.stmaryschurchtickhill.com/event/10-00-morning-prayer-2
END:VEVENT
BEGIN:VEVENT
DTSTART;TZID=Europe/London:20230115T180000
DTEND;TZID=Europe/London:20230115T190000
DTSTAMP:20260423T000125
CREATED:20221205T162849Z
LAST-MODIFIED:20221205T162849Z
UID:4985-1673805600-1673809200@www.stmaryschurchtickhill.com
SUMMARY:6.00pm - Said Eucharist
DESCRIPTION:
URL:https://www.stmaryschurchtickhill.com/event/6-00pm-said-eucharist
END:VEVENT
BEGIN:VEVENT
DTSTART;TZID=Europe/London:20230115T103000
DTEND;TZID=Europe/London:20230115T120000
DTSTAMP:20260423T000125
CREATED:20221205T162352Z
LAST-MODIFIED:20221205T162352Z
UID:4975-1673778600-1673784000@www.stmaryschurchtickhill.com
SUMMARY:10.45am - Sunday Praise
DESCRIPTION:
URL:https://www.stmaryschurchtickhill.com/event/10-45am-sunday-praise
END:VEVENT
BEGIN:VEVENT
DTSTART;TZID=Europe/London:20230111T100000
DTEND;TZID=Europe/London:20230111T110000
DTSTAMP:20260423T000125
CREATED:20221205T163425Z
LAST-MODIFIED:20221205T163425Z
UID:4995-1673431200-1673434800@www.stmaryschurchtickhill.com
SUMMARY:10.00 - Morning Prayer
DESCRIPTION:
URL:https://www.stmaryschurchtickhill.com/event/10-00-morning-prayer
END:VEVENT
END:VCALENDAR