BEGIN:VCALENDAR
VERSION:2.0
PRODID:-//St Mary&#039;s Church Tickhill - ECPv6.15.20//NONSGML v1.0//EN
CALSCALE:GREGORIAN
METHOD:PUBLISH
X-WR-CALNAME:St Mary&#039;s Church Tickhill
X-ORIGINAL-URL:https://www.stmaryschurchtickhill.com
X-WR-CALDESC:Events for St Mary&#039;s Church Tickhill
REFRESH-INTERVAL;VALUE=DURATION:PT1H
X-Robots-Tag:noindex
X-PUBLISHED-TTL:PT1H
BEGIN:VTIMEZONE
TZID:Europe/London
BEGIN:DAYLIGHT
TZOFFSETFROM:+0000
TZOFFSETTO:+0100
TZNAME:BST
DTSTART:20210328T010000
END:DAYLIGHT
BEGIN:STANDARD
TZOFFSETFROM:+0100
TZOFFSETTO:+0000
TZNAME:GMT
DTSTART:20211031T010000
END:STANDARD
BEGIN:DAYLIGHT
TZOFFSETFROM:+0000
TZOFFSETTO:+0100
TZNAME:BST
DTSTART:20220327T010000
END:DAYLIGHT
BEGIN:STANDARD
TZOFFSETFROM:+0100
TZOFFSETTO:+0000
TZNAME:GMT
DTSTART:20221030T010000
END:STANDARD
BEGIN:DAYLIGHT
TZOFFSETFROM:+0000
TZOFFSETTO:+0100
TZNAME:BST
DTSTART:20230326T010000
END:DAYLIGHT
BEGIN:STANDARD
TZOFFSETFROM:+0100
TZOFFSETTO:+0000
TZNAME:GMT
DTSTART:20231029T010000
END:STANDARD
END:VTIMEZONE
BEGIN:VEVENT
DTSTART;TZID=Europe/London:20221030T103000
DTEND;TZID=Europe/London:20221030T113000
DTSTAMP:20260422T225338
CREATED:20220923T145305Z
LAST-MODIFIED:20220923T145305Z
UID:4661-1667125800-1667129400@www.stmaryschurchtickhill.com
SUMMARY:10.45 Holy Communion
DESCRIPTION:
URL:https://www.stmaryschurchtickhill.com/event/10-45-holy-communion-5
END:VEVENT
BEGIN:VEVENT
DTSTART;TZID=Europe/London:20221026T100000
DTEND;TZID=Europe/London:20221026T110000
DTSTAMP:20260422T225338
CREATED:20220923T150204Z
LAST-MODIFIED:20220923T150204Z
UID:4677-1666778400-1666782000@www.stmaryschurchtickhill.com
SUMMARY:10.00AM – HOLY COMMUNION – ST LUKE’S CHAPEL
DESCRIPTION:
URL:https://www.stmaryschurchtickhill.com/event/10-00am-holy-communion-st-lukes-chapel-8
END:VEVENT
BEGIN:VEVENT
DTSTART;TZID=Europe/London:20221023T180000
DTEND;TZID=Europe/London:20221023T190000
DTSTAMP:20260422T225338
CREATED:20221001T142915Z
LAST-MODIFIED:20221001T142915Z
UID:4701-1666548000-1666551600@www.stmaryschurchtickhill.com
SUMMARY:6.00 Evensong
DESCRIPTION:
URL:https://www.stmaryschurchtickhill.com/event/6-00-evensong
END:VEVENT
BEGIN:VEVENT
DTSTART;TZID=Europe/London:20221023T103000
DTEND;TZID=Europe/London:20221023T113000
DTSTAMP:20260422T225338
CREATED:20220923T145230Z
LAST-MODIFIED:20220923T145230Z
UID:4659-1666521000-1666524600@www.stmaryschurchtickhill.com
SUMMARY:10.45 Holy Communion
DESCRIPTION:
URL:https://www.stmaryschurchtickhill.com/event/10-45-holy-communion-4
END:VEVENT
BEGIN:VEVENT
DTSTART;TZID=Europe/London:20221022T100000
DTEND;TZID=Europe/London:20221022T160000
DTSTAMP:20260422T225338
CREATED:20220721T114104Z
LAST-MODIFIED:20220912T180839Z
UID:4389-1666432800-1666454400@www.stmaryschurchtickhill.com
SUMMARY:GIFT and OPEN DAY - SATURDAY 22 OCTOBER
DESCRIPTION:  \nGIFT AND OPEN DAY – SATURDAY 22 OCTOBER\nIn aid of the ‘Warm and Welcoming Church’ appeal to raise funds for new hydrogen-ready boilers to heat the church.\nFor more details – please click here 
URL:https://www.stmaryschurchtickhill.com/event/gift-and-open-day-saturday-22-october
CATEGORIES:WARM AND WELCOMING CHURCH
ATTACH;FMTTYPE=image/gif:https://www.stmaryschurchtickhill.com/wp-content/uploads/2022/07/Open-Day.gif
END:VEVENT
BEGIN:VEVENT
DTSTART;TZID=Europe/London:20221021T120000
DTEND;TZID=Europe/London:20221021T140000
DTSTAMP:20260422T225338
CREATED:20220717T145434Z
LAST-MODIFIED:20220717T150724Z
UID:4368-1666353600-1666360800@www.stmaryschurchtickhill.com
SUMMARY:SOUP LUNCH - PARISH ROOMS - 12.00
DESCRIPTION:SOUP LUNCH – PARISH ROOMS – 12.00\n\nAs we seek to raise funds to replace our gas boilers with hydrogen-powered ones\, as the first phase of making St Mary’s church a more warm and welcoming space both for our worship\, and for the use of the wider community in Tickhill\, please support this event if you can.
URL:https://www.stmaryschurchtickhill.com/event/soup-lunch-parish-rooms-12-00-2
CATEGORIES:WARM AND WELCOMING CHURCH
ATTACH;FMTTYPE=image/jpeg:https://www.stmaryschurchtickhill.com/wp-content/uploads/2022/07/Soup-Lunch.jpeg
END:VEVENT
BEGIN:VEVENT
DTSTART;TZID=Europe/London:20221019T100000
DTEND;TZID=Europe/London:20221019T110000
DTSTAMP:20260422T225338
CREATED:20220923T150130Z
LAST-MODIFIED:20221015T120358Z
UID:4675-1666173600-1666177200@www.stmaryschurchtickhill.com
SUMMARY:10.00AM – MORNING PRAYER – ST LUKE’S CHAPEL
DESCRIPTION:
URL:https://www.stmaryschurchtickhill.com/event/10-00am-holy-communion-st-lukes-chapel-7
END:VEVENT
BEGIN:VEVENT
DTSTART;TZID=Europe/London:20221016T180000
DTEND;TZID=Europe/London:20221016T190000
DTSTAMP:20260422T225338
CREATED:20221001T142743Z
LAST-MODIFIED:20221001T142743Z
UID:4697-1665943200-1665946800@www.stmaryschurchtickhill.com
SUMMARY:6.00 Eucharist
DESCRIPTION:
URL:https://www.stmaryschurchtickhill.com/event/6-00-eucharist
END:VEVENT
BEGIN:VEVENT
DTSTART;TZID=Europe/London:20221016T103000
DTEND;TZID=Europe/London:20221016T113000
DTSTAMP:20260422T225338
CREATED:20220923T145136Z
LAST-MODIFIED:20221008T090210Z
UID:4657-1665916200-1665919800@www.stmaryschurchtickhill.com
SUMMARY:10.45 Sunday Praise
DESCRIPTION:
URL:https://www.stmaryschurchtickhill.com/event/10-45-holy-communion-3
END:VEVENT
BEGIN:VEVENT
DTSTART;TZID=Europe/London:20221012T100000
DTEND;TZID=Europe/London:20221012T110000
DTSTAMP:20260422T225338
CREATED:20220923T150055Z
LAST-MODIFIED:20220923T150055Z
UID:4673-1665568800-1665572400@www.stmaryschurchtickhill.com
SUMMARY:10.00AM – HOLY COMMUNION – ST LUKE’S CHAPEL
DESCRIPTION:
URL:https://www.stmaryschurchtickhill.com/event/10-00am-holy-communion-st-lukes-chapel-6
END:VEVENT
BEGIN:VEVENT
DTSTART;TZID=Europe/London:20221009T180000
DTEND;TZID=Europe/London:20221009T190000
DTSTAMP:20260422T225338
CREATED:20221001T142658Z
LAST-MODIFIED:20221001T142658Z
UID:4695-1665338400-1665342000@www.stmaryschurchtickhill.com
SUMMARY:6.00 Celtic Evening Prayer
DESCRIPTION:
URL:https://www.stmaryschurchtickhill.com/event/6-00-celtic-evening-prayer
END:VEVENT
BEGIN:VEVENT
DTSTART;TZID=Europe/London:20221009T103000
DTEND;TZID=Europe/London:20221009T233000
DTSTAMP:20260422T225338
CREATED:20220923T145100Z
LAST-MODIFIED:20220923T145100Z
UID:4655-1665311400-1665358200@www.stmaryschurchtickhill.com
SUMMARY:10.45 Holy Communion
DESCRIPTION:
URL:https://www.stmaryschurchtickhill.com/event/10-45-holy-communion-2
END:VEVENT
BEGIN:VEVENT
DTSTART;TZID=Europe/London:20221009T080000
DTEND;TZID=Europe/London:20221009T090000
DTSTAMP:20260422T225338
CREATED:20221008T085639Z
LAST-MODIFIED:20221008T085639Z
UID:4728-1665302400-1665306000@www.stmaryschurchtickhill.com
SUMMARY:8.00 am Holy Communion
DESCRIPTION:
URL:https://www.stmaryschurchtickhill.com/event/8-00-am-holy-communion
END:VEVENT
BEGIN:VEVENT
DTSTART;TZID=Europe/London:20221007T120000
DTEND;TZID=Europe/London:20221007T140000
DTSTAMP:20260422T225338
CREATED:20220717T145214Z
LAST-MODIFIED:20220717T145214Z
UID:4364-1665144000-1665151200@www.stmaryschurchtickhill.com
SUMMARY:SOUP LUNCH - PARISH ROOMS - 12.00
DESCRIPTION:SOUP LUNCH – PARISH ROOMS – 12.00\n\nAs we seek to raise funds to replace our gas boilers with hydrogen-powered ones\, as the first phase of making St Mary’s church a more warm and welcoming space both for our worship\, and for the use of the wider community in Tickhill\, please support this event if you can.
URL:https://www.stmaryschurchtickhill.com/event/soup-lunch-parish-rooms-12-00
CATEGORIES:WARM AND WELCOMING CHURCH
ATTACH;FMTTYPE=image/jpeg:https://www.stmaryschurchtickhill.com/wp-content/uploads/2022/07/Soup-Lunch.jpeg
END:VEVENT
BEGIN:VEVENT
DTSTART;TZID=Europe/London:20221005T100000
DTEND;TZID=Europe/London:20221005T110000
DTSTAMP:20260422T225338
CREATED:20220923T150005Z
LAST-MODIFIED:20221001T143313Z
UID:4671-1664964000-1664967600@www.stmaryschurchtickhill.com
SUMMARY:10.00AM – MORNING PRAYER – ST LUKE’S CHAPEL
DESCRIPTION:
URL:https://www.stmaryschurchtickhill.com/event/10-00am-holy-communion-st-lukes-chapel-5
END:VEVENT
BEGIN:VEVENT
DTSTART;TZID=Europe/London:20221002T180000
DTEND;TZID=Europe/London:20221002T190000
DTSTAMP:20260422T225338
CREATED:20220923T145609Z
LAST-MODIFIED:20221001T142542Z
UID:4663-1664733600-1664737200@www.stmaryschurchtickhill.com
SUMMARY:6.00 Simple Evening Prayer
DESCRIPTION:
URL:https://www.stmaryschurchtickhill.com/event/6-00-evening-prayer
END:VEVENT
BEGIN:VEVENT
DTSTART;TZID=Europe/London:20221002T160000
DTEND;TZID=Europe/London:20221002T170000
DTSTAMP:20260422T225338
CREATED:20220920T191856Z
LAST-MODIFIED:20220920T192227Z
UID:4638-1664726400-1664730000@www.stmaryschurchtickhill.com
SUMMARY:Sunday 2 October - 4pm - Children's Harvest Service
DESCRIPTION:Sunday 2 October – 4pm – Children’s Harvest Service\n  \nFor more details click here
URL:https://www.stmaryschurchtickhill.com/event/sunday-2-october-4pm-childrens-harvest-service
END:VEVENT
BEGIN:VEVENT
DTSTART;TZID=Europe/London:20221002T103000
DTEND;TZID=Europe/London:20221002T233000
DTSTAMP:20260422T225338
CREATED:20220923T145017Z
LAST-MODIFIED:20220923T145017Z
UID:4653-1664706600-1664753400@www.stmaryschurchtickhill.com
SUMMARY:10.45 Holy Communion
DESCRIPTION:
URL:https://www.stmaryschurchtickhill.com/event/10-45-holy-communion
END:VEVENT
BEGIN:VEVENT
DTSTART;TZID=Europe/London:20220928T100000
DTEND;TZID=Europe/London:20220928T103000
DTSTAMP:20260422T225338
CREATED:20220827T102351Z
LAST-MODIFIED:20220827T102351Z
UID:4546-1664359200-1664361000@www.stmaryschurchtickhill.com
SUMMARY:10.00am - Holy Communion - St Luke's Chapel
DESCRIPTION:
URL:https://www.stmaryschurchtickhill.com/event/10-00am-holy-communion-st-lukes-chapel-4
END:VEVENT
BEGIN:VEVENT
DTSTART;TZID=Europe/London:20220925T180000
DTEND;TZID=Europe/London:20220925T190000
DTSTAMP:20260422T225338
CREATED:20220805T101019Z
LAST-MODIFIED:20220902T112403Z
UID:4495-1664128800-1664132400@www.stmaryschurchtickhill.com
SUMMARY:6.00pm Harvest Evensong
DESCRIPTION:
URL:https://www.stmaryschurchtickhill.com/event/6-00pm-evening-prayer
END:VEVENT
BEGIN:VEVENT
DTSTART;TZID=Europe/London:20220925T103000
DTEND;TZID=Europe/London:20220925T113000
DTSTAMP:20260422T225338
CREATED:20220805T100659Z
LAST-MODIFIED:20220805T100659Z
UID:4485-1664101800-1664105400@www.stmaryschurchtickhill.com
SUMMARY:10.30 Parish Communion
DESCRIPTION:
URL:https://www.stmaryschurchtickhill.com/event/10-30-parish-communion-4
END:VEVENT
BEGIN:VEVENT
DTSTART;TZID=Europe/London:20220921T100000
DTEND;TZID=Europe/London:20220921T103000
DTSTAMP:20260422T225338
CREATED:20220827T102258Z
LAST-MODIFIED:20220827T102258Z
UID:4544-1663754400-1663756200@www.stmaryschurchtickhill.com
SUMMARY:10.00am - Holy Communion - St Luke's Chapel
DESCRIPTION:
URL:https://www.stmaryschurchtickhill.com/event/10-00am-holy-communion-st-lukes-chapel-3
END:VEVENT
BEGIN:VEVENT
DTSTART;TZID=Europe/London:20220918T160000
DTEND;TZID=Europe/London:20220918T170000
DTSTAMP:20260422T225338
CREATED:20220805T100930Z
LAST-MODIFIED:20220911T144921Z
UID:4492-1663516800-1663520400@www.stmaryschurchtickhill.com
SUMMARY:4.00pm Service of Commemoration for Queen Elizabeth II
DESCRIPTION:
URL:https://www.stmaryschurchtickhill.com/event/4-00pm-evening-prayer
END:VEVENT
BEGIN:VEVENT
DTSTART;TZID=Europe/London:20220918T123000
DTEND;TZID=Europe/London:20220918T143000
DTSTAMP:20260422T225338
CREATED:20220717T133223Z
LAST-MODIFIED:20220717T143205Z
UID:4310-1663504200-1663511400@www.stmaryschurchtickhill.com
SUMMARY:Lunch at John Marsden's - 27 Sunderland St
DESCRIPTION:LUNCH AT JOHN MARSDEN’S – 27 SUNDERLAND ST\n\nAs we seek to raise funds to replace our gas boilers with hydrogen-powered ones\, as the first phase of making St Mary’s church a more warm and welcoming space both for our worship\, and for the use of the wider community in Tickhill\, please support this event if you can.\nBook in with John Marsden on 01302 744142.   Places are limited to 12 people and the cost is £15.00 per head.  If you would like to help serve on the day\, please use the words ‘Free Lunch’ to John.
URL:https://www.stmaryschurchtickhill.com/event/lunch-at-john-marsdens-27-sunderland-st-3
CATEGORIES:WARM AND WELCOMING CHURCH
ATTACH;FMTTYPE=image/jpeg:https://www.stmaryschurchtickhill.com/wp-content/uploads/2022/07/Sunday-lunch.jpeg
END:VEVENT
BEGIN:VEVENT
DTSTART;TZID=Europe/London:20220918T103000
DTEND;TZID=Europe/London:20220918T113000
DTSTAMP:20260422T225338
CREATED:20220805T100622Z
LAST-MODIFIED:20220805T100622Z
UID:4483-1663497000-1663500600@www.stmaryschurchtickhill.com
SUMMARY:10.30 Parish Communion
DESCRIPTION:
URL:https://www.stmaryschurchtickhill.com/event/10-30-parish-communion-3
END:VEVENT
BEGIN:VEVENT
DTSTART;TZID=Europe/London:20220914T100000
DTEND;TZID=Europe/London:20220914T103000
DTSTAMP:20260422T225338
CREATED:20220827T102223Z
LAST-MODIFIED:20220827T102223Z
UID:4542-1663149600-1663151400@www.stmaryschurchtickhill.com
SUMMARY:10.00am - Holy Communion - St Luke's Chapel
DESCRIPTION:
URL:https://www.stmaryschurchtickhill.com/event/10-00am-holy-communion-st-lukes-chapel-2
END:VEVENT
BEGIN:VEVENT
DTSTART;TZID=Europe/London:20220911T103000
DTEND;TZID=Europe/London:20220911T113000
DTSTAMP:20260422T225338
CREATED:20220805T100548Z
LAST-MODIFIED:20220805T100548Z
UID:4481-1662892200-1662895800@www.stmaryschurchtickhill.com
SUMMARY:10.30 Parish Communion
DESCRIPTION:
URL:https://www.stmaryschurchtickhill.com/event/10-30-parish-communion-2
END:VEVENT
BEGIN:VEVENT
DTSTART;TZID=Europe/London:20220910T190000
DTEND;TZID=Europe/London:20220910T200000
DTSTAMP:20260422T225338
CREATED:20220721T110004Z
LAST-MODIFIED:20220827T100000Z
UID:4375-1662836400-1662840000@www.stmaryschurchtickhill.com
SUMMARY:SATURDAY 10 SEPTEMBER - 'WEST END' CONCERT - 7PM
DESCRIPTION:SATURDAY 10 SEPTEMBER – ‘WEST END’ CONCERT – 7PM\n\nA short hour-long concert of wide-ranging content including music for tuba and music for cello and songs from the Tickhill Community Choir\nAll to take place at the West end of St Mary’s church under the tower\, to enjoy the excellent acoustics. To be followed by a selection of summer desserts to eat.\nRetiring collection in aid of the ‘Warm and Welcoming Church’ appeal to raise funds for new hydrogen-ready boilers to heat the church.
URL:https://www.stmaryschurchtickhill.com/event/saturday-10-september-west-end-concert-7pm
CATEGORIES:WARM AND WELCOMING CHURCH
ATTACH;FMTTYPE=image/jpeg:https://www.stmaryschurchtickhill.com/wp-content/uploads/2022/08/West-End-Concert-Poster-220910.jpg
END:VEVENT
BEGIN:VEVENT
DTSTART;TZID=Europe/London:20220907T100000
DTEND;TZID=Europe/London:20220907T103000
DTSTAMP:20260422T225338
CREATED:20220827T102146Z
LAST-MODIFIED:20220827T102146Z
UID:4540-1662544800-1662546600@www.stmaryschurchtickhill.com
SUMMARY:10.00am - Holy Communion - St Luke's Chapel
DESCRIPTION:
URL:https://www.stmaryschurchtickhill.com/event/10-00am-holy-communion-st-lukes-chapel
END:VEVENT
BEGIN:VEVENT
DTSTART;TZID=Europe/London:20220904T123000
DTEND;TZID=Europe/London:20220904T143000
DTSTAMP:20260422T225338
CREATED:20220717T133027Z
LAST-MODIFIED:20220717T142831Z
UID:4307-1662294600-1662301800@www.stmaryschurchtickhill.com
SUMMARY:Lunch at John Marsden's - 27 Sunderland St
DESCRIPTION:LUNCH AT JOHN MARSDEN’S – 27 SUNDERLAND ST\n\nAs we seek to raise funds to replace our gas boilers with hydrogen-powered ones\, as the first phase of making St Mary’s church a more warm and welcoming space both for our worship\, and for the use of the wider community in Tickhill\, please support this event if you can.\nBook in with John Marsden on 01302 744142.   Places are limited to 12 people and the cost is £15.00 per head.  If you would like to help serve on the day\, please use the words ‘Free Lunch’ to John.
URL:https://www.stmaryschurchtickhill.com/event/lunch-at-john-marsdens-27-sunderland-st-2
CATEGORIES:WARM AND WELCOMING CHURCH
ATTACH;FMTTYPE=image/jpeg:https://www.stmaryschurchtickhill.com/wp-content/uploads/2022/07/Sunday-lunch.jpeg
END:VEVENT
END:VCALENDAR