BEGIN:VCALENDAR
VERSION:2.0
PRODID:-//St Mary&#039;s Church Tickhill - ECPv6.15.20//NONSGML v1.0//EN
CALSCALE:GREGORIAN
METHOD:PUBLISH
X-WR-CALNAME:St Mary&#039;s Church Tickhill
X-ORIGINAL-URL:https://www.stmaryschurchtickhill.com
X-WR-CALDESC:Events for St Mary&#039;s Church Tickhill
REFRESH-INTERVAL;VALUE=DURATION:PT1H
X-Robots-Tag:noindex
X-PUBLISHED-TTL:PT1H
BEGIN:VTIMEZONE
TZID:Europe/London
BEGIN:DAYLIGHT
TZOFFSETFROM:+0000
TZOFFSETTO:+0100
TZNAME:BST
DTSTART:20190331T010000
END:DAYLIGHT
BEGIN:STANDARD
TZOFFSETFROM:+0100
TZOFFSETTO:+0000
TZNAME:GMT
DTSTART:20191027T010000
END:STANDARD
BEGIN:DAYLIGHT
TZOFFSETFROM:+0000
TZOFFSETTO:+0100
TZNAME:BST
DTSTART:20200329T010000
END:DAYLIGHT
BEGIN:STANDARD
TZOFFSETFROM:+0100
TZOFFSETTO:+0000
TZNAME:GMT
DTSTART:20201025T010000
END:STANDARD
BEGIN:DAYLIGHT
TZOFFSETFROM:+0000
TZOFFSETTO:+0100
TZNAME:BST
DTSTART:20210328T010000
END:DAYLIGHT
BEGIN:STANDARD
TZOFFSETFROM:+0100
TZOFFSETTO:+0000
TZNAME:GMT
DTSTART:20211031T010000
END:STANDARD
END:VTIMEZONE
BEGIN:VEVENT
DTSTART;TZID=Europe/London:20200404T100000
DTEND;TZID=Europe/London:20200404T120000
DTSTAMP:20260423T084622
CREATED:20200211T143633Z
LAST-MODIFIED:20200211T143633Z
UID:2625-1585994400-1586001600@www.stmaryschurchtickhill.com
SUMMARY:10:00 AM Coffee served in the Parish Room
DESCRIPTION:
URL:https://www.stmaryschurchtickhill.com/event/1000-am-coffee-served-in-the-parish-room-4
LOCATION:Parish Room\, Tickhill Parish Room\, Northgate\, Tickhill\, Doncaster\, DN11 9HZ\, United Kingdom
END:VEVENT
BEGIN:VEVENT
DTSTART;TZID=Europe/London:20200401T100000
DTEND;TZID=Europe/London:20200401T110000
DTSTAMP:20260423T084622
CREATED:20200114T143019Z
LAST-MODIFIED:20200114T143019Z
UID:2385-1585735200-1585738800@www.stmaryschurchtickhill.com
SUMMARY:10:00 AM Holy Communion in St Luke’s Chapel
DESCRIPTION:
URL:https://www.stmaryschurchtickhill.com/event/1000-am-holy-communion-in-st-lukes-chapel-42
LOCATION:St. Mary’s Church\, Tickhill\, St Mary's Church\, St Mary's Rd\, Tickhill\,\, Doncaster\, DN11 9LZ\, United Kingdom
END:VEVENT
BEGIN:VEVENT
DTSTART;TZID=Europe/London:20200329T180000
DTEND;TZID=Europe/London:20200329T190000
DTSTAMP:20260423T084622
CREATED:20200211T122636Z
LAST-MODIFIED:20200211T122636Z
UID:2464-1585504800-1585508400@www.stmaryschurchtickhill.com
SUMMARY:6:00 PM Evensong
DESCRIPTION:
URL:https://www.stmaryschurchtickhill.com/event/600-pm-evensong-50
LOCATION:St. Mary’s Church\, Tickhill\, St Mary's Church\, St Mary's Rd\, Tickhill\,\, Doncaster\, DN11 9LZ\, United Kingdom
END:VEVENT
BEGIN:VEVENT
DTSTART;TZID=Europe/London:20200329T103000
DTEND;TZID=Europe/London:20200329T120000
DTSTAMP:20260423T084622
CREATED:20200211T124659Z
LAST-MODIFIED:20200211T124659Z
UID:2511-1585477800-1585483200@www.stmaryschurchtickhill.com
SUMMARY:10:30 AM Parish Eucharist
DESCRIPTION:
URL:https://www.stmaryschurchtickhill.com/event/1030-am-parish-eucharist-5
LOCATION:St. Mary’s Church\, Tickhill\, St Mary's Church\, St Mary's Rd\, Tickhill\,\, Doncaster\, DN11 9LZ\, United Kingdom
END:VEVENT
BEGIN:VEVENT
DTSTART;TZID=Europe/London:20200329T080000
DTEND;TZID=Europe/London:20200329T090000
DTSTAMP:20260423T084622
CREATED:20200211T115345Z
LAST-MODIFIED:20200211T115345Z
UID:2414-1585468800-1585472400@www.stmaryschurchtickhill.com
SUMMARY:8:00 AM Holy Communion (BCP)\, St. Helen’s Chapel
DESCRIPTION:
URL:https://www.stmaryschurchtickhill.com/event/800-am-holy-communion-bcp-st-helens-chapel-54
LOCATION:St. Mary’s Church\, Tickhill\, St Mary's Church\, St Mary's Rd\, Tickhill\,\, Doncaster\, DN11 9LZ\, United Kingdom
END:VEVENT
BEGIN:VEVENT
DTSTART;VALUE=DATE:20200329
DTEND;VALUE=DATE:20200330
DTSTAMP:20260423T084622
CREATED:20200211T132838Z
LAST-MODIFIED:20220915T112044Z
UID:2540-1585440000-1585526399@www.stmaryschurchtickhill.com
SUMMARY:The Fifth Sunday of Lent (Passiontide begins)
DESCRIPTION:
URL:https://www.stmaryschurchtickhill.com/event/the-fifth-sunday-of-lent-passiontide-begins-2
END:VEVENT
BEGIN:VEVENT
DTSTART;TZID=Europe/London:20200328T100000
DTEND;TZID=Europe/London:20200328T120000
DTSTAMP:20260423T084622
CREATED:20200211T143605Z
LAST-MODIFIED:20200211T143605Z
UID:2623-1585389600-1585396800@www.stmaryschurchtickhill.com
SUMMARY:10:00 AM Coffee served in the Parish Room
DESCRIPTION:
URL:https://www.stmaryschurchtickhill.com/event/1000-am-coffee-served-in-the-parish-room-3
LOCATION:Parish Room\, Tickhill Parish Room\, Northgate\, Tickhill\, Doncaster\, DN11 9HZ\, United Kingdom
END:VEVENT
BEGIN:VEVENT
DTSTART;TZID=Europe/London:20200327T120000
DTEND;TZID=Europe/London:20200327T130000
DTSTAMP:20260423T084622
CREATED:20200211T134242Z
LAST-MODIFIED:20200211T143229Z
UID:2550-1585310400-1585314000@www.stmaryschurchtickhill.com
SUMMARY:12:00 PM Soup Lunch
DESCRIPTION:
URL:https://www.stmaryschurchtickhill.com/event/1200-soup-lunch-4
LOCATION:Parish Room\, Tickhill Parish Room\, Northgate\, Tickhill\, Doncaster\, DN11 9HZ\, United Kingdom
END:VEVENT
BEGIN:VEVENT
DTSTART;TZID=Europe/London:20200325T100000
DTEND;TZID=Europe/London:20200325T110000
DTSTAMP:20260423T084622
CREATED:20200114T142322Z
LAST-MODIFIED:20200114T142322Z
UID:2383-1585130400-1585134000@www.stmaryschurchtickhill.com
SUMMARY:10:00 AM Holy Communion in St Luke’s Chapel
DESCRIPTION:
URL:https://www.stmaryschurchtickhill.com/event/1000-am-holy-communion-in-st-lukes-chapel-41
LOCATION:St. Mary’s Church\, Tickhill\, St Mary's Church\, St Mary's Rd\, Tickhill\,\, Doncaster\, DN11 9LZ\, United Kingdom
END:VEVENT
BEGIN:VEVENT
DTSTART;TZID=Europe/London:20200323T193000
DTEND;TZID=Europe/London:20200323T210000
DTSTAMP:20260423T084622
CREATED:20200211T121455Z
LAST-MODIFIED:20200211T121455Z
UID:2442-1584991800-1584997200@www.stmaryschurchtickhill.com
SUMMARY:7:30 PM PCC- St. Luke’s Chapel
DESCRIPTION:
URL:https://www.stmaryschurchtickhill.com/event/730-pm-pcc-st-lukes-chapel-7
LOCATION:St. Mary’s Church\, Tickhill\, St Mary's Church\, St Mary's Rd\, Tickhill\,\, Doncaster\, DN11 9LZ\, United Kingdom
END:VEVENT
BEGIN:VEVENT
DTSTART;TZID=Europe/London:20200322T180000
DTEND;TZID=Europe/London:20200322T190000
DTSTAMP:20260423T084622
CREATED:20200211T122606Z
LAST-MODIFIED:20200211T122606Z
UID:2462-1584900000-1584903600@www.stmaryschurchtickhill.com
SUMMARY:6:00 PM Evensong
DESCRIPTION:
URL:https://www.stmaryschurchtickhill.com/event/600-pm-evensong-49
LOCATION:St. Mary’s Church\, Tickhill\, St Mary's Church\, St Mary's Rd\, Tickhill\,\, Doncaster\, DN11 9LZ\, United Kingdom
END:VEVENT
BEGIN:VEVENT
DTSTART;TZID=Europe/London:20200322T103000
DTEND;TZID=Europe/London:20200322T120000
DTSTAMP:20260423T084622
CREATED:20200211T124628Z
LAST-MODIFIED:20200211T135655Z
UID:2509-1584873000-1584878400@www.stmaryschurchtickhill.com
SUMMARY:10:30 AM Family Communion
DESCRIPTION:
URL:https://www.stmaryschurchtickhill.com/event/1030-am-parish-eucharist-4
LOCATION:St. Mary’s Church\, Tickhill\, St Mary's Church\, St Mary's Rd\, Tickhill\,\, Doncaster\, DN11 9LZ\, United Kingdom
END:VEVENT
BEGIN:VEVENT
DTSTART;TZID=Europe/London:20200322T080000
DTEND;TZID=Europe/London:20200322T090000
DTSTAMP:20260423T084622
CREATED:20200211T115314Z
LAST-MODIFIED:20200211T115314Z
UID:2412-1584864000-1584867600@www.stmaryschurchtickhill.com
SUMMARY:8:00 AM Holy Communion (BCP)\, St. Helen’s Chapel
DESCRIPTION:
URL:https://www.stmaryschurchtickhill.com/event/800-am-holy-communion-bcp-st-helens-chapel-53
LOCATION:St. Mary’s Church\, Tickhill\, St Mary's Church\, St Mary's Rd\, Tickhill\,\, Doncaster\, DN11 9LZ\, United Kingdom
END:VEVENT
BEGIN:VEVENT
DTSTART;VALUE=DATE:20200322
DTEND;VALUE=DATE:20200323
DTSTAMP:20260423T084622
CREATED:20200211T130156Z
LAST-MODIFIED:20200211T130156Z
UID:2538-1584835200-1584921599@www.stmaryschurchtickhill.com
SUMMARY:The Fourth Sunday of Lent – Mothering Sunday
DESCRIPTION:
URL:https://www.stmaryschurchtickhill.com/event/the-fourth-sunday-of-lent-mothering-sunday-2
END:VEVENT
BEGIN:VEVENT
DTSTART;TZID=Europe/London:20200321T100000
DTEND;TZID=Europe/London:20200321T120000
DTSTAMP:20260423T084622
CREATED:20200211T143538Z
LAST-MODIFIED:20200211T143538Z
UID:2621-1584784800-1584792000@www.stmaryschurchtickhill.com
SUMMARY:10:00 AM Coffee served in the Parish Room
DESCRIPTION:
URL:https://www.stmaryschurchtickhill.com/event/1000-am-coffee-served-in-the-parish-room-2
LOCATION:Parish Room\, Tickhill Parish Room\, Northgate\, Tickhill\, Doncaster\, DN11 9HZ\, United Kingdom
END:VEVENT
BEGIN:VEVENT
DTSTART;TZID=Europe/London:20200318T100000
DTEND;TZID=Europe/London:20200318T110000
DTSTAMP:20260423T084622
CREATED:20200114T142241Z
LAST-MODIFIED:20200114T142241Z
UID:2381-1584525600-1584529200@www.stmaryschurchtickhill.com
SUMMARY:10:00 AM Holy Communion in St Luke’s Chapel
DESCRIPTION:
URL:https://www.stmaryschurchtickhill.com/event/1000-am-holy-communion-in-st-lukes-chapel-40
LOCATION:St. Mary’s Church\, Tickhill\, St Mary's Church\, St Mary's Rd\, Tickhill\,\, Doncaster\, DN11 9LZ\, United Kingdom
END:VEVENT
BEGIN:VEVENT
DTSTART;TZID=Europe/London:20200315T180000
DTEND;TZID=Europe/London:20200315T190000
DTSTAMP:20260423T084622
CREATED:20200211T122533Z
LAST-MODIFIED:20200211T122533Z
UID:2460-1584295200-1584298800@www.stmaryschurchtickhill.com
SUMMARY:6:00 PM Evensong
DESCRIPTION:
URL:https://www.stmaryschurchtickhill.com/event/600-pm-evensong-48
LOCATION:St. Mary’s Church\, Tickhill\, St Mary's Church\, St Mary's Rd\, Tickhill\,\, Doncaster\, DN11 9LZ\, United Kingdom
END:VEVENT
BEGIN:VEVENT
DTSTART;TZID=Europe/London:20200315T103000
DTEND;TZID=Europe/London:20200315T120000
DTSTAMP:20260423T084622
CREATED:20200211T124532Z
LAST-MODIFIED:20200211T124532Z
UID:2507-1584268200-1584273600@www.stmaryschurchtickhill.com
SUMMARY:10:30 AM Parish Eucharist
DESCRIPTION:
URL:https://www.stmaryschurchtickhill.com/event/1030-am-parish-eucharist-3
LOCATION:St. Mary’s Church\, Tickhill\, St Mary's Church\, St Mary's Rd\, Tickhill\,\, Doncaster\, DN11 9LZ\, United Kingdom
END:VEVENT
BEGIN:VEVENT
DTSTART;TZID=Europe/London:20200315T080000
DTEND;TZID=Europe/London:20200315T090000
DTSTAMP:20260423T084622
CREATED:20200211T115242Z
LAST-MODIFIED:20200211T115242Z
UID:2410-1584259200-1584262800@www.stmaryschurchtickhill.com
SUMMARY:8:00 AM Holy Communion (BCP)\, St. Helen’s Chapel
DESCRIPTION:
URL:https://www.stmaryschurchtickhill.com/event/800-am-holy-communion-bcp-st-helens-chapel-52
LOCATION:St. Mary’s Church\, Tickhill\, St Mary's Church\, St Mary's Rd\, Tickhill\,\, Doncaster\, DN11 9LZ\, United Kingdom
END:VEVENT
BEGIN:VEVENT
DTSTART;VALUE=DATE:20200315
DTEND;VALUE=DATE:20200316
DTSTAMP:20260423T084622
CREATED:20200211T125756Z
LAST-MODIFIED:20200211T125832Z
UID:2533-1584230400-1584316799@www.stmaryschurchtickhill.com
SUMMARY:Third Sunday of Lent
DESCRIPTION:
URL:https://www.stmaryschurchtickhill.com/event/3rd-sunday-of-lent
END:VEVENT
BEGIN:VEVENT
DTSTART;TZID=Europe/London:20200314T100000
DTEND;TZID=Europe/London:20200314T120000
DTSTAMP:20260423T084622
CREATED:20200211T143509Z
LAST-MODIFIED:20200211T143509Z
UID:2619-1584180000-1584187200@www.stmaryschurchtickhill.com
SUMMARY:10:00 AM Coffee served in the Parish Room
DESCRIPTION:
URL:https://www.stmaryschurchtickhill.com/event/1000-am-coffee-served-in-the-parish-room
LOCATION:Parish Room\, Tickhill Parish Room\, Northgate\, Tickhill\, Doncaster\, DN11 9HZ\, United Kingdom
END:VEVENT
BEGIN:VEVENT
DTSTART;TZID=Europe/London:20200313T120000
DTEND;TZID=Europe/London:20200313T130000
DTSTAMP:20260423T084622
CREATED:20200211T134203Z
LAST-MODIFIED:20200211T143212Z
UID:2548-1584100800-1584104400@www.stmaryschurchtickhill.com
SUMMARY:12:00 PM Soup Lunch
DESCRIPTION:
URL:https://www.stmaryschurchtickhill.com/event/1200-soup-lunch-3
LOCATION:Parish Room\, Tickhill Parish Room\, Northgate\, Tickhill\, Doncaster\, DN11 9HZ\, United Kingdom
END:VEVENT
BEGIN:VEVENT
DTSTART;TZID=Europe/London:20200311T100000
DTEND;TZID=Europe/London:20200311T110000
DTSTAMP:20260423T084622
CREATED:20200114T142210Z
LAST-MODIFIED:20200114T142210Z
UID:2379-1583920800-1583924400@www.stmaryschurchtickhill.com
SUMMARY:10:00 AM Holy Communion in St Luke’s Chapel
DESCRIPTION:
URL:https://www.stmaryschurchtickhill.com/event/1000-am-holy-communion-in-st-lukes-chapel-39
LOCATION:St. Mary’s Church\, Tickhill\, St Mary's Church\, St Mary's Rd\, Tickhill\,\, Doncaster\, DN11 9LZ\, United Kingdom
END:VEVENT
BEGIN:VEVENT
DTSTART;TZID=Europe/London:20200310T183000
DTEND;TZID=Europe/London:20200310T193000
DTSTAMP:20260423T084622
CREATED:20200211T121123Z
LAST-MODIFIED:20200211T121123Z
UID:2438-1583865000-1583868600@www.stmaryschurchtickhill.com
SUMMARY:6:30 PM Standing Committee – St. Luke’s Chapel
DESCRIPTION:
URL:https://www.stmaryschurchtickhill.com/event/630-pm-standing-committee-st-lukes-chapel-7
LOCATION:St. Mary’s Church\, Tickhill\, St Mary's Church\, St Mary's Rd\, Tickhill\,\, Doncaster\, DN11 9LZ\, United Kingdom
END:VEVENT
BEGIN:VEVENT
DTSTART;TZID=Europe/London:20200308T180000
DTEND;TZID=Europe/London:20200308T190000
DTSTAMP:20260423T084622
CREATED:20200211T122506Z
LAST-MODIFIED:20200211T122506Z
UID:2458-1583690400-1583694000@www.stmaryschurchtickhill.com
SUMMARY:6:00 PM Evensong
DESCRIPTION:
URL:https://www.stmaryschurchtickhill.com/event/600-pm-evensong-47
LOCATION:St. Mary’s Church\, Tickhill\, St Mary's Church\, St Mary's Rd\, Tickhill\,\, Doncaster\, DN11 9LZ\, United Kingdom
END:VEVENT
BEGIN:VEVENT
DTSTART;TZID=Europe/London:20200308T103000
DTEND;TZID=Europe/London:20200308T120000
DTSTAMP:20260423T084622
CREATED:20200211T124449Z
LAST-MODIFIED:20200211T124449Z
UID:2505-1583663400-1583668800@www.stmaryschurchtickhill.com
SUMMARY:10:30 AM Parish Eucharist
DESCRIPTION:
URL:https://www.stmaryschurchtickhill.com/event/1030-am-parish-eucharist-2
LOCATION:St. Mary’s Church\, Tickhill\, St Mary's Church\, St Mary's Rd\, Tickhill\,\, Doncaster\, DN11 9LZ\, United Kingdom
END:VEVENT
BEGIN:VEVENT
DTSTART;TZID=Europe/London:20200308T080000
DTEND;TZID=Europe/London:20200308T090000
DTSTAMP:20260423T084622
CREATED:20200211T115214Z
LAST-MODIFIED:20200211T115214Z
UID:2408-1583654400-1583658000@www.stmaryschurchtickhill.com
SUMMARY:8:00 AM Holy Communion (BCP)\, St. Helen’s Chapel
DESCRIPTION:
URL:https://www.stmaryschurchtickhill.com/event/800-am-holy-communion-bcp-st-helens-chapel-51
LOCATION:St. Mary’s Church\, Tickhill\, St Mary's Church\, St Mary's Rd\, Tickhill\,\, Doncaster\, DN11 9LZ\, United Kingdom
END:VEVENT
BEGIN:VEVENT
DTSTART;VALUE=DATE:20200308
DTEND;VALUE=DATE:20200309
DTSTAMP:20260423T084622
CREATED:20200211T125706Z
LAST-MODIFIED:20200211T130029Z
UID:2531-1583625600-1583711999@www.stmaryschurchtickhill.com
SUMMARY:Second Sunday of Lent
DESCRIPTION:
URL:https://www.stmaryschurchtickhill.com/event/2nd-sunday-of-lent
END:VEVENT
BEGIN:VEVENT
DTSTART;TZID=Europe/London:20200307T100000
DTEND;TZID=Europe/London:20200307T120000
DTSTAMP:20260423T084622
CREATED:20200211T143013Z
LAST-MODIFIED:20200211T143056Z
UID:2609-1583575200-1583582400@www.stmaryschurchtickhill.com
SUMMARY:10:00 AM Coffee served in the Parish Room
DESCRIPTION:
URL:https://www.stmaryschurchtickhill.com/event/1000-coffee-served-in-the-parish-room-22
LOCATION:Parish Room\, Tickhill Parish Room\, Northgate\, Tickhill\, Doncaster\, DN11 9HZ\, United Kingdom
END:VEVENT
BEGIN:VEVENT
DTSTART;TZID=Europe/London:20200306T140000
DTEND;TZID=Europe/London:20200306T150000
DTSTAMP:20260423T084622
CREATED:20200211T140354Z
LAST-MODIFIED:20200211T140726Z
UID:2574-1583503200-1583506800@www.stmaryschurchtickhill.com
SUMMARY:2:00 PM World Day of Prayer Service
DESCRIPTION:
URL:https://www.stmaryschurchtickhill.com/event/200-pm-world-day-of-prayer-service
LOCATION:St. Mary’s Church\, Tickhill\, St Mary's Church\, St Mary's Rd\, Tickhill\,\, Doncaster\, DN11 9LZ\, United Kingdom
END:VEVENT
END:VCALENDAR