BEGIN:VCALENDAR
VERSION:2.0
PRODID:-//St Mary&#039;s Church Tickhill - ECPv6.15.20//NONSGML v1.0//EN
CALSCALE:GREGORIAN
METHOD:PUBLISH
X-WR-CALNAME:St Mary&#039;s Church Tickhill
X-ORIGINAL-URL:https://www.stmaryschurchtickhill.com
X-WR-CALDESC:Events for St Mary&#039;s Church Tickhill
REFRESH-INTERVAL;VALUE=DURATION:PT1H
X-Robots-Tag:noindex
X-PUBLISHED-TTL:PT1H
BEGIN:VTIMEZONE
TZID:Europe/London
BEGIN:DAYLIGHT
TZOFFSETFROM:+0000
TZOFFSETTO:+0100
TZNAME:BST
DTSTART:20180325T010000
END:DAYLIGHT
BEGIN:STANDARD
TZOFFSETFROM:+0100
TZOFFSETTO:+0000
TZNAME:GMT
DTSTART:20181028T010000
END:STANDARD
BEGIN:DAYLIGHT
TZOFFSETFROM:+0000
TZOFFSETTO:+0100
TZNAME:BST
DTSTART:20190331T010000
END:DAYLIGHT
BEGIN:STANDARD
TZOFFSETFROM:+0100
TZOFFSETTO:+0000
TZNAME:GMT
DTSTART:20191027T010000
END:STANDARD
BEGIN:DAYLIGHT
TZOFFSETFROM:+0000
TZOFFSETTO:+0100
TZNAME:BST
DTSTART:20200329T010000
END:DAYLIGHT
BEGIN:STANDARD
TZOFFSETFROM:+0100
TZOFFSETTO:+0000
TZNAME:GMT
DTSTART:20201025T010000
END:STANDARD
END:VTIMEZONE
BEGIN:VEVENT
DTSTART;TZID=Europe/London:20190712T180000
DTEND;TZID=Europe/London:20190712T190000
DTSTAMP:20260425T132734
CREATED:20190704T083649Z
LAST-MODIFIED:20190704T083649Z
UID:1982-1562954400-1562958000@www.stmaryschurchtickhill.com
SUMMARY:6:00 PM Junior Choir Practice in St. Luke’s Chapel
DESCRIPTION:
URL:https://www.stmaryschurchtickhill.com/event/600-pm-junior-choir-practice-in-st-lukes-chapel-20
LOCATION:St. Mary’s Church\, Tickhill\, St Mary's Church\, St Mary's Rd\, Tickhill\,\, Doncaster\, DN11 9LZ\, United Kingdom
END:VEVENT
BEGIN:VEVENT
DTSTART;TZID=Europe/London:20190710T100000
DTEND;TZID=Europe/London:20190710T110000
DTSTAMP:20260425T132734
CREATED:20190503T150012Z
LAST-MODIFIED:20190503T150012Z
UID:1605-1562752800-1562756400@www.stmaryschurchtickhill.com
SUMMARY:10:00 AM Holy Communion in St Luke's Chapel
DESCRIPTION:
URL:https://www.stmaryschurchtickhill.com/event/1000-am-holy-communion-in-st-lukes-chapel-5
LOCATION:St. Mary’s Church\, Tickhill\, St Mary's Church\, St Mary's Rd\, Tickhill\,\, Doncaster\, DN11 9LZ\, United Kingdom
END:VEVENT
BEGIN:VEVENT
DTSTART;TZID=Europe/London:20190709T140000
DTEND;TZID=Europe/London:20190709T160000
DTSTAMP:20260425T132734
CREATED:20190704T091544Z
LAST-MODIFIED:20190706T110711Z
UID:2028-1562680800-1562688000@www.stmaryschurchtickhill.com
SUMMARY:2:00 PM Mothers' Union MULOA course - Tickhill Library
DESCRIPTION:Listening\, Observing\, Acting – with Pauline Reynolds
URL:https://www.stmaryschurchtickhill.com/event/200-pm-mothers-union-muloa-course-st-lukes-chapel
LOCATION:Tickhill Community Library\, Market Pl\, Tickhill\, Doncaster\, DN11 9QU\, United Kingdom
END:VEVENT
BEGIN:VEVENT
DTSTART;TZID=Europe/London:20190708T193000
DTEND;TZID=Europe/London:20190708T210000
DTSTAMP:20260425T132734
CREATED:20190516T153806Z
LAST-MODIFIED:20190516T153806Z
UID:1729-1562614200-1562619600@www.stmaryschurchtickhill.com
SUMMARY:7:30 PM PCC- St. Luke’s Chapel
DESCRIPTION:
URL:https://www.stmaryschurchtickhill.com/event/730-pm-pcc-st-lukes-chapel-3
LOCATION:St. Mary’s Church\, Tickhill\, St Mary's Church\, St Mary's Rd\, Tickhill\,\, Doncaster\, DN11 9LZ\, United Kingdom
END:VEVENT
BEGIN:VEVENT
DTSTART;TZID=Europe/London:20190707T180000
DTEND;TZID=Europe/London:20190707T190000
DTSTAMP:20260425T132734
CREATED:20190503T161954Z
LAST-MODIFIED:20190503T161954Z
UID:1666-1562522400-1562526000@www.stmaryschurchtickhill.com
SUMMARY:6:00 PM Evensong
DESCRIPTION:
URL:https://www.stmaryschurchtickhill.com/event/600-pm-evensong-22
LOCATION:St. Mary’s Church\, Tickhill\, St Mary's Church\, St Mary's Rd\, Tickhill\,\, Doncaster\, DN11 9LZ\, United Kingdom
END:VEVENT
BEGIN:VEVENT
DTSTART;TZID=Europe/London:20190707T103000
DTEND;TZID=Europe/London:20190707T120000
DTSTAMP:20260425T132734
CREATED:20190215T150925Z
LAST-MODIFIED:20190215T161153Z
UID:523-1562495400-1562500800@www.stmaryschurchtickhill.com
SUMMARY:10:30 AM Family Communion with Baptisms
DESCRIPTION:
URL:https://www.stmaryschurchtickhill.com/event/1030-family-communion-with-baptisms-6
END:VEVENT
BEGIN:VEVENT
DTSTART;TZID=Europe/London:20190707T080000
DTEND;TZID=Europe/London:20190707T090000
DTSTAMP:20260425T132734
CREATED:20190503T162656Z
LAST-MODIFIED:20190503T162656Z
UID:1678-1562486400-1562490000@www.stmaryschurchtickhill.com
SUMMARY:8:00 AM Holy Communion (BCP)\, St. Helen’s Chapel
DESCRIPTION:
URL:https://www.stmaryschurchtickhill.com/event/800-am-holy-communion-bcp-st-helens-chapel-23
LOCATION:St. Mary’s Church\, Tickhill\, St Mary's Church\, St Mary's Rd\, Tickhill\,\, Doncaster\, DN11 9LZ\, United Kingdom
END:VEVENT
BEGIN:VEVENT
DTSTART;VALUE=DATE:20190707
DTEND;VALUE=DATE:20190708
DTSTAMP:20260425T132734
CREATED:20190220T162249Z
LAST-MODIFIED:20190220T162319Z
UID:878-1562457600-1562543999@www.stmaryschurchtickhill.com
SUMMARY:The Third Sunday after Trinity
DESCRIPTION:
URL:https://www.stmaryschurchtickhill.com/event/the-third-sunday-after-trinity
END:VEVENT
BEGIN:VEVENT
DTSTART;TZID=Europe/London:20190706T100000
DTEND;TZID=Europe/London:20190706T120000
DTSTAMP:20260425T132734
CREATED:20190529T135447Z
LAST-MODIFIED:20190529T135447Z
UID:1839-1562407200-1562414400@www.stmaryschurchtickhill.com
SUMMARY:10:00 Coffee served in the Parish Room
DESCRIPTION:
URL:https://www.stmaryschurchtickhill.com/event/1000-coffee-served-in-the-parish-room-15
LOCATION:Parish Room\, Tickhill Parish Room\, Northgate\, Tickhill\, Doncaster\, DN11 9HZ\, United Kingdom
END:VEVENT
BEGIN:VEVENT
DTSTART;TZID=Europe/London:20190705T190000
DTEND;TZID=Europe/London:20190705T200000
DTSTAMP:20260425T132734
CREATED:20190704T084632Z
LAST-MODIFIED:20190704T084632Z
UID:1998-1562353200-1562356800@www.stmaryschurchtickhill.com
SUMMARY:7:00 PM Senior Choir Practice in St. Luke’s Chapel
DESCRIPTION:
URL:https://www.stmaryschurchtickhill.com/event/700-pm-senior-choir-practice-in-st-lukes-chapel-18
LOCATION:St. Mary’s Church\, Tickhill\, St Mary's Church\, St Mary's Rd\, Tickhill\,\, Doncaster\, DN11 9LZ\, United Kingdom
END:VEVENT
BEGIN:VEVENT
DTSTART;TZID=Europe/London:20190705T180000
DTEND;TZID=Europe/London:20190705T190000
DTSTAMP:20260425T132734
CREATED:20190704T083609Z
LAST-MODIFIED:20190704T083609Z
UID:1980-1562349600-1562353200@www.stmaryschurchtickhill.com
SUMMARY:6:00 PM Junior Choir Practice in St. Luke’s Chapel
DESCRIPTION:
URL:https://www.stmaryschurchtickhill.com/event/600-pm-junior-choir-practice-in-st-lukes-chapel-19
LOCATION:St. Mary’s Church\, Tickhill\, St Mary's Church\, St Mary's Rd\, Tickhill\,\, Doncaster\, DN11 9LZ\, United Kingdom
END:VEVENT
BEGIN:VEVENT
DTSTART;TZID=Europe/London:20190705T141500
DTEND;TZID=Europe/London:20190705T160000
DTSTAMP:20260425T132734
CREATED:20190322T124223Z
LAST-MODIFIED:20190322T124223Z
UID:1354-1562336100-1562342400@www.stmaryschurchtickhill.com
SUMMARY:2:15 PM Church Mice\, St. Luke’s Chapel
DESCRIPTION:Meet in Church to share some simple songs\, a story and some craft\, with time for a drink and a biscuit\, coffee and a chat.
URL:https://www.stmaryschurchtickhill.com/event/215-pm-church-mice-st-lukes-chapel-5
LOCATION:St. Mary’s Church\, Tickhill\, St Mary's Church\, St Mary's Rd\, Tickhill\,\, Doncaster\, DN11 9LZ\, United Kingdom
END:VEVENT
BEGIN:VEVENT
DTSTART;TZID=Europe/London:20190703T100000
DTEND;TZID=Europe/London:20190703T230000
DTSTAMP:20260425T132734
CREATED:20190503T145912Z
LAST-MODIFIED:20190503T145912Z
UID:1603-1562148000-1562194800@www.stmaryschurchtickhill.com
SUMMARY:10:00 AM Holy Communion in St Luke's Chapel
DESCRIPTION:
URL:https://www.stmaryschurchtickhill.com/event/1000-am-holy-communion-in-st-lukes-chapel-4
LOCATION:St. Mary’s Church\, Tickhill\, St Mary's Church\, St Mary's Rd\, Tickhill\,\, Doncaster\, DN11 9LZ\, United Kingdom
END:VEVENT
BEGIN:VEVENT
DTSTART;TZID=Europe/London:20190630T180000
DTEND;TZID=Europe/London:20190630T190000
DTSTAMP:20260425T132734
CREATED:20190503T161841Z
LAST-MODIFIED:20190503T161841Z
UID:1664-1561917600-1561921200@www.stmaryschurchtickhill.com
SUMMARY:6:00 PM Evensong
DESCRIPTION:
URL:https://www.stmaryschurchtickhill.com/event/600-pm-evensong-21
LOCATION:St. Mary’s Church\, Tickhill\, St Mary's Church\, St Mary's Rd\, Tickhill\,\, Doncaster\, DN11 9LZ\, United Kingdom
END:VEVENT
BEGIN:VEVENT
DTSTART;TZID=Europe/London:20190630T150000
DTEND;TZID=Europe/London:20190630T160000
DTSTAMP:20260425T132734
CREATED:20190221T142214Z
LAST-MODIFIED:20190221T142347Z
UID:1117-1561906800-1561910400@www.stmaryschurchtickhill.com
SUMMARY:3:00 PM Pet Service
DESCRIPTION:
URL:https://www.stmaryschurchtickhill.com/event/300-pm-pet-service
LOCATION:St. Mary’s Church\, Tickhill\, St Mary's Church\, St Mary's Rd\, Tickhill\,\, Doncaster\, DN11 9LZ\, United Kingdom
END:VEVENT
BEGIN:VEVENT
DTSTART;TZID=Europe/London:20190630T103000
DTEND;TZID=Europe/London:20190630T120000
DTSTAMP:20260425T132734
CREATED:20190503T162444Z
LAST-MODIFIED:20190503T162444Z
UID:1674-1561890600-1561896000@www.stmaryschurchtickhill.com
SUMMARY:10:30 AM Sung Parish Eucharist
DESCRIPTION:
URL:https://www.stmaryschurchtickhill.com/event/1030-am-sung-parish-eucharist-13
LOCATION:St. Mary’s Church\, Tickhill\, St Mary's Church\, St Mary's Rd\, Tickhill\,\, Doncaster\, DN11 9LZ\, United Kingdom
END:VEVENT
BEGIN:VEVENT
DTSTART;TZID=Europe/London:20190630T080000
DTEND;TZID=Europe/London:20190630T090000
DTSTAMP:20260425T132734
CREATED:20190503T161544Z
LAST-MODIFIED:20190503T161544Z
UID:1656-1561881600-1561885200@www.stmaryschurchtickhill.com
SUMMARY:8:00 AM Holy Communion (BCP)\, St. Helen’s Chapel
DESCRIPTION:
URL:https://www.stmaryschurchtickhill.com/event/800-am-holy-communion-bcp-st-helens-chapel-22
LOCATION:St. Mary’s Church\, Tickhill\, St Mary's Church\, St Mary's Rd\, Tickhill\,\, Doncaster\, DN11 9LZ\, United Kingdom
END:VEVENT
BEGIN:VEVENT
DTSTART;VALUE=DATE:20190630
DTEND;VALUE=DATE:20190701
DTSTAMP:20260425T132734
CREATED:20190220T162149Z
LAST-MODIFIED:20190220T162149Z
UID:876-1561852800-1561939199@www.stmaryschurchtickhill.com
SUMMARY:The Second Sunday after Trinity
DESCRIPTION:
URL:https://www.stmaryschurchtickhill.com/event/the-second-sunday-after-trinity
END:VEVENT
BEGIN:VEVENT
DTSTART;TZID=Europe/London:20190628T190000
DTEND;TZID=Europe/London:20190628T200000
DTSTAMP:20260425T132734
CREATED:20190503T160939Z
LAST-MODIFIED:20190503T160939Z
UID:1642-1561748400-1561752000@www.stmaryschurchtickhill.com
SUMMARY:7:00 PM Senior Choir Practice in St. Luke’s Chapel
DESCRIPTION:
URL:https://www.stmaryschurchtickhill.com/event/700-pm-senior-choir-practice-in-st-lukes-chapel-17
LOCATION:St. Mary’s Church\, Tickhill\, St Mary's Church\, St Mary's Rd\, Tickhill\,\, Doncaster\, DN11 9LZ\, United Kingdom
END:VEVENT
BEGIN:VEVENT
DTSTART;TZID=Europe/London:20190628T180000
DTEND;TZID=Europe/London:20190628T190000
DTSTAMP:20260425T132734
CREATED:20190503T161240Z
LAST-MODIFIED:20190503T161240Z
UID:1648-1561744800-1561748400@www.stmaryschurchtickhill.com
SUMMARY:6:00 PM Junior Choir Practice in St. Luke’s Chapel
DESCRIPTION:
URL:https://www.stmaryschurchtickhill.com/event/600-pm-junior-choir-practice-in-st-lukes-chapel-18
LOCATION:St. Mary’s Church\, Tickhill\, St Mary's Church\, St Mary's Rd\, Tickhill\,\, Doncaster\, DN11 9LZ\, United Kingdom
END:VEVENT
BEGIN:VEVENT
DTSTART;TZID=Europe/London:20190626T100000
DTEND;TZID=Europe/London:20190626T110000
DTSTAMP:20260425T132734
CREATED:20190503T145812Z
LAST-MODIFIED:20190503T145812Z
UID:1601-1561543200-1561546800@www.stmaryschurchtickhill.com
SUMMARY:10:00 AM Holy Communion in St Luke's Chapel
DESCRIPTION:
URL:https://www.stmaryschurchtickhill.com/event/1000-am-holy-communion-in-st-lukes-chapel-3
LOCATION:St. Mary’s Church\, Tickhill\, St Mary's Church\, St Mary's Rd\, Tickhill\,\, Doncaster\, DN11 9LZ\, United Kingdom
END:VEVENT
BEGIN:VEVENT
DTSTART;TZID=Europe/London:20190624T183000
DTEND;TZID=Europe/London:20190624T200000
DTSTAMP:20260425T132734
CREATED:20190516T154139Z
LAST-MODIFIED:20190516T154139Z
UID:1738-1561401000-1561406400@www.stmaryschurchtickhill.com
SUMMARY:6:30 PM Standing Committee – St. Luke’s Chapel
DESCRIPTION:
URL:https://www.stmaryschurchtickhill.com/event/630-pm-standing-committee-st-lukes-chapel-3
LOCATION:St. Mary’s Church\, Tickhill\, St Mary's Church\, St Mary's Rd\, Tickhill\,\, Doncaster\, DN11 9LZ\, United Kingdom
END:VEVENT
BEGIN:VEVENT
DTSTART;TZID=Europe/London:20190623T180000
DTEND;TZID=Europe/London:20190623T190000
DTSTAMP:20260425T132734
CREATED:20190503T161803Z
LAST-MODIFIED:20190503T161803Z
UID:1662-1561312800-1561316400@www.stmaryschurchtickhill.com
SUMMARY:6:00 PM Evensong
DESCRIPTION:
URL:https://www.stmaryschurchtickhill.com/event/600-pm-evensong-20
LOCATION:St. Mary’s Church\, Tickhill\, St Mary's Church\, St Mary's Rd\, Tickhill\,\, Doncaster\, DN11 9LZ\, United Kingdom
END:VEVENT
BEGIN:VEVENT
DTSTART;TZID=Europe/London:20190623T103000
DTEND;TZID=Europe/London:20190623T120000
DTSTAMP:20260425T132734
CREATED:20190503T162405Z
LAST-MODIFIED:20190503T162405Z
UID:1672-1561285800-1561291200@www.stmaryschurchtickhill.com
SUMMARY:10:30 AM Sung Parish Eucharist
DESCRIPTION:
URL:https://www.stmaryschurchtickhill.com/event/1030-am-sung-parish-eucharist-12
LOCATION:St. Mary’s Church\, Tickhill\, St Mary's Church\, St Mary's Rd\, Tickhill\,\, Doncaster\, DN11 9LZ\, United Kingdom
END:VEVENT
BEGIN:VEVENT
DTSTART;TZID=Europe/London:20190623T080000
DTEND;TZID=Europe/London:20190623T090000
DTSTAMP:20260425T132734
CREATED:20190503T161503Z
LAST-MODIFIED:20190503T161503Z
UID:1654-1561276800-1561280400@www.stmaryschurchtickhill.com
SUMMARY:8:00 AM Holy Communion (BCP)\, St. Helen’s Chapel
DESCRIPTION:
URL:https://www.stmaryschurchtickhill.com/event/800-am-holy-communion-bcp-st-helens-chapel-21
LOCATION:St. Mary’s Church\, Tickhill\, St Mary's Church\, St Mary's Rd\, Tickhill\,\, Doncaster\, DN11 9LZ\, United Kingdom
END:VEVENT
BEGIN:VEVENT
DTSTART;VALUE=DATE:20190623
DTEND;VALUE=DATE:20190624
DTSTAMP:20260425T132734
CREATED:20190221T144003Z
LAST-MODIFIED:20190221T144003Z
UID:1132-1561248000-1561334399@www.stmaryschurchtickhill.com
SUMMARY:Choir Sunday
DESCRIPTION:
URL:https://www.stmaryschurchtickhill.com/event/choir-sunday
END:VEVENT
BEGIN:VEVENT
DTSTART;VALUE=DATE:20190623
DTEND;VALUE=DATE:20190624
DTSTAMP:20260425T132734
CREATED:20190220T162102Z
LAST-MODIFIED:20190220T162102Z
UID:874-1561248000-1561334399@www.stmaryschurchtickhill.com
SUMMARY:The First Sunday after Trinity
DESCRIPTION:
URL:https://www.stmaryschurchtickhill.com/event/the-first-sunday-after-trinity
END:VEVENT
BEGIN:VEVENT
DTSTART;TZID=Europe/London:20190622T140000
DTEND;TZID=Europe/London:20190622T163000
DTSTAMP:20260425T132734
CREATED:20190221T143906Z
LAST-MODIFIED:20190221T143906Z
UID:1130-1561212000-1561221000@www.stmaryschurchtickhill.com
SUMMARY:2:00 PM Summer Fair in Church
DESCRIPTION:
URL:https://www.stmaryschurchtickhill.com/event/200-pm-summer-fair-in-church
LOCATION:St. Mary’s Church\, Tickhill\, St Mary's Church\, St Mary's Rd\, Tickhill\,\, Doncaster\, DN11 9LZ\, United Kingdom
END:VEVENT
BEGIN:VEVENT
DTSTART;TZID=Europe/London:20190621T190000
DTEND;TZID=Europe/London:20190621T200000
DTSTAMP:20260425T132734
CREATED:20190503T160746Z
LAST-MODIFIED:20190503T160746Z
UID:1640-1561143600-1561147200@www.stmaryschurchtickhill.com
SUMMARY:7:00 PM Senior Choir Practice in St. Luke’s Chapel
DESCRIPTION:
URL:https://www.stmaryschurchtickhill.com/event/700-pm-senior-choir-practice-in-st-lukes-chapel-16
LOCATION:St. Mary’s Church\, Tickhill\, St Mary's Church\, St Mary's Rd\, Tickhill\,\, Doncaster\, DN11 9LZ\, United Kingdom
END:VEVENT
BEGIN:VEVENT
DTSTART;TZID=Europe/London:20190621T180000
DTEND;TZID=Europe/London:20190621T190000
DTSTAMP:20260425T132734
CREATED:20190503T161210Z
LAST-MODIFIED:20190503T161210Z
UID:1646-1561140000-1561143600@www.stmaryschurchtickhill.com
SUMMARY:6:00 PM Junior Choir Practice in St. Luke’s Chapel
DESCRIPTION:
URL:https://www.stmaryschurchtickhill.com/event/600-pm-junior-choir-practice-in-st-lukes-chapel-17
LOCATION:St. Mary’s Church\, Tickhill\, St Mary's Church\, St Mary's Rd\, Tickhill\,\, Doncaster\, DN11 9LZ\, United Kingdom
END:VEVENT
END:VCALENDAR