BEGIN:VCALENDAR
VERSION:2.0
PRODID:-//St Mary&#039;s Church Tickhill - ECPv6.15.20//NONSGML v1.0//EN
CALSCALE:GREGORIAN
METHOD:PUBLISH
X-WR-CALNAME:St Mary&#039;s Church Tickhill
X-ORIGINAL-URL:https://www.stmaryschurchtickhill.com
X-WR-CALDESC:Events for St Mary&#039;s Church Tickhill
REFRESH-INTERVAL;VALUE=DURATION:PT1H
X-Robots-Tag:noindex
X-PUBLISHED-TTL:PT1H
BEGIN:VTIMEZONE
TZID:Europe/London
BEGIN:DAYLIGHT
TZOFFSETFROM:+0000
TZOFFSETTO:+0100
TZNAME:BST
DTSTART:20180325T010000
END:DAYLIGHT
BEGIN:STANDARD
TZOFFSETFROM:+0100
TZOFFSETTO:+0000
TZNAME:GMT
DTSTART:20181028T010000
END:STANDARD
BEGIN:DAYLIGHT
TZOFFSETFROM:+0000
TZOFFSETTO:+0100
TZNAME:BST
DTSTART:20190331T010000
END:DAYLIGHT
BEGIN:STANDARD
TZOFFSETFROM:+0100
TZOFFSETTO:+0000
TZNAME:GMT
DTSTART:20191027T010000
END:STANDARD
BEGIN:DAYLIGHT
TZOFFSETFROM:+0000
TZOFFSETTO:+0100
TZNAME:BST
DTSTART:20200329T010000
END:DAYLIGHT
BEGIN:STANDARD
TZOFFSETFROM:+0100
TZOFFSETTO:+0000
TZNAME:GMT
DTSTART:20201025T010000
END:STANDARD
END:VTIMEZONE
BEGIN:VEVENT
DTSTART;TZID=Europe/London:20191111T110000
DTEND;TZID=Europe/London:20191111T120000
DTSTAMP:20260423T141454
CREATED:20190221T144720Z
LAST-MODIFIED:20190221T144844Z
UID:1142-1573470000-1573473600@www.stmaryschurchtickhill.com
SUMMARY:11:00 Act of Remembrance
DESCRIPTION:
URL:https://www.stmaryschurchtickhill.com/event/1100-act-of-remembrance
LOCATION:St. Mary’s Church\, Tickhill\, St Mary's Church\, St Mary's Rd\, Tickhill\,\, Doncaster\, DN11 9LZ\, United Kingdom
END:VEVENT
BEGIN:VEVENT
DTSTART;TZID=Europe/London:20191110T180000
DTEND;TZID=Europe/London:20191110T190000
DTSTAMP:20260423T141454
CREATED:20190919T111519Z
LAST-MODIFIED:20190919T111519Z
UID:2134-1573408800-1573412400@www.stmaryschurchtickhill.com
SUMMARY:6:00 PM Evensong
DESCRIPTION:
URL:https://www.stmaryschurchtickhill.com/event/600-pm-evensong-39
LOCATION:St. Mary’s Church\, Tickhill\, St Mary's Church\, St Mary's Rd\, Tickhill\,\, Doncaster\, DN11 9LZ\, United Kingdom
END:VEVENT
BEGIN:VEVENT
DTSTART;TZID=Europe/London:20191110T103000
DTEND;TZID=Europe/London:20191110T120000
DTSTAMP:20260423T141454
CREATED:20190919T114426Z
LAST-MODIFIED:20190919T115930Z
UID:2146-1573381800-1573387200@www.stmaryschurchtickhill.com
SUMMARY:10:30 AM Remembrance Service
DESCRIPTION:
URL:https://www.stmaryschurchtickhill.com/event/1030-am-remembrance-service
LOCATION:St. Mary’s Church\, Tickhill\, St Mary's Church\, St Mary's Rd\, Tickhill\,\, Doncaster\, DN11 9LZ\, United Kingdom
END:VEVENT
BEGIN:VEVENT
DTSTART;TZID=Europe/London:20191110T080000
DTEND;TZID=Europe/London:20191110T090000
DTSTAMP:20260423T141454
CREATED:20190919T110705Z
LAST-MODIFIED:20190919T110705Z
UID:2114-1573372800-1573376400@www.stmaryschurchtickhill.com
SUMMARY:8:00 AM Holy Communion (BCP)\, St. Helen’s Chapel
DESCRIPTION:
URL:https://www.stmaryschurchtickhill.com/event/800-am-holy-communion-bcp-st-helens-chapel-41
LOCATION:St. Mary’s Church\, Tickhill\, St Mary's Church\, St Mary's Rd\, Tickhill\,\, Doncaster\, DN11 9LZ\, United Kingdom
END:VEVENT
BEGIN:VEVENT
DTSTART;VALUE=DATE:20191110
DTEND;VALUE=DATE:20191111
DTSTAMP:20260423T141454
CREATED:20190221T144526Z
LAST-MODIFIED:20190221T144526Z
UID:1140-1573344000-1573430399@www.stmaryschurchtickhill.com
SUMMARY:Remembrance Sunday
DESCRIPTION:
URL:https://www.stmaryschurchtickhill.com/event/remembrance-sunday
END:VEVENT
BEGIN:VEVENT
DTSTART;VALUE=DATE:20191110
DTEND;VALUE=DATE:20191111
DTSTAMP:20260423T141454
CREATED:20190220T163843Z
LAST-MODIFIED:20190220T163843Z
UID:916-1573344000-1573430399@www.stmaryschurchtickhill.com
SUMMARY:The Third Sunday before Advent
DESCRIPTION:
URL:https://www.stmaryschurchtickhill.com/event/the-third-sunday-before-advent
END:VEVENT
BEGIN:VEVENT
DTSTART;TZID=Europe/London:20191108T190000
DTEND;TZID=Europe/London:20191108T200000
DTSTAMP:20260423T141454
CREATED:20190919T131436Z
LAST-MODIFIED:20190919T131436Z
UID:2210-1573239600-1573243200@www.stmaryschurchtickhill.com
SUMMARY:7:00 PM Senior Choir Practice in St. Luke’s Chapel
DESCRIPTION:
URL:https://www.stmaryschurchtickhill.com/event/700-pm-senior-choir-practice-in-st-lukes-chapel-35
LOCATION:St. Mary’s Church\, Tickhill\, St Mary's Church\, St Mary's Rd\, Tickhill\,\, Doncaster\, DN11 9LZ\, United Kingdom
END:VEVENT
BEGIN:VEVENT
DTSTART;TZID=Europe/London:20191108T180000
DTEND;TZID=Europe/London:20191108T190000
DTSTAMP:20260423T141454
CREATED:20190919T132541Z
LAST-MODIFIED:20190919T132541Z
UID:2232-1573236000-1573239600@www.stmaryschurchtickhill.com
SUMMARY:6:00 PM Junior Choir Practice in St. Luke’s Chapel
DESCRIPTION:
URL:https://www.stmaryschurchtickhill.com/event/600-pm-junior-choir-practice-in-st-lukes-chapel-36
LOCATION:St. Mary’s Church\, Tickhill\, St Mary's Church\, St Mary's Rd\, Tickhill\,\, Doncaster\, DN11 9LZ\, United Kingdom
END:VEVENT
BEGIN:VEVENT
DTSTART;TZID=Europe/London:20191108T120000
DTEND;TZID=Europe/London:20191108T130000
DTSTAMP:20260423T141454
CREATED:20190919T124048Z
LAST-MODIFIED:20190919T124048Z
UID:2190-1573214400-1573218000@www.stmaryschurchtickhill.com
SUMMARY:12:00 PM Soup Lunch in the Parish Room
DESCRIPTION:
URL:https://www.stmaryschurchtickhill.com/event/1200-pm-soup-lunch-in-the-parish-room-3
LOCATION:Parish Room\, Tickhill Parish Room\, Northgate\, Tickhill\, Doncaster\, DN11 9HZ\, United Kingdom
END:VEVENT
BEGIN:VEVENT
DTSTART;TZID=Europe/London:20191106T100000
DTEND;TZID=Europe/London:20191106T110000
DTSTAMP:20260423T141454
CREATED:20190919T121914Z
LAST-MODIFIED:20190919T121914Z
UID:2164-1573034400-1573038000@www.stmaryschurchtickhill.com
SUMMARY:10:00 AM Holy Communion in St Luke’s Chapel
DESCRIPTION:
URL:https://www.stmaryschurchtickhill.com/event/1000-am-holy-communion-in-st-lukes-chapel-22
LOCATION:St. Mary’s Church\, Tickhill\, St Mary's Church\, St Mary's Rd\, Tickhill\,\, Doncaster\, DN11 9LZ\, United Kingdom
END:VEVENT
BEGIN:VEVENT
DTSTART;TZID=Europe/London:20191104T193000
DTEND;TZID=Europe/London:20191104T210000
DTSTAMP:20260423T141454
CREATED:20190516T153932Z
LAST-MODIFIED:20190516T153932Z
UID:1733-1572895800-1572901200@www.stmaryschurchtickhill.com
SUMMARY:7:30 PM PCC- St. Luke’s Chapel
DESCRIPTION:
URL:https://www.stmaryschurchtickhill.com/event/730-pm-pcc-st-lukes-chapel-5
LOCATION:St. Mary’s Church\, Tickhill\, St Mary's Church\, St Mary's Rd\, Tickhill\,\, Doncaster\, DN11 9LZ\, United Kingdom
END:VEVENT
BEGIN:VEVENT
DTSTART;TZID=Europe/London:20191103T180000
DTEND;TZID=Europe/London:20191103T193000
DTSTAMP:20260423T141454
CREATED:20190221T144406Z
LAST-MODIFIED:20190221T144406Z
UID:1138-1572804000-1572809400@www.stmaryschurchtickhill.com
SUMMARY:6:00 PM Service of Remembrance\, Thanksgiving & Hope
DESCRIPTION:
URL:https://www.stmaryschurchtickhill.com/event/600-pm-service-of-remembrance-thanksgiving-hope
LOCATION:St. Mary’s Church\, Tickhill\, St Mary's Church\, St Mary's Rd\, Tickhill\,\, Doncaster\, DN11 9LZ\, United Kingdom
END:VEVENT
BEGIN:VEVENT
DTSTART;TZID=Europe/London:20191103T103000
DTEND;TZID=Europe/London:20191103T120000
DTSTAMP:20260423T141454
CREATED:20190215T151321Z
LAST-MODIFIED:20190215T161233Z
UID:531-1572777000-1572782400@www.stmaryschurchtickhill.com
SUMMARY:10:30 AM Family Communion with Baptisms
DESCRIPTION:
URL:https://www.stmaryschurchtickhill.com/event/1030-family-communion-with-baptisms-10
END:VEVENT
BEGIN:VEVENT
DTSTART;TZID=Europe/London:20191103T080000
DTEND;TZID=Europe/London:20191103T090000
DTSTAMP:20260423T141454
CREATED:20190919T110638Z
LAST-MODIFIED:20190919T110638Z
UID:2112-1572768000-1572771600@www.stmaryschurchtickhill.com
SUMMARY:8:00 AM Holy Communion (BCP)\, St. Helen’s Chapel
DESCRIPTION:
URL:https://www.stmaryschurchtickhill.com/event/800-am-holy-communion-bcp-st-helens-chapel-40
LOCATION:St. Mary’s Church\, Tickhill\, St Mary's Church\, St Mary's Rd\, Tickhill\,\, Doncaster\, DN11 9LZ\, United Kingdom
END:VEVENT
BEGIN:VEVENT
DTSTART;VALUE=DATE:20191103
DTEND;VALUE=DATE:20191104
DTSTAMP:20260423T141454
CREATED:20190220T163809Z
LAST-MODIFIED:20190220T163809Z
UID:914-1572739200-1572825599@www.stmaryschurchtickhill.com
SUMMARY:The Fourth Sunday before Advent
DESCRIPTION:
URL:https://www.stmaryschurchtickhill.com/event/the-fourth-sunday-before-advent
END:VEVENT
BEGIN:VEVENT
DTSTART;TZID=Europe/London:20191102T163000
DTEND;TZID=Europe/London:20191102T193000
DTSTAMP:20260423T141454
CREATED:20190919T121359Z
LAST-MODIFIED:20190919T121359Z
UID:2152-1572712200-1572723000@www.stmaryschurchtickhill.com
SUMMARY:4:30 PM Festival of Light
DESCRIPTION:
URL:https://www.stmaryschurchtickhill.com/event/430-pm-festival-of-light
LOCATION:St. Mary’s Church\, Tickhill\, St Mary's Church\, St Mary's Rd\, Tickhill\,\, Doncaster\, DN11 9LZ\, United Kingdom
END:VEVENT
BEGIN:VEVENT
DTSTART;TZID=Europe/London:20191101T190000
DTEND;TZID=Europe/London:20191101T200000
DTSTAMP:20260423T141454
CREATED:20190919T131254Z
LAST-MODIFIED:20190919T131254Z
UID:2208-1572634800-1572638400@www.stmaryschurchtickhill.com
SUMMARY:7:00 PM Senior Choir Practice in St. Luke’s Chapel
DESCRIPTION:
URL:https://www.stmaryschurchtickhill.com/event/700-pm-senior-choir-practice-in-st-lukes-chapel-34
LOCATION:St. Mary’s Church\, Tickhill\, St Mary's Church\, St Mary's Rd\, Tickhill\,\, Doncaster\, DN11 9LZ\, United Kingdom
END:VEVENT
BEGIN:VEVENT
DTSTART;TZID=Europe/London:20191101T180000
DTEND;TZID=Europe/London:20191101T190000
DTSTAMP:20260423T141454
CREATED:20190919T132509Z
LAST-MODIFIED:20190919T132509Z
UID:2230-1572631200-1572634800@www.stmaryschurchtickhill.com
SUMMARY:6:00 PM Junior Choir Practice in St. Luke’s Chapel
DESCRIPTION:
URL:https://www.stmaryschurchtickhill.com/event/600-pm-junior-choir-practice-in-st-lukes-chapel-35
LOCATION:St. Mary’s Church\, Tickhill\, St Mary's Church\, St Mary's Rd\, Tickhill\,\, Doncaster\, DN11 9LZ\, United Kingdom
END:VEVENT
BEGIN:VEVENT
DTSTART;TZID=Europe/London:20191101T141500
DTEND;TZID=Europe/London:20191101T153000
DTSTAMP:20260423T141454
CREATED:20190919T132049Z
LAST-MODIFIED:20190919T132049Z
UID:2220-1572617700-1572622200@www.stmaryschurchtickhill.com
SUMMARY:2:15 PM Church Mice\, St. Luke's Chapel
DESCRIPTION:
URL:https://www.stmaryschurchtickhill.com/event/215-pm-church-mice-st-lukes-chapel-7
LOCATION:St. Mary’s Church\, Tickhill\, St Mary's Church\, St Mary's Rd\, Tickhill\,\, Doncaster\, DN11 9LZ\, United Kingdom
END:VEVENT
BEGIN:VEVENT
DTSTART;VALUE=DATE:20191101
DTEND;VALUE=DATE:20191102
DTSTAMP:20260423T141454
CREATED:20190220T163649Z
LAST-MODIFIED:20190220T163649Z
UID:912-1572566400-1572652799@www.stmaryschurchtickhill.com
SUMMARY:All Saints’ Day
DESCRIPTION:
URL:https://www.stmaryschurchtickhill.com/event/all-saints-day
END:VEVENT
BEGIN:VEVENT
DTSTART;TZID=Europe/London:20191031T193000
DTEND;TZID=Europe/London:20191031T213000
DTSTAMP:20260423T141454
CREATED:20190919T140242Z
LAST-MODIFIED:20190919T140242Z
UID:2249-1572550200-1572557400@www.stmaryschurchtickhill.com
SUMMARY:7:30 PM Bible Study - Parish Room
DESCRIPTION:
URL:https://www.stmaryschurchtickhill.com/event/730-pm-bible-study-parish-room-4
LOCATION:Parish Room\, Tickhill Parish Room\, Northgate\, Tickhill\, Doncaster\, DN11 9HZ\, United Kingdom
END:VEVENT
BEGIN:VEVENT
DTSTART;TZID=Europe/London:20191030T100000
DTEND;TZID=Europe/London:20191030T110000
DTSTAMP:20260423T141455
CREATED:20190919T121842Z
LAST-MODIFIED:20190919T121842Z
UID:2162-1572429600-1572433200@www.stmaryschurchtickhill.com
SUMMARY:10:00 AM Holy Communion in St Luke’s Chapel
DESCRIPTION:
URL:https://www.stmaryschurchtickhill.com/event/1000-am-holy-communion-in-st-lukes-chapel-21
LOCATION:St. Mary’s Church\, Tickhill\, St Mary's Church\, St Mary's Rd\, Tickhill\,\, Doncaster\, DN11 9LZ\, United Kingdom
END:VEVENT
BEGIN:VEVENT
DTSTART;TZID=Europe/London:20191028T183000
DTEND;TZID=Europe/London:20191028T200000
DTSTAMP:20260423T141455
CREATED:20190516T154255Z
LAST-MODIFIED:20190919T120957Z
UID:1742-1572287400-1572292800@www.stmaryschurchtickhill.com
SUMMARY:6:30 PM Standing Committee – St. Luke’s Chapel
DESCRIPTION:
URL:https://www.stmaryschurchtickhill.com/event/630-pm-standing-committee-st-lukes-chapel-5
LOCATION:St. Mary’s Church\, Tickhill\, St Mary's Church\, St Mary's Rd\, Tickhill\,\, Doncaster\, DN11 9LZ\, United Kingdom
END:VEVENT
BEGIN:VEVENT
DTSTART;TZID=Europe/London:20191027T180000
DTEND;TZID=Europe/London:20191027T190000
DTSTAMP:20260423T141455
CREATED:20190919T111415Z
LAST-MODIFIED:20190919T111415Z
UID:2132-1572199200-1572202800@www.stmaryschurchtickhill.com
SUMMARY:6:00 PM Evensong
DESCRIPTION:
URL:https://www.stmaryschurchtickhill.com/event/600-pm-evensong-38
LOCATION:St. Mary’s Church\, Tickhill\, St Mary's Church\, St Mary's Rd\, Tickhill\,\, Doncaster\, DN11 9LZ\, United Kingdom
END:VEVENT
BEGIN:VEVENT
DTSTART;TZID=Europe/London:20191027T103000
DTEND;TZID=Europe/London:20191027T120000
DTSTAMP:20260423T141455
CREATED:20190919T113950Z
LAST-MODIFIED:20190919T113950Z
UID:2144-1572172200-1572177600@www.stmaryschurchtickhill.com
SUMMARY:10:30 AM Sung Parish Eucharist
DESCRIPTION:
URL:https://www.stmaryschurchtickhill.com/event/1030-am-sung-parish-eucharist-26
LOCATION:St. Mary’s Church\, Tickhill\, St Mary's Church\, St Mary's Rd\, Tickhill\,\, Doncaster\, DN11 9LZ\, United Kingdom
END:VEVENT
BEGIN:VEVENT
DTSTART;TZID=Europe/London:20191027T080000
DTEND;TZID=Europe/London:20191027T090000
DTSTAMP:20260423T141455
CREATED:20190919T110555Z
LAST-MODIFIED:20190919T110555Z
UID:2110-1572163200-1572166800@www.stmaryschurchtickhill.com
SUMMARY:8:00 AM Holy Communion (BCP)\, St. Helen’s Chapel
DESCRIPTION:
URL:https://www.stmaryschurchtickhill.com/event/800-am-holy-communion-bcp-st-helens-chapel-39
LOCATION:St. Mary’s Church\, Tickhill\, St Mary's Church\, St Mary's Rd\, Tickhill\,\, Doncaster\, DN11 9LZ\, United Kingdom
END:VEVENT
BEGIN:VEVENT
DTSTART;TZID=Europe/London:20191025T190000
DTEND;TZID=Europe/London:20191025T200000
DTSTAMP:20260423T141455
CREATED:20190919T131152Z
LAST-MODIFIED:20190919T131152Z
UID:2206-1572030000-1572033600@www.stmaryschurchtickhill.com
SUMMARY:7:00 PM Senior Choir Practice in St. Luke’s Chapel
DESCRIPTION:
URL:https://www.stmaryschurchtickhill.com/event/700-pm-senior-choir-practice-in-st-lukes-chapel-33
LOCATION:St. Mary’s Church\, Tickhill\, St Mary's Church\, St Mary's Rd\, Tickhill\,\, Doncaster\, DN11 9LZ\, United Kingdom
END:VEVENT
BEGIN:VEVENT
DTSTART;TZID=Europe/London:20191025T180000
DTEND;TZID=Europe/London:20191025T190000
DTSTAMP:20260423T141455
CREATED:20190919T132414Z
LAST-MODIFIED:20190919T132414Z
UID:2228-1572026400-1572030000@www.stmaryschurchtickhill.com
SUMMARY:6:00 PM Junior Choir Practice in St. Luke’s Chapel
DESCRIPTION:
URL:https://www.stmaryschurchtickhill.com/event/600-pm-junior-choir-practice-in-st-lukes-chapel-34
LOCATION:St. Mary’s Church\, Tickhill\, St Mary's Church\, St Mary's Rd\, Tickhill\,\, Doncaster\, DN11 9LZ\, United Kingdom
END:VEVENT
BEGIN:VEVENT
DTSTART;TZID=Europe/London:20191025T120000
DTEND;TZID=Europe/London:20191025T130000
DTSTAMP:20260423T141455
CREATED:20190919T124000Z
LAST-MODIFIED:20190919T124000Z
UID:2188-1572004800-1572008400@www.stmaryschurchtickhill.com
SUMMARY:12:00 PM Soup Lunch in the Parish Room
DESCRIPTION:
URL:https://www.stmaryschurchtickhill.com/event/1200-pm-soup-lunch-in-the-parish-room-2
LOCATION:Parish Room\, Tickhill Parish Room\, Northgate\, Tickhill\, Doncaster\, DN11 9HZ\, United Kingdom
END:VEVENT
BEGIN:VEVENT
DTSTART;TZID=Europe/London:20191024T193000
DTEND;TZID=Europe/London:20191024T213000
DTSTAMP:20260423T141455
CREATED:20190919T140156Z
LAST-MODIFIED:20190919T140156Z
UID:2247-1571945400-1571952600@www.stmaryschurchtickhill.com
SUMMARY:7:30 PM Bible Study - Parish Room
DESCRIPTION:
URL:https://www.stmaryschurchtickhill.com/event/730-pm-bible-study-parish-room-3
LOCATION:Parish Room\, Tickhill Parish Room\, Northgate\, Tickhill\, Doncaster\, DN11 9HZ\, United Kingdom
END:VEVENT
END:VCALENDAR