BEGIN:VCALENDAR
VERSION:2.0
PRODID:-//St Mary&#039;s Church Tickhill - ECPv6.15.20//NONSGML v1.0//EN
CALSCALE:GREGORIAN
METHOD:PUBLISH
X-WR-CALNAME:St Mary&#039;s Church Tickhill
X-ORIGINAL-URL:https://www.stmaryschurchtickhill.com
X-WR-CALDESC:Events for St Mary&#039;s Church Tickhill
REFRESH-INTERVAL;VALUE=DURATION:PT1H
X-Robots-Tag:noindex
X-PUBLISHED-TTL:PT1H
BEGIN:VTIMEZONE
TZID:Europe/London
BEGIN:DAYLIGHT
TZOFFSETFROM:+0000
TZOFFSETTO:+0100
TZNAME:BST
DTSTART:20190331T010000
END:DAYLIGHT
BEGIN:STANDARD
TZOFFSETFROM:+0100
TZOFFSETTO:+0000
TZNAME:GMT
DTSTART:20191027T010000
END:STANDARD
BEGIN:DAYLIGHT
TZOFFSETFROM:+0000
TZOFFSETTO:+0100
TZNAME:BST
DTSTART:20200329T010000
END:DAYLIGHT
BEGIN:STANDARD
TZOFFSETFROM:+0100
TZOFFSETTO:+0000
TZNAME:GMT
DTSTART:20201025T010000
END:STANDARD
BEGIN:DAYLIGHT
TZOFFSETFROM:+0000
TZOFFSETTO:+0100
TZNAME:BST
DTSTART:20210328T010000
END:DAYLIGHT
BEGIN:STANDARD
TZOFFSETFROM:+0100
TZOFFSETTO:+0000
TZNAME:GMT
DTSTART:20211031T010000
END:STANDARD
END:VTIMEZONE
BEGIN:VEVENT
DTSTART;TZID=Europe/London:20200301T180000
DTEND;TZID=Europe/London:20200301T190000
DTSTAMP:20260423T084632
CREATED:20200211T122417Z
LAST-MODIFIED:20200211T122417Z
UID:2456-1583085600-1583089200@www.stmaryschurchtickhill.com
SUMMARY:6:00 PM Evensong
DESCRIPTION:
URL:https://www.stmaryschurchtickhill.com/event/600-pm-evensong-46
LOCATION:St. Mary’s Church\, Tickhill\, St Mary's Church\, St Mary's Rd\, Tickhill\,\, Doncaster\, DN11 9LZ\, United Kingdom
END:VEVENT
BEGIN:VEVENT
DTSTART;TZID=Europe/London:20200301T103000
DTEND;TZID=Europe/London:20200301T120000
DTSTAMP:20260423T084632
CREATED:20200211T123154Z
LAST-MODIFIED:20200211T123154Z
UID:2478-1583058600-1583064000@www.stmaryschurchtickhill.com
SUMMARY:10:30 AM Family Communion with Baptisms
DESCRIPTION:
URL:https://www.stmaryschurchtickhill.com/event/1030-am-family-communion-with-baptisms-2
LOCATION:St. Mary’s Church\, Tickhill\, St Mary's Church\, St Mary's Rd\, Tickhill\,\, Doncaster\, DN11 9LZ\, United Kingdom
END:VEVENT
BEGIN:VEVENT
DTSTART;TZID=Europe/London:20200301T080000
DTEND;TZID=Europe/London:20200301T090000
DTSTAMP:20260423T084632
CREATED:20200211T115145Z
LAST-MODIFIED:20200211T115145Z
UID:2406-1583049600-1583053200@www.stmaryschurchtickhill.com
SUMMARY:8:00 AM Holy Communion (BCP)\, St. Helen’s Chapel
DESCRIPTION:
URL:https://www.stmaryschurchtickhill.com/event/800-am-holy-communion-bcp-st-helens-chapel-50
LOCATION:St. Mary’s Church\, Tickhill\, St Mary's Church\, St Mary's Rd\, Tickhill\,\, Doncaster\, DN11 9LZ\, United Kingdom
END:VEVENT
BEGIN:VEVENT
DTSTART;VALUE=DATE:20200301
DTEND;VALUE=DATE:20200302
DTSTAMP:20260423T084632
CREATED:20200114T140845Z
LAST-MODIFIED:20200211T130059Z
UID:2353-1583020800-1583107199@www.stmaryschurchtickhill.com
SUMMARY:First Sunday of Lent
DESCRIPTION:
URL:https://www.stmaryschurchtickhill.com/event/1st-sunday-of-lent
END:VEVENT
BEGIN:VEVENT
DTSTART;TZID=Europe/London:20200229T100000
DTEND;TZID=Europe/London:20200229T120000
DTSTAMP:20260423T084632
CREATED:20200211T142946Z
LAST-MODIFIED:20200211T143323Z
UID:2607-1582970400-1582977600@www.stmaryschurchtickhill.com
SUMMARY:10:00 AM Coffee served in the Parish Room
DESCRIPTION:
URL:https://www.stmaryschurchtickhill.com/event/1000-coffee-served-in-the-parish-room-21
LOCATION:Parish Room\, Tickhill Parish Room\, Northgate\, Tickhill\, Doncaster\, DN11 9HZ\, United Kingdom
END:VEVENT
BEGIN:VEVENT
DTSTART;TZID=Europe/London:20200228T120000
DTEND;TZID=Europe/London:20200228T130000
DTSTAMP:20260423T084632
CREATED:20200211T134115Z
LAST-MODIFIED:20200211T143221Z
UID:2546-1582891200-1582894800@www.stmaryschurchtickhill.com
SUMMARY:12:00 PM Soup Lunch
DESCRIPTION:
URL:https://www.stmaryschurchtickhill.com/event/1200-soup-lunch-2
LOCATION:Parish Room\, Tickhill Parish Room\, Northgate\, Tickhill\, Doncaster\, DN11 9HZ\, United Kingdom
END:VEVENT
BEGIN:VEVENT
DTSTART;TZID=Europe/London:20200226T184500
DTEND;TZID=Europe/London:20200226T194500
DTSTAMP:20260423T084632
CREATED:20200211T142408Z
LAST-MODIFIED:20200211T142408Z
UID:2601-1582742700-1582746300@www.stmaryschurchtickhill.com
SUMMARY:6:45 PM Holy Communion (TCT)
DESCRIPTION:
URL:https://www.stmaryschurchtickhill.com/event/645-pm-holy-communion-tct
LOCATION:Tickhill Methodist Church\, 8 Buttercross Ct\, Tickhill\,\, Doncaster\, DN11 9JX
END:VEVENT
BEGIN:VEVENT
DTSTART;TZID=Europe/London:20200226T100000
DTEND;TZID=Europe/London:20200226T110000
DTSTAMP:20260423T084632
CREATED:20200114T142032Z
LAST-MODIFIED:20200211T140159Z
UID:2375-1582711200-1582714800@www.stmaryschurchtickhill.com
SUMMARY:10:00 AM Ash Wednesday Communion in St Luke’s Chapel (with Ashing)
DESCRIPTION:
URL:https://www.stmaryschurchtickhill.com/event/1000-am-holy-communion-in-st-lukes-chapel-37
LOCATION:St. Mary’s Church\, Tickhill\, St Mary's Church\, St Mary's Rd\, Tickhill\,\, Doncaster\, DN11 9LZ\, United Kingdom
END:VEVENT
BEGIN:VEVENT
DTSTART;VALUE=DATE:20200226
DTEND;VALUE=DATE:20200227
DTSTAMP:20260423T084632
CREATED:20200114T140800Z
LAST-MODIFIED:20200114T140800Z
UID:2351-1582675200-1582761599@www.stmaryschurchtickhill.com
SUMMARY:Ash Wednesday
DESCRIPTION:
URL:https://www.stmaryschurchtickhill.com/event/ash-wednesday-2
END:VEVENT
BEGIN:VEVENT
DTSTART;TZID=Europe/London:20200225T183000
DTEND;TZID=Europe/London:20200225T200000
DTSTAMP:20260423T084632
CREATED:20200211T135829Z
LAST-MODIFIED:20200211T135829Z
UID:2569-1582655400-1582660800@www.stmaryschurchtickhill.com
SUMMARY:6:30 PM Beetle Drive (Pie and Peas)
DESCRIPTION:
URL:https://www.stmaryschurchtickhill.com/event/630-pm-beetle-drive-pie-and-peas
LOCATION:Parish Room\, Tickhill Parish Room\, Northgate\, Tickhill\, Doncaster\, DN11 9HZ\, United Kingdom
END:VEVENT
BEGIN:VEVENT
DTSTART;TZID=Europe/London:20200223T180000
DTEND;TZID=Europe/London:20200223T190000
DTSTAMP:20260423T084632
CREATED:20200211T122313Z
LAST-MODIFIED:20200211T122313Z
UID:2454-1582480800-1582484400@www.stmaryschurchtickhill.com
SUMMARY:6:00 PM Evensong
DESCRIPTION:
URL:https://www.stmaryschurchtickhill.com/event/600-pm-evensong-45
LOCATION:St. Mary’s Church\, Tickhill\, St Mary's Church\, St Mary's Rd\, Tickhill\,\, Doncaster\, DN11 9LZ\, United Kingdom
END:VEVENT
BEGIN:VEVENT
DTSTART;TZID=Europe/London:20200223T103000
DTEND;TZID=Europe/London:20200223T120000
DTSTAMP:20260423T084632
CREATED:20200211T124302Z
LAST-MODIFIED:20200211T124302Z
UID:2502-1582453800-1582459200@www.stmaryschurchtickhill.com
SUMMARY:10:30 AM Sung Parish Eucharist
DESCRIPTION:
URL:https://www.stmaryschurchtickhill.com/event/1030-am-sung-parish-eucharist-31
LOCATION:St. Mary’s Church\, Tickhill\, St Mary's Church\, St Mary's Rd\, Tickhill\,\, Doncaster\, DN11 9LZ\, United Kingdom
END:VEVENT
BEGIN:VEVENT
DTSTART;TZID=Europe/London:20200223T080000
DTEND;TZID=Europe/London:20200223T090000
DTSTAMP:20260423T084632
CREATED:20200211T115105Z
LAST-MODIFIED:20200211T115105Z
UID:2404-1582444800-1582448400@www.stmaryschurchtickhill.com
SUMMARY:8:00 AM Holy Communion (BCP)\, St. Helen’s Chapel
DESCRIPTION:
URL:https://www.stmaryschurchtickhill.com/event/800-am-holy-communion-bcp-st-helens-chapel-49
LOCATION:St. Mary’s Church\, Tickhill\, St Mary's Church\, St Mary's Rd\, Tickhill\,\, Doncaster\, DN11 9LZ\, United Kingdom
END:VEVENT
BEGIN:VEVENT
DTSTART;VALUE=DATE:20200223
DTEND;VALUE=DATE:20200224
DTSTAMP:20260423T084632
CREATED:20200114T140935Z
LAST-MODIFIED:20200114T140935Z
UID:2355-1582416000-1582502399@www.stmaryschurchtickhill.com
SUMMARY:The Sunday next before Lent
DESCRIPTION:
URL:https://www.stmaryschurchtickhill.com/event/the-sunday-next-before-lent-2
END:VEVENT
BEGIN:VEVENT
DTSTART;TZID=Europe/London:20200222T100000
DTEND;TZID=Europe/London:20200222T120000
DTSTAMP:20260423T084632
CREATED:20200211T142919Z
LAST-MODIFIED:20200211T143405Z
UID:2605-1582365600-1582372800@www.stmaryschurchtickhill.com
SUMMARY:10:00 AM Coffee served in the Parish Room
DESCRIPTION:
URL:https://www.stmaryschurchtickhill.com/event/1000-coffee-served-in-the-parish-room-20
LOCATION:Parish Room\, Tickhill Parish Room\, Northgate\, Tickhill\, Doncaster\, DN11 9HZ\, United Kingdom
END:VEVENT
BEGIN:VEVENT
DTSTART;TZID=Europe/London:20200219T100000
DTEND;TZID=Europe/London:20200219T110000
DTSTAMP:20260423T084632
CREATED:20200114T141956Z
LAST-MODIFIED:20200114T141956Z
UID:2373-1582106400-1582110000@www.stmaryschurchtickhill.com
SUMMARY:10:00 AM Holy Communion in St Luke’s Chapel
DESCRIPTION:
URL:https://www.stmaryschurchtickhill.com/event/1000-am-holy-communion-in-st-lukes-chapel-36
LOCATION:St. Mary’s Church\, Tickhill\, St Mary's Church\, St Mary's Rd\, Tickhill\,\, Doncaster\, DN11 9LZ\, United Kingdom
END:VEVENT
BEGIN:VEVENT
DTSTART;TZID=Europe/London:20200216T180000
DTEND;TZID=Europe/London:20200216T190000
DTSTAMP:20260423T084632
CREATED:20200211T122219Z
LAST-MODIFIED:20200211T122219Z
UID:2452-1581876000-1581879600@www.stmaryschurchtickhill.com
SUMMARY:6:00 PM Evensong
DESCRIPTION:
URL:https://www.stmaryschurchtickhill.com/event/600-pm-evensong-44
LOCATION:St. Mary’s Church\, Tickhill\, St Mary's Church\, St Mary's Rd\, Tickhill\,\, Doncaster\, DN11 9LZ\, United Kingdom
END:VEVENT
BEGIN:VEVENT
DTSTART;TZID=Europe/London:20200216T103000
DTEND;TZID=Europe/London:20200216T120000
DTSTAMP:20260423T084632
CREATED:20200211T124230Z
LAST-MODIFIED:20200211T124230Z
UID:2500-1581849000-1581854400@www.stmaryschurchtickhill.com
SUMMARY:10:30 AM Sung Parish Eucharist
DESCRIPTION:
URL:https://www.stmaryschurchtickhill.com/event/1030-am-sung-parish-eucharist-30
LOCATION:St. Mary’s Church\, Tickhill\, St Mary's Church\, St Mary's Rd\, Tickhill\,\, Doncaster\, DN11 9LZ\, United Kingdom
END:VEVENT
BEGIN:VEVENT
DTSTART;TZID=Europe/London:20200216T080000
DTEND;TZID=Europe/London:20200216T090000
DTSTAMP:20260423T084632
CREATED:20200211T115024Z
LAST-MODIFIED:20200211T115024Z
UID:2402-1581840000-1581843600@www.stmaryschurchtickhill.com
SUMMARY:8:00 AM Holy Communion (BCP)\, St. Helen’s Chapel
DESCRIPTION:
URL:https://www.stmaryschurchtickhill.com/event/800-am-holy-communion-bcp-st-helens-chapel-48
LOCATION:St. Mary’s Church\, Tickhill\, St Mary's Church\, St Mary's Rd\, Tickhill\,\, Doncaster\, DN11 9LZ\, United Kingdom
END:VEVENT
BEGIN:VEVENT
DTSTART;VALUE=DATE:20200216
DTEND;VALUE=DATE:20200217
DTSTAMP:20260423T084632
CREATED:20200114T141008Z
LAST-MODIFIED:20200114T141008Z
UID:2357-1581811200-1581897599@www.stmaryschurchtickhill.com
SUMMARY:The Second Sunday before Lent
DESCRIPTION:
URL:https://www.stmaryschurchtickhill.com/event/the-second-sunday-before-lent-2
END:VEVENT
BEGIN:VEVENT
DTSTART;TZID=Europe/London:20200215T100000
DTEND;TZID=Europe/London:20200215T120000
DTSTAMP:20260423T084632
CREATED:20200211T142850Z
LAST-MODIFIED:20200211T143417Z
UID:2603-1581760800-1581768000@www.stmaryschurchtickhill.com
SUMMARY:10:00 AM Coffee served in the Parish Room
DESCRIPTION:
URL:https://www.stmaryschurchtickhill.com/event/1000-coffee-served-in-the-parish-room-19
LOCATION:Parish Room\, Tickhill Parish Room\, Northgate\, Tickhill\, Doncaster\, DN11 9HZ\, United Kingdom
END:VEVENT
BEGIN:VEVENT
DTSTART;TZID=Europe/London:20200214T120000
DTEND;TZID=Europe/London:20200214T130000
DTSTAMP:20260423T084632
CREATED:20200211T134043Z
LAST-MODIFIED:20200211T143240Z
UID:2544-1581681600-1581685200@www.stmaryschurchtickhill.com
SUMMARY:12:00 PM Soup Lunch
DESCRIPTION:
URL:https://www.stmaryschurchtickhill.com/event/1200-soup-lunch
LOCATION:Parish Room\, Tickhill Parish Room\, Northgate\, Tickhill\, Doncaster\, DN11 9HZ\, United Kingdom
END:VEVENT
BEGIN:VEVENT
DTSTART;TZID=Europe/London:20200212T100000
DTEND;TZID=Europe/London:20200212T110000
DTSTAMP:20260423T084632
CREATED:20200114T141922Z
LAST-MODIFIED:20200114T141922Z
UID:2371-1581501600-1581505200@www.stmaryschurchtickhill.com
SUMMARY:10:00 AM Holy Communion in St Luke’s Chapel
DESCRIPTION:
URL:https://www.stmaryschurchtickhill.com/event/1000-am-holy-communion-in-st-lukes-chapel-35
LOCATION:St. Mary’s Church\, Tickhill\, St Mary's Church\, St Mary's Rd\, Tickhill\,\, Doncaster\, DN11 9LZ\, United Kingdom
END:VEVENT
BEGIN:VEVENT
DTSTART;TZID=Europe/London:20200209T180000
DTEND;TZID=Europe/London:20200209T190000
DTSTAMP:20260423T084632
CREATED:20200211T122153Z
LAST-MODIFIED:20200211T122153Z
UID:2450-1581271200-1581274800@www.stmaryschurchtickhill.com
SUMMARY:6:00 PM Evensong
DESCRIPTION:
URL:https://www.stmaryschurchtickhill.com/event/600-pm-evensong-43
LOCATION:St. Mary’s Church\, Tickhill\, St Mary's Church\, St Mary's Rd\, Tickhill\,\, Doncaster\, DN11 9LZ\, United Kingdom
END:VEVENT
BEGIN:VEVENT
DTSTART;TZID=Europe/London:20200209T103000
DTEND;TZID=Europe/London:20200209T120000
DTSTAMP:20260423T084632
CREATED:20200211T124149Z
LAST-MODIFIED:20200211T124149Z
UID:2498-1581244200-1581249600@www.stmaryschurchtickhill.com
SUMMARY:10:30 AM Sung Parish Eucharist
DESCRIPTION:
URL:https://www.stmaryschurchtickhill.com/event/1030-am-sung-parish-eucharist-29
LOCATION:St. Mary’s Church\, Tickhill\, St Mary's Church\, St Mary's Rd\, Tickhill\,\, Doncaster\, DN11 9LZ\, United Kingdom
END:VEVENT
BEGIN:VEVENT
DTSTART;TZID=Europe/London:20200209T080000
DTEND;TZID=Europe/London:20200209T090000
DTSTAMP:20260423T084632
CREATED:20200211T114957Z
LAST-MODIFIED:20200211T114957Z
UID:2400-1581235200-1581238800@www.stmaryschurchtickhill.com
SUMMARY:8:00 AM Holy Communion (BCP)\, St. Helen’s Chapel
DESCRIPTION:
URL:https://www.stmaryschurchtickhill.com/event/800-am-holy-communion-bcp-st-helens-chapel-47
LOCATION:St. Mary’s Church\, Tickhill\, St Mary's Church\, St Mary's Rd\, Tickhill\,\, Doncaster\, DN11 9LZ\, United Kingdom
END:VEVENT
BEGIN:VEVENT
DTSTART;VALUE=DATE:20200209
DTEND;VALUE=DATE:20200210
DTSTAMP:20260423T084632
CREATED:20200114T141053Z
LAST-MODIFIED:20200114T141053Z
UID:2359-1581206400-1581292799@www.stmaryschurchtickhill.com
SUMMARY:The Third Sunday before Lent
DESCRIPTION:
URL:https://www.stmaryschurchtickhill.com/event/the-third-sunday-before-lent-2
END:VEVENT
BEGIN:VEVENT
DTSTART;TZID=Europe/London:20200205T100000
DTEND;TZID=Europe/London:20200205T110000
DTSTAMP:20260423T084632
CREATED:20200114T141851Z
LAST-MODIFIED:20200114T141851Z
UID:2369-1580896800-1580900400@www.stmaryschurchtickhill.com
SUMMARY:10:00 AM Holy Communion in St Luke’s Chapel
DESCRIPTION:
URL:https://www.stmaryschurchtickhill.com/event/1000-am-holy-communion-in-st-lukes-chapel-34
LOCATION:St. Mary’s Church\, Tickhill\, St Mary's Church\, St Mary's Rd\, Tickhill\,\, Doncaster\, DN11 9LZ\, United Kingdom
END:VEVENT
BEGIN:VEVENT
DTSTART;TZID=Europe/London:20200202T180000
DTEND;TZID=Europe/London:20200202T190000
DTSTAMP:20260423T084632
CREATED:20200211T122125Z
LAST-MODIFIED:20200211T122125Z
UID:2448-1580666400-1580670000@www.stmaryschurchtickhill.com
SUMMARY:6:00 PM Evensong
DESCRIPTION:
URL:https://www.stmaryschurchtickhill.com/event/600-pm-evensong-42
LOCATION:St. Mary’s Church\, Tickhill\, St Mary's Church\, St Mary's Rd\, Tickhill\,\, Doncaster\, DN11 9LZ\, United Kingdom
END:VEVENT
BEGIN:VEVENT
DTSTART;TZID=Europe/London:20200202T103000
DTEND;TZID=Europe/London:20200202T120000
DTSTAMP:20260423T084632
CREATED:20200211T123107Z
LAST-MODIFIED:20200211T123107Z
UID:2476-1580639400-1580644800@www.stmaryschurchtickhill.com
SUMMARY:10:30 AM Family Communion with Baptisms
DESCRIPTION:
URL:https://www.stmaryschurchtickhill.com/event/1030-am-family-communion-with-baptisms
LOCATION:St. Mary’s Church\, Tickhill\, St Mary's Church\, St Mary's Rd\, Tickhill\,\, Doncaster\, DN11 9LZ\, United Kingdom
END:VEVENT
END:VCALENDAR