BEGIN:VCALENDAR
VERSION:2.0
PRODID:-//St Mary&#039;s Church Tickhill - ECPv6.15.20//NONSGML v1.0//EN
CALSCALE:GREGORIAN
METHOD:PUBLISH
X-WR-CALNAME:St Mary&#039;s Church Tickhill
X-ORIGINAL-URL:https://www.stmaryschurchtickhill.com
X-WR-CALDESC:Events for St Mary&#039;s Church Tickhill
REFRESH-INTERVAL;VALUE=DURATION:PT1H
X-Robots-Tag:noindex
X-PUBLISHED-TTL:PT1H
BEGIN:VTIMEZONE
TZID:Europe/London
BEGIN:DAYLIGHT
TZOFFSETFROM:+0000
TZOFFSETTO:+0100
TZNAME:BST
DTSTART:20180325T010000
END:DAYLIGHT
BEGIN:STANDARD
TZOFFSETFROM:+0100
TZOFFSETTO:+0000
TZNAME:GMT
DTSTART:20181028T010000
END:STANDARD
BEGIN:DAYLIGHT
TZOFFSETFROM:+0000
TZOFFSETTO:+0100
TZNAME:BST
DTSTART:20190331T010000
END:DAYLIGHT
BEGIN:STANDARD
TZOFFSETFROM:+0100
TZOFFSETTO:+0000
TZNAME:GMT
DTSTART:20191027T010000
END:STANDARD
BEGIN:DAYLIGHT
TZOFFSETFROM:+0000
TZOFFSETTO:+0100
TZNAME:BST
DTSTART:20200329T010000
END:DAYLIGHT
BEGIN:STANDARD
TZOFFSETFROM:+0100
TZOFFSETTO:+0000
TZNAME:GMT
DTSTART:20201025T010000
END:STANDARD
END:VTIMEZONE
BEGIN:VEVENT
DTSTART;TZID=Europe/London:20190606T190000
DTEND;TZID=Europe/London:20190606T200000
DTSTAMP:20260425T140452
CREATED:20190503T150450Z
LAST-MODIFIED:20190503T150450Z
UID:1613-1559847600-1559851200@www.stmaryschurchtickhill.com
SUMMARY:7:00 PM Roman Catholic Mass in St. Mary's (TCT)
DESCRIPTION:
URL:https://www.stmaryschurchtickhill.com/event/700-pm-roman-catholic-mass-in-st-marys-tct
LOCATION:St. Mary’s Church\, Tickhill\, St Mary's Church\, St Mary's Rd\, Tickhill\,\, Doncaster\, DN11 9LZ\, United Kingdom
END:VEVENT
BEGIN:VEVENT
DTSTART;TZID=Europe/London:20190605T100000
DTEND;TZID=Europe/London:20190605T110000
DTSTAMP:20260425T140452
CREATED:20190503T145347Z
LAST-MODIFIED:20190503T145412Z
UID:1594-1559728800-1559732400@www.stmaryschurchtickhill.com
SUMMARY:10:00 AM Holy Communion in St Luke's Chapel (TCT)
DESCRIPTION:
URL:https://www.stmaryschurchtickhill.com/event/1000-am-holy-communion-in-st-lukes-tct
LOCATION:St. Mary’s Church\, Tickhill\, St Mary's Church\, St Mary's Rd\, Tickhill\,\, Doncaster\, DN11 9LZ\, United Kingdom
END:VEVENT
BEGIN:VEVENT
DTSTART;TZID=Europe/London:20190604T120000
DTEND;TZID=Europe/London:20190604T130000
DTSTAMP:20260425T140452
CREATED:20190503T145132Z
LAST-MODIFIED:20190503T150904Z
UID:1592-1559649600-1559653200@www.stmaryschurchtickhill.com
SUMMARY:12:00 PM Prayers in the Methodist Church (TCT)
DESCRIPTION:
URL:https://www.stmaryschurchtickhill.com/event/1200-pm-prayers-in-the-methodist-church
LOCATION:Tickhill Methodist Church\, 8 Buttercross Ct\, Tickhill\,\, Doncaster\, DN11 9JX
END:VEVENT
BEGIN:VEVENT
DTSTART;TZID=Europe/London:20190603T091500
DTEND;TZID=Europe/London:20190603T103000
DTSTAMP:20260425T140452
CREATED:20190503T145020Z
LAST-MODIFIED:20190503T145020Z
UID:1590-1559553300-1559557800@www.stmaryschurchtickhill.com
SUMMARY:9:15 Morning Prayer at St. Mary's (TCT)
DESCRIPTION:
URL:https://www.stmaryschurchtickhill.com/event/915-morning-prayer-at-st-marys-tct
LOCATION:St. Mary’s Church\, Tickhill\, St Mary's Church\, St Mary's Rd\, Tickhill\,\, Doncaster\, DN11 9LZ\, United Kingdom
END:VEVENT
BEGIN:VEVENT
DTSTART;TZID=Europe/London:20190602T180000
DTEND;TZID=Europe/London:20190602T193000
DTSTAMP:20260425T140452
CREATED:20190221T121515Z
LAST-MODIFIED:20190221T121515Z
UID:1095-1559498400-1559503800@www.stmaryschurchtickhill.com
SUMMARY:6:00 PM Evensong
DESCRIPTION:
URL:https://www.stmaryschurchtickhill.com/event/600-pm-evensong-18
LOCATION:St. Mary’s Church\, Tickhill\, St Mary's Church\, St Mary's Rd\, Tickhill\,\, Doncaster\, DN11 9LZ\, United Kingdom
END:VEVENT
BEGIN:VEVENT
DTSTART;TZID=Europe/London:20190602T103000
DTEND;TZID=Europe/London:20190602T120000
DTSTAMP:20260425T140452
CREATED:20190215T150846Z
LAST-MODIFIED:20190215T161138Z
UID:521-1559471400-1559476800@www.stmaryschurchtickhill.com
SUMMARY:10:30 AM Family Communion with Baptisms
DESCRIPTION:
URL:https://www.stmaryschurchtickhill.com/event/1030-family-communion-with-baptisms-5
END:VEVENT
BEGIN:VEVENT
DTSTART;TZID=Europe/London:20190602T080000
DTEND;TZID=Europe/London:20190602T090000
DTSTAMP:20260425T140452
CREATED:20190221T120713Z
LAST-MODIFIED:20190221T120713Z
UID:1077-1559462400-1559466000@www.stmaryschurchtickhill.com
SUMMARY:8:00 AM Holy Communion (BCP)\, St. Helen’s Chapel
DESCRIPTION:
URL:https://www.stmaryschurchtickhill.com/event/800-am-holy-communion-bcp-st-helens-chapel-18
LOCATION:St. Mary’s Church\, Tickhill\, St Mary's Church\, St Mary's Rd\, Tickhill\,\, Doncaster\, DN11 9LZ\, United Kingdom
END:VEVENT
BEGIN:VEVENT
DTSTART;VALUE=DATE:20190602
DTEND;VALUE=DATE:20190603
DTSTAMP:20260425T140452
CREATED:20190220T153156Z
LAST-MODIFIED:20190220T153156Z
UID:866-1559433600-1559519999@www.stmaryschurchtickhill.com
SUMMARY:The Seventh Sunday of Easter
DESCRIPTION:
URL:https://www.stmaryschurchtickhill.com/event/the-seventh-sunday-of-easter
END:VEVENT
BEGIN:VEVENT
DTSTART;TZID=Europe/London:20190601T103000
DTEND;TZID=Europe/London:20190601T113000
DTSTAMP:20260425T140452
CREATED:20190503T144756Z
LAST-MODIFIED:20190503T144756Z
UID:1588-1559385000-1559388600@www.stmaryschurchtickhill.com
SUMMARY:10:30 Prayer Walk from the SPAR (TCT)
DESCRIPTION:
URL:https://www.stmaryschurchtickhill.com/event/1030-prayer-walk-from-the-spar-tct
LOCATION:Market Place\, DN11 9HT\, United Kingdom
END:VEVENT
BEGIN:VEVENT
DTSTART;TZID=Europe/London:20190601T100000
DTEND;TZID=Europe/London:20190601T120000
DTSTAMP:20260425T140452
CREATED:20190221T105725Z
LAST-MODIFIED:20190221T105725Z
UID:975-1559383200-1559390400@www.stmaryschurchtickhill.com
SUMMARY:10:00 Coffee served in the Parish Room
DESCRIPTION:
URL:https://www.stmaryschurchtickhill.com/event/1000-coffee-served-in-the-parish-room-14
LOCATION:Parish Room\, Tickhill Parish Room\, Northgate\, Tickhill\, Doncaster\, DN11 9HZ\, United Kingdom
END:VEVENT
BEGIN:VEVENT
DTSTART;TZID=Europe/London:20190531T190000
DTEND;TZID=Europe/London:20190531T200000
DTSTAMP:20260425T140452
CREATED:20190221T115222Z
LAST-MODIFIED:20190221T115222Z
UID:1045-1559329200-1559332800@www.stmaryschurchtickhill.com
SUMMARY:7:00 PM Senior Choir Practice in St. Luke's Chapel
DESCRIPTION:
URL:https://www.stmaryschurchtickhill.com/event/700-pm-senior-choir-practice-in-st-lukes-chapel-13
LOCATION:St. Mary’s Church\, Tickhill\, St Mary's Church\, St Mary's Rd\, Tickhill\,\, Doncaster\, DN11 9LZ\, United Kingdom
END:VEVENT
BEGIN:VEVENT
DTSTART;TZID=Europe/London:20190531T180000
DTEND;TZID=Europe/London:20190531T190000
DTSTAMP:20260425T140452
CREATED:20190221T113439Z
LAST-MODIFIED:20190221T113439Z
UID:1018-1559325600-1559329200@www.stmaryschurchtickhill.com
SUMMARY:6:00 PM Junior Choir Practice in St. Luke's Chapel
DESCRIPTION:
URL:https://www.stmaryschurchtickhill.com/event/600-pm-junior-choir-practice-in-st-lukes-chapel-16
LOCATION:St. Mary’s Church\, Tickhill\, St Mary's Church\, St Mary's Rd\, Tickhill\,\, Doncaster\, DN11 9LZ\, United Kingdom
END:VEVENT
BEGIN:VEVENT
DTSTART;TZID=Europe/London:20190531T120000
DTEND;TZID=Europe/London:20190531T130000
DTSTAMP:20260425T140452
CREATED:20190503T144543Z
LAST-MODIFIED:20190503T150954Z
UID:1586-1559304000-1559307600@www.stmaryschurchtickhill.com
SUMMARY:12:00 PM Prayer Service at the Methodist Church (TCT)
DESCRIPTION:
URL:https://www.stmaryschurchtickhill.com/event/1200-pm-prayer-service-at-the-methodist-church
LOCATION:Tickhill Methodist Church\, 8 Buttercross Ct\, Tickhill\,\, Doncaster\, DN11 9JX
END:VEVENT
BEGIN:VEVENT
DTSTART;TZID=Europe/London:20190530T100000
DTEND;TZID=Europe/London:20190530T110000
DTSTAMP:20260425T140452
CREATED:20190503T144137Z
LAST-MODIFIED:20190503T151131Z
UID:1582-1559210400-1559214000@www.stmaryschurchtickhill.com
SUMMARY:10:00 AM Holy Communion in St Luke's Chapel (TCT)
DESCRIPTION:
URL:https://www.stmaryschurchtickhill.com/event/1000-am-holy-communion-tct-in-st-marys
LOCATION:St. Mary’s Church\, Tickhill\, St Mary's Church\, St Mary's Rd\, Tickhill\,\, Doncaster\, DN11 9LZ\, United Kingdom
END:VEVENT
BEGIN:VEVENT
DTSTART;VALUE=DATE:20190530
DTEND;VALUE=DATE:20190610
DTSTAMP:20260425T140452
CREATED:20190503T144332Z
LAST-MODIFIED:20190503T144332Z
UID:1584-1559174400-1560124799@www.stmaryschurchtickhill.com
SUMMARY:Ten Days of Prayer
DESCRIPTION:
URL:https://www.stmaryschurchtickhill.com/event/ten-days-of-prayer
END:VEVENT
BEGIN:VEVENT
DTSTART;VALUE=DATE:20190530
DTEND;VALUE=DATE:20190531
DTSTAMP:20260425T140452
CREATED:20190220T152950Z
LAST-MODIFIED:20190220T152950Z
UID:864-1559174400-1559260799@www.stmaryschurchtickhill.com
SUMMARY:Ascension Day
DESCRIPTION:
URL:https://www.stmaryschurchtickhill.com/event/ascension-day
END:VEVENT
BEGIN:VEVENT
DTSTART;TZID=Europe/London:20190528T193000
DTEND;TZID=Europe/London:20190528T210000
DTSTAMP:20260425T140452
CREATED:20190322T130037Z
LAST-MODIFIED:20190322T130037Z
UID:1362-1559071800-1559077200@www.stmaryschurchtickhill.com
SUMMARY:7:30 PM PCC- St. Luke’s Chapel
DESCRIPTION:
URL:https://www.stmaryschurchtickhill.com/event/730-pm-pcc-st-lukes-chapel-2
LOCATION:St. Mary’s Church\, Tickhill\, St Mary's Church\, St Mary's Rd\, Tickhill\,\, Doncaster\, DN11 9LZ\, United Kingdom
END:VEVENT
BEGIN:VEVENT
DTSTART;TZID=Europe/London:20190528T190000
DTEND;TZID=Europe/London:20190528T193000
DTSTAMP:20260425T140452
CREATED:20190503T152815Z
LAST-MODIFIED:20190503T152815Z
UID:1634-1559070000-1559071800@www.stmaryschurchtickhill.com
SUMMARY:7:00 PM Holy Communion in St. Luke's followed by PCC
DESCRIPTION:
URL:https://www.stmaryschurchtickhill.com/event/700-pm-holy-communion-in-st-lukes-followed-by-pcc
LOCATION:St. Mary’s Church\, Tickhill\, St Mary's Church\, St Mary's Rd\, Tickhill\,\, Doncaster\, DN11 9LZ\, United Kingdom
END:VEVENT
BEGIN:VEVENT
DTSTART;TZID=Europe/London:20190526T180000
DTEND;TZID=Europe/London:20190526T193000
DTSTAMP:20260425T140452
CREATED:20190221T121444Z
LAST-MODIFIED:20190221T121444Z
UID:1093-1558893600-1558899000@www.stmaryschurchtickhill.com
SUMMARY:6:00 PM Evensong
DESCRIPTION:
URL:https://www.stmaryschurchtickhill.com/event/600-pm-evensong-17
LOCATION:St. Mary’s Church\, Tickhill\, St Mary's Church\, St Mary's Rd\, Tickhill\,\, Doncaster\, DN11 9LZ\, United Kingdom
END:VEVENT
BEGIN:VEVENT
DTSTART;TZID=Europe/London:20190526T143000
DTEND;TZID=Europe/London:20190526T170000
DTSTAMP:20260425T140452
CREATED:20190503T152557Z
LAST-MODIFIED:20190503T152557Z
UID:1632-1558881000-1558890000@www.stmaryschurchtickhill.com
SUMMARY:2:30 PM Rogationtide\, Visiting farms in the Area (TCT)
DESCRIPTION:Starting from the Methodist Church
URL:https://www.stmaryschurchtickhill.com/event/230-pm-rogationtide-visiting-farms-in-the-area-tct
LOCATION:Tickhill Methodist Church\, 8 Buttercross Ct\, Tickhill\,\, Doncaster\, DN11 9JX
END:VEVENT
BEGIN:VEVENT
DTSTART;TZID=Europe/London:20190526T103000
DTEND;TZID=Europe/London:20190526T120000
DTSTAMP:20260425T140452
CREATED:20190503T151806Z
LAST-MODIFIED:20190503T151806Z
UID:1626-1558866600-1558872000@www.stmaryschurchtickhill.com
SUMMARY:10:30 AM Sung Parish Eucharist
DESCRIPTION:
URL:https://www.stmaryschurchtickhill.com/event/1030-am-sung-parish-eucharist-9
LOCATION:St. Mary’s Church\, Tickhill\, St Mary's Church\, St Mary's Rd\, Tickhill\,\, Doncaster\, DN11 9LZ\, United Kingdom
END:VEVENT
BEGIN:VEVENT
DTSTART;TZID=Europe/London:20190526T080000
DTEND;TZID=Europe/London:20190526T090000
DTSTAMP:20260425T140452
CREATED:20190221T120630Z
LAST-MODIFIED:20190221T120630Z
UID:1075-1558857600-1558861200@www.stmaryschurchtickhill.com
SUMMARY:8:00 AM Holy Communion (BCP)\, St. Helen’s Chapel
DESCRIPTION:
URL:https://www.stmaryschurchtickhill.com/event/800-am-holy-communion-bcp-st-helens-chapel-17
LOCATION:St. Mary’s Church\, Tickhill\, St Mary's Church\, St Mary's Rd\, Tickhill\,\, Doncaster\, DN11 9LZ\, United Kingdom
END:VEVENT
BEGIN:VEVENT
DTSTART;VALUE=DATE:20190526
DTEND;VALUE=DATE:20190527
DTSTAMP:20260425T140452
CREATED:20190216T152003Z
LAST-MODIFIED:20190503T152425Z
UID:648-1558828800-1558915199@www.stmaryschurchtickhill.com
SUMMARY:The Sixth Sunday of Easter - Rogation Sunday
DESCRIPTION:
URL:https://www.stmaryschurchtickhill.com/event/the-sixth-sunday-of-easter
END:VEVENT
BEGIN:VEVENT
DTSTART;TZID=Europe/London:20190525T100000
DTEND;TZID=Europe/London:20190525T120000
DTSTAMP:20260425T140452
CREATED:20190221T105641Z
LAST-MODIFIED:20190221T105641Z
UID:973-1558778400-1558785600@www.stmaryschurchtickhill.com
SUMMARY:10:00 Coffee served in the Parish Room
DESCRIPTION:
URL:https://www.stmaryschurchtickhill.com/event/1000-coffee-served-in-the-parish-room-13
LOCATION:Parish Room\, Tickhill Parish Room\, Northgate\, Tickhill\, Doncaster\, DN11 9HZ\, United Kingdom
END:VEVENT
BEGIN:VEVENT
DTSTART;TZID=Europe/London:20190524T190000
DTEND;TZID=Europe/London:20190524T200000
DTSTAMP:20260425T140452
CREATED:20190221T115130Z
LAST-MODIFIED:20190221T115149Z
UID:1043-1558724400-1558728000@www.stmaryschurchtickhill.com
SUMMARY:7:00 PM Senior Choir Practice in St. Luke's Chapel
DESCRIPTION:
URL:https://www.stmaryschurchtickhill.com/event/700-pm-senior-choir-practice-in-st-lukes-chapel-12
LOCATION:St. Mary’s Church\, Tickhill\, St Mary's Church\, St Mary's Rd\, Tickhill\,\, Doncaster\, DN11 9LZ\, United Kingdom
END:VEVENT
BEGIN:VEVENT
DTSTART;TZID=Europe/London:20190524T180000
DTEND;TZID=Europe/London:20190524T190000
DTSTAMP:20260425T140452
CREATED:20190221T113406Z
LAST-MODIFIED:20190221T113406Z
UID:1016-1558720800-1558724400@www.stmaryschurchtickhill.com
SUMMARY:6:00 PM Junior Choir Practice in St. Luke's Chapel
DESCRIPTION:
URL:https://www.stmaryschurchtickhill.com/event/600-pm-junior-choir-practice-in-st-lukes-chapel-15
LOCATION:St. Mary’s Church\, Tickhill\, St Mary's Church\, St Mary's Rd\, Tickhill\,\, Doncaster\, DN11 9LZ\, United Kingdom
END:VEVENT
BEGIN:VEVENT
DTSTART;TZID=Europe/London:20190522T100000
DTEND;TZID=Europe/London:20190522T113000
DTSTAMP:20260425T140452
CREATED:20190221T115917Z
LAST-MODIFIED:20190221T115917Z
UID:1057-1558519200-1558524600@www.stmaryschurchtickhill.com
SUMMARY:10:00 AM Holy Communion\, St. Luke’s Chapel
DESCRIPTION:
URL:https://www.stmaryschurchtickhill.com/event/1000-am-holy-communion-st-lukes-chapel-16
LOCATION:St. Mary’s Church\, Tickhill\, St Mary's Church\, St Mary's Rd\, Tickhill\,\, Doncaster\, DN11 9LZ\, United Kingdom
END:VEVENT
BEGIN:VEVENT
DTSTART;TZID=Europe/London:20190519T180000
DTEND;TZID=Europe/London:20190519T193000
DTSTAMP:20260425T140452
CREATED:20190221T121352Z
LAST-MODIFIED:20190221T121352Z
UID:1091-1558288800-1558294200@www.stmaryschurchtickhill.com
SUMMARY:6:00 PM Evensong
DESCRIPTION:
URL:https://www.stmaryschurchtickhill.com/event/600-pm-evensong-16
LOCATION:St. Mary’s Church\, Tickhill\, St Mary's Church\, St Mary's Rd\, Tickhill\,\, Doncaster\, DN11 9LZ\, United Kingdom
END:VEVENT
BEGIN:VEVENT
DTSTART;TZID=Europe/London:20190519T103000
DTEND;TZID=Europe/London:20190519T120000
DTSTAMP:20260425T140452
CREATED:20190503T151708Z
LAST-MODIFIED:20190503T151708Z
UID:1624-1558261800-1558267200@www.stmaryschurchtickhill.com
SUMMARY:10:30 AM Sung Parish Eucharist
DESCRIPTION:
URL:https://www.stmaryschurchtickhill.com/event/1030-am-sung-parish-eucharist-8
LOCATION:St. Mary’s Church\, Tickhill\, St Mary's Church\, St Mary's Rd\, Tickhill\,\, Doncaster\, DN11 9LZ\, United Kingdom
END:VEVENT
BEGIN:VEVENT
DTSTART;TZID=Europe/London:20190519T080000
DTEND;TZID=Europe/London:20190519T090000
DTSTAMP:20260425T140452
CREATED:20190221T120538Z
LAST-MODIFIED:20190221T120538Z
UID:1073-1558252800-1558256400@www.stmaryschurchtickhill.com
SUMMARY:8:00 AM Holy Communion (BCP)\, St. Helen’s Chapel
DESCRIPTION:
URL:https://www.stmaryschurchtickhill.com/event/800-am-holy-communion-bcp-st-helens-chapel-16
LOCATION:St. Mary’s Church\, Tickhill\, St Mary's Church\, St Mary's Rd\, Tickhill\,\, Doncaster\, DN11 9LZ\, United Kingdom
END:VEVENT
END:VCALENDAR