BEGIN:VCALENDAR
VERSION:2.0
PRODID:-//St Mary&#039;s Church Tickhill - ECPv6.15.20//NONSGML v1.0//EN
CALSCALE:GREGORIAN
METHOD:PUBLISH
X-WR-CALNAME:St Mary&#039;s Church Tickhill
X-ORIGINAL-URL:https://www.stmaryschurchtickhill.com
X-WR-CALDESC:Events for St Mary&#039;s Church Tickhill
REFRESH-INTERVAL;VALUE=DURATION:PT1H
X-Robots-Tag:noindex
X-PUBLISHED-TTL:PT1H
BEGIN:VTIMEZONE
TZID:Europe/London
BEGIN:DAYLIGHT
TZOFFSETFROM:+0000
TZOFFSETTO:+0100
TZNAME:BST
DTSTART:20180325T010000
END:DAYLIGHT
BEGIN:STANDARD
TZOFFSETFROM:+0100
TZOFFSETTO:+0000
TZNAME:GMT
DTSTART:20181028T010000
END:STANDARD
BEGIN:DAYLIGHT
TZOFFSETFROM:+0000
TZOFFSETTO:+0100
TZNAME:BST
DTSTART:20190331T010000
END:DAYLIGHT
BEGIN:STANDARD
TZOFFSETFROM:+0100
TZOFFSETTO:+0000
TZNAME:GMT
DTSTART:20191027T010000
END:STANDARD
BEGIN:DAYLIGHT
TZOFFSETFROM:+0000
TZOFFSETTO:+0100
TZNAME:BST
DTSTART:20200329T010000
END:DAYLIGHT
BEGIN:STANDARD
TZOFFSETFROM:+0100
TZOFFSETTO:+0000
TZNAME:GMT
DTSTART:20201025T010000
END:STANDARD
BEGIN:DAYLIGHT
TZOFFSETFROM:+0000
TZOFFSETTO:+0100
TZNAME:BST
DTSTART:20210328T010000
END:DAYLIGHT
BEGIN:STANDARD
TZOFFSETFROM:+0100
TZOFFSETTO:+0000
TZNAME:GMT
DTSTART:20211031T010000
END:STANDARD
END:VTIMEZONE
BEGIN:VEVENT
DTSTART;VALUE=DATE:20200216
DTEND;VALUE=DATE:20200217
DTSTAMP:20260423T062703
CREATED:20200114T141008Z
LAST-MODIFIED:20200114T141008Z
UID:2357-1581811200-1581897599@www.stmaryschurchtickhill.com
SUMMARY:The Second Sunday before Lent
DESCRIPTION:
URL:https://www.stmaryschurchtickhill.com/event/the-second-sunday-before-lent-2
END:VEVENT
BEGIN:VEVENT
DTSTART;TZID=Europe/London:20200215T100000
DTEND;TZID=Europe/London:20200215T120000
DTSTAMP:20260423T062703
CREATED:20200211T142850Z
LAST-MODIFIED:20200211T143417Z
UID:2603-1581760800-1581768000@www.stmaryschurchtickhill.com
SUMMARY:10:00 AM Coffee served in the Parish Room
DESCRIPTION:
URL:https://www.stmaryschurchtickhill.com/event/1000-coffee-served-in-the-parish-room-19
LOCATION:Parish Room\, Tickhill Parish Room\, Northgate\, Tickhill\, Doncaster\, DN11 9HZ\, United Kingdom
END:VEVENT
BEGIN:VEVENT
DTSTART;TZID=Europe/London:20200214T120000
DTEND;TZID=Europe/London:20200214T130000
DTSTAMP:20260423T062703
CREATED:20200211T134043Z
LAST-MODIFIED:20200211T143240Z
UID:2544-1581681600-1581685200@www.stmaryschurchtickhill.com
SUMMARY:12:00 PM Soup Lunch
DESCRIPTION:
URL:https://www.stmaryschurchtickhill.com/event/1200-soup-lunch
LOCATION:Parish Room\, Tickhill Parish Room\, Northgate\, Tickhill\, Doncaster\, DN11 9HZ\, United Kingdom
END:VEVENT
BEGIN:VEVENT
DTSTART;TZID=Europe/London:20200212T100000
DTEND;TZID=Europe/London:20200212T110000
DTSTAMP:20260423T062703
CREATED:20200114T141922Z
LAST-MODIFIED:20200114T141922Z
UID:2371-1581501600-1581505200@www.stmaryschurchtickhill.com
SUMMARY:10:00 AM Holy Communion in St Luke’s Chapel
DESCRIPTION:
URL:https://www.stmaryschurchtickhill.com/event/1000-am-holy-communion-in-st-lukes-chapel-35
LOCATION:St. Mary’s Church\, Tickhill\, St Mary's Church\, St Mary's Rd\, Tickhill\,\, Doncaster\, DN11 9LZ\, United Kingdom
END:VEVENT
BEGIN:VEVENT
DTSTART;TZID=Europe/London:20200209T180000
DTEND;TZID=Europe/London:20200209T190000
DTSTAMP:20260423T062703
CREATED:20200211T122153Z
LAST-MODIFIED:20200211T122153Z
UID:2450-1581271200-1581274800@www.stmaryschurchtickhill.com
SUMMARY:6:00 PM Evensong
DESCRIPTION:
URL:https://www.stmaryschurchtickhill.com/event/600-pm-evensong-43
LOCATION:St. Mary’s Church\, Tickhill\, St Mary's Church\, St Mary's Rd\, Tickhill\,\, Doncaster\, DN11 9LZ\, United Kingdom
END:VEVENT
BEGIN:VEVENT
DTSTART;TZID=Europe/London:20200209T103000
DTEND;TZID=Europe/London:20200209T120000
DTSTAMP:20260423T062703
CREATED:20200211T124149Z
LAST-MODIFIED:20200211T124149Z
UID:2498-1581244200-1581249600@www.stmaryschurchtickhill.com
SUMMARY:10:30 AM Sung Parish Eucharist
DESCRIPTION:
URL:https://www.stmaryschurchtickhill.com/event/1030-am-sung-parish-eucharist-29
LOCATION:St. Mary’s Church\, Tickhill\, St Mary's Church\, St Mary's Rd\, Tickhill\,\, Doncaster\, DN11 9LZ\, United Kingdom
END:VEVENT
BEGIN:VEVENT
DTSTART;TZID=Europe/London:20200209T080000
DTEND;TZID=Europe/London:20200209T090000
DTSTAMP:20260423T062703
CREATED:20200211T114957Z
LAST-MODIFIED:20200211T114957Z
UID:2400-1581235200-1581238800@www.stmaryschurchtickhill.com
SUMMARY:8:00 AM Holy Communion (BCP)\, St. Helen’s Chapel
DESCRIPTION:
URL:https://www.stmaryschurchtickhill.com/event/800-am-holy-communion-bcp-st-helens-chapel-47
LOCATION:St. Mary’s Church\, Tickhill\, St Mary's Church\, St Mary's Rd\, Tickhill\,\, Doncaster\, DN11 9LZ\, United Kingdom
END:VEVENT
BEGIN:VEVENT
DTSTART;VALUE=DATE:20200209
DTEND;VALUE=DATE:20200210
DTSTAMP:20260423T062703
CREATED:20200114T141053Z
LAST-MODIFIED:20200114T141053Z
UID:2359-1581206400-1581292799@www.stmaryschurchtickhill.com
SUMMARY:The Third Sunday before Lent
DESCRIPTION:
URL:https://www.stmaryschurchtickhill.com/event/the-third-sunday-before-lent-2
END:VEVENT
BEGIN:VEVENT
DTSTART;TZID=Europe/London:20200205T100000
DTEND;TZID=Europe/London:20200205T110000
DTSTAMP:20260423T062703
CREATED:20200114T141851Z
LAST-MODIFIED:20200114T141851Z
UID:2369-1580896800-1580900400@www.stmaryschurchtickhill.com
SUMMARY:10:00 AM Holy Communion in St Luke’s Chapel
DESCRIPTION:
URL:https://www.stmaryschurchtickhill.com/event/1000-am-holy-communion-in-st-lukes-chapel-34
LOCATION:St. Mary’s Church\, Tickhill\, St Mary's Church\, St Mary's Rd\, Tickhill\,\, Doncaster\, DN11 9LZ\, United Kingdom
END:VEVENT
BEGIN:VEVENT
DTSTART;TZID=Europe/London:20200202T180000
DTEND;TZID=Europe/London:20200202T190000
DTSTAMP:20260423T062703
CREATED:20200211T122125Z
LAST-MODIFIED:20200211T122125Z
UID:2448-1580666400-1580670000@www.stmaryschurchtickhill.com
SUMMARY:6:00 PM Evensong
DESCRIPTION:
URL:https://www.stmaryschurchtickhill.com/event/600-pm-evensong-42
LOCATION:St. Mary’s Church\, Tickhill\, St Mary's Church\, St Mary's Rd\, Tickhill\,\, Doncaster\, DN11 9LZ\, United Kingdom
END:VEVENT
BEGIN:VEVENT
DTSTART;TZID=Europe/London:20200202T103000
DTEND;TZID=Europe/London:20200202T120000
DTSTAMP:20260423T062703
CREATED:20200211T123107Z
LAST-MODIFIED:20200211T123107Z
UID:2476-1580639400-1580644800@www.stmaryschurchtickhill.com
SUMMARY:10:30 AM Family Communion with Baptisms
DESCRIPTION:
URL:https://www.stmaryschurchtickhill.com/event/1030-am-family-communion-with-baptisms
LOCATION:St. Mary’s Church\, Tickhill\, St Mary's Church\, St Mary's Rd\, Tickhill\,\, Doncaster\, DN11 9LZ\, United Kingdom
END:VEVENT
BEGIN:VEVENT
DTSTART;TZID=Europe/London:20200202T080000
DTEND;TZID=Europe/London:20200202T170000
DTSTAMP:20260423T062703
CREATED:20200114T135950Z
LAST-MODIFIED:20200114T135950Z
UID:2349-1580630400-1580662800@www.stmaryschurchtickhill.com
SUMMARY:The Presentation of Christ in the Temple (Candlemas)
DESCRIPTION:
URL:https://www.stmaryschurchtickhill.com/event/the-presentation-of-christ-in-the-temple-candlemas
END:VEVENT
BEGIN:VEVENT
DTSTART;TZID=Europe/London:20200202T080000
DTEND;TZID=Europe/London:20200202T090000
DTSTAMP:20260423T062703
CREATED:20200211T114921Z
LAST-MODIFIED:20200211T114921Z
UID:2398-1580630400-1580634000@www.stmaryschurchtickhill.com
SUMMARY:8:00 AM Holy Communion (BCP)\, St. Helen’s Chapel
DESCRIPTION:
URL:https://www.stmaryschurchtickhill.com/event/800-am-holy-communion-bcp-st-helens-chapel-43
LOCATION:St. Mary’s Church\, Tickhill\, St Mary's Church\, St Mary's Rd\, Tickhill\,\, Doncaster\, DN11 9LZ\, United Kingdom
END:VEVENT
BEGIN:VEVENT
DTSTART;VALUE=DATE:20200202
DTEND;VALUE=DATE:20200203
DTSTAMP:20260423T062703
CREATED:20200114T135632Z
LAST-MODIFIED:20200114T135632Z
UID:2347-1580601600-1580687999@www.stmaryschurchtickhill.com
SUMMARY:The Fourth Sunday of Epiphany
DESCRIPTION:
URL:https://www.stmaryschurchtickhill.com/event/the-fourth-sunday-of-epiphany
END:VEVENT
BEGIN:VEVENT
DTSTART;TZID=Europe/London:20200129T100000
DTEND;TZID=Europe/London:20200129T110000
DTSTAMP:20260423T062703
CREATED:20200114T141731Z
LAST-MODIFIED:20200114T141731Z
UID:2367-1580292000-1580295600@www.stmaryschurchtickhill.com
SUMMARY:10:00 AM Holy Communion in St Luke’s Chapel
DESCRIPTION:
URL:https://www.stmaryschurchtickhill.com/event/1000-am-holy-communion-in-st-lukes-chapel-33
LOCATION:St. Mary’s Church\, Tickhill\, St Mary's Church\, St Mary's Rd\, Tickhill\,\, Doncaster\, DN11 9LZ\, United Kingdom
END:VEVENT
BEGIN:VEVENT
DTSTART;VALUE=DATE:20200126
DTEND;VALUE=DATE:20200127
DTSTAMP:20260423T062703
CREATED:20200114T134928Z
LAST-MODIFIED:20200114T134928Z
UID:2343-1579996800-1580083199@www.stmaryschurchtickhill.com
SUMMARY:The Third Sunday of Epiphany
DESCRIPTION:
URL:https://www.stmaryschurchtickhill.com/event/the-third-sunday-of-epiphany
END:VEVENT
BEGIN:VEVENT
DTSTART;TZID=Europe/London:20200122T100000
DTEND;TZID=Europe/London:20200122T110000
DTSTAMP:20260423T062703
CREATED:20200114T141640Z
LAST-MODIFIED:20200114T141640Z
UID:2365-1579687200-1579690800@www.stmaryschurchtickhill.com
SUMMARY:10:00 AM Holy Communion in St Luke’s Chapel
DESCRIPTION:
URL:https://www.stmaryschurchtickhill.com/event/1000-am-holy-communion-in-st-lukes-chapel-32
LOCATION:St. Mary’s Church\, Tickhill\, St Mary's Church\, St Mary's Rd\, Tickhill\,\, Doncaster\, DN11 9LZ\, United Kingdom
END:VEVENT
BEGIN:VEVENT
DTSTART;TZID=Europe/London:20200120T193000
DTEND;TZID=Europe/London:20200120T210000
DTSTAMP:20260423T062703
CREATED:20190516T154010Z
LAST-MODIFIED:20190516T154010Z
UID:1735-1579548600-1579554000@www.stmaryschurchtickhill.com
SUMMARY:7:30 PM PCC- St. Luke’s Chapel
DESCRIPTION:
URL:https://www.stmaryschurchtickhill.com/event/730-pm-pcc-st-lukes-chapel-6
LOCATION:St. Mary’s Church\, Tickhill\, St Mary's Church\, St Mary's Rd\, Tickhill\,\, Doncaster\, DN11 9LZ\, United Kingdom
END:VEVENT
BEGIN:VEVENT
DTSTART;VALUE=DATE:20200119
DTEND;VALUE=DATE:20200120
DTSTAMP:20260423T062703
CREATED:20190220T165340Z
LAST-MODIFIED:20190220T165340Z
UID:942-1579392000-1579478399@www.stmaryschurchtickhill.com
SUMMARY:The Second Sunday of Epiphany
DESCRIPTION:
URL:https://www.stmaryschurchtickhill.com/event/the-second-sunday-of-epiphany
END:VEVENT
BEGIN:VEVENT
DTSTART;TZID=Europe/London:20200115T100000
DTEND;TZID=Europe/London:20200115T110000
DTSTAMP:20260423T062703
CREATED:20200114T141605Z
LAST-MODIFIED:20200114T141605Z
UID:2363-1579082400-1579086000@www.stmaryschurchtickhill.com
SUMMARY:10:00 AM Holy Communion in St Luke’s Chapel
DESCRIPTION:
URL:https://www.stmaryschurchtickhill.com/event/1000-am-holy-communion-in-st-lukes-chapel-31
LOCATION:St. Mary’s Church\, Tickhill\, St Mary's Church\, St Mary's Rd\, Tickhill\,\, Doncaster\, DN11 9LZ\, United Kingdom
END:VEVENT
BEGIN:VEVENT
DTSTART;VALUE=DATE:20200112
DTEND;VALUE=DATE:20200113
DTSTAMP:20260423T062703
CREATED:20190220T165145Z
LAST-MODIFIED:20190220T165145Z
UID:940-1578787200-1578873599@www.stmaryschurchtickhill.com
SUMMARY:The Baptism of Christ – The First Sunday of Epiphany
DESCRIPTION:
URL:https://www.stmaryschurchtickhill.com/event/the-baptism-of-christ-the-first-sunday-of-epiphany
END:VEVENT
BEGIN:VEVENT
DTSTART;TZID=Europe/London:20200108T100000
DTEND;TZID=Europe/London:20200108T110000
DTSTAMP:20260423T062703
CREATED:20200114T141456Z
LAST-MODIFIED:20200114T141456Z
UID:2361-1578477600-1578481200@www.stmaryschurchtickhill.com
SUMMARY:10:00 AM Holy Communion in St Luke’s Chapel
DESCRIPTION:
URL:https://www.stmaryschurchtickhill.com/event/1000-am-holy-communion-in-st-lukes-chapel-30
LOCATION:St. Mary’s Church\, Tickhill\, St Mary's Church\, St Mary's Rd\, Tickhill\,\, Doncaster\, DN11 9LZ\, United Kingdom
END:VEVENT
BEGIN:VEVENT
DTSTART;TZID=Europe/London:20200106T183000
DTEND;TZID=Europe/London:20200106T200000
DTSTAMP:20260423T062703
CREATED:20190516T154334Z
LAST-MODIFIED:20190516T154334Z
UID:1744-1578335400-1578340800@www.stmaryschurchtickhill.com
SUMMARY:6:30 PM Standing Committee – St. Luke’s Chapel
DESCRIPTION:
URL:https://www.stmaryschurchtickhill.com/event/630-pm-standing-committee-st-lukes-chapel-6
LOCATION:St. Mary’s Church\, Tickhill\, St Mary's Church\, St Mary's Rd\, Tickhill\,\, Doncaster\, DN11 9LZ\, United Kingdom
END:VEVENT
BEGIN:VEVENT
DTSTART;VALUE=DATE:20200106
DTEND;VALUE=DATE:20200107
DTSTAMP:20260423T062703
CREATED:20190220T165047Z
LAST-MODIFIED:20190220T165047Z
UID:938-1578268800-1578355199@www.stmaryschurchtickhill.com
SUMMARY:The Epiphany
DESCRIPTION:
URL:https://www.stmaryschurchtickhill.com/event/the-epiphany
END:VEVENT
BEGIN:VEVENT
DTSTART;VALUE=DATE:20200105
DTEND;VALUE=DATE:20200106
DTSTAMP:20260423T062703
CREATED:20190220T164855Z
LAST-MODIFIED:20190220T164855Z
UID:936-1578182400-1578268799@www.stmaryschurchtickhill.com
SUMMARY:The Second Sunday of Christmas
DESCRIPTION:
URL:https://www.stmaryschurchtickhill.com/event/the-second-sunday-of-christmas
END:VEVENT
BEGIN:VEVENT
DTSTART;TZID=Europe/London:20191231T160000
DTEND;TZID=Europe/London:20191231T173000
DTSTAMP:20260423T062703
CREATED:20190221T145839Z
LAST-MODIFIED:20190221T145839Z
UID:1161-1577808000-1577813400@www.stmaryschurchtickhill.com
SUMMARY:4:00 PM Memory Tree Service
DESCRIPTION:
URL:https://www.stmaryschurchtickhill.com/event/400-pm-memory-tree-service
LOCATION:St. Mary’s Church\, Tickhill\, St Mary's Church\, St Mary's Rd\, Tickhill\,\, Doncaster\, DN11 9LZ\, United Kingdom
END:VEVENT
BEGIN:VEVENT
DTSTART;VALUE=DATE:20191229
DTEND;VALUE=DATE:20191230
DTSTAMP:20260423T062703
CREATED:20190220T164744Z
LAST-MODIFIED:20190220T164744Z
UID:934-1577577600-1577663999@www.stmaryschurchtickhill.com
SUMMARY:The First Sunday of Christmas
DESCRIPTION:
URL:https://www.stmaryschurchtickhill.com/event/the-first-sunday-of-christmas
END:VEVENT
BEGIN:VEVENT
DTSTART;TZID=Europe/London:20191225T093000
DTEND;TZID=Europe/London:20191225T110000
DTSTAMP:20260423T062703
CREATED:20190221T145743Z
LAST-MODIFIED:20190221T145743Z
UID:1159-1577266200-1577271600@www.stmaryschurchtickhill.com
SUMMARY:9:30 AM Christmas Communion
DESCRIPTION:
URL:https://www.stmaryschurchtickhill.com/event/930-am-christmas-communion
LOCATION:St. Mary’s Church\, Tickhill\, St Mary's Church\, St Mary's Rd\, Tickhill\,\, Doncaster\, DN11 9LZ\, United Kingdom
END:VEVENT
BEGIN:VEVENT
DTSTART;VALUE=DATE:20191225
DTEND;VALUE=DATE:20191226
DTSTAMP:20260423T062703
CREATED:20190220T164650Z
LAST-MODIFIED:20190220T164650Z
UID:932-1577232000-1577318399@www.stmaryschurchtickhill.com
SUMMARY:Christmas Day
DESCRIPTION:
URL:https://www.stmaryschurchtickhill.com/event/christmas-day
END:VEVENT
BEGIN:VEVENT
DTSTART;TZID=Europe/London:20191224T233000
DTEND;TZID=Europe/London:20191224T233000
DTSTAMP:20260423T062703
CREATED:20190221T145633Z
LAST-MODIFIED:20190221T145633Z
UID:1157-1577230200-1577230200@www.stmaryschurchtickhill.com
SUMMARY:11:30 Midnight Communion
DESCRIPTION:
URL:https://www.stmaryschurchtickhill.com/event/1130-midnight-communion
LOCATION:St. Mary’s Church\, Tickhill\, St Mary's Church\, St Mary's Rd\, Tickhill\,\, Doncaster\, DN11 9LZ\, United Kingdom
END:VEVENT
END:VCALENDAR