BEGIN:VCALENDAR
VERSION:2.0
PRODID:-//St Mary&#039;s Church Tickhill - ECPv6.15.20//NONSGML v1.0//EN
CALSCALE:GREGORIAN
METHOD:PUBLISH
X-WR-CALNAME:St Mary&#039;s Church Tickhill
X-ORIGINAL-URL:https://www.stmaryschurchtickhill.com
X-WR-CALDESC:Events for St Mary&#039;s Church Tickhill
REFRESH-INTERVAL;VALUE=DURATION:PT1H
X-Robots-Tag:noindex
X-PUBLISHED-TTL:PT1H
BEGIN:VTIMEZONE
TZID:Europe/London
BEGIN:DAYLIGHT
TZOFFSETFROM:+0000
TZOFFSETTO:+0100
TZNAME:BST
DTSTART:20180325T010000
END:DAYLIGHT
BEGIN:STANDARD
TZOFFSETFROM:+0100
TZOFFSETTO:+0000
TZNAME:GMT
DTSTART:20181028T010000
END:STANDARD
BEGIN:DAYLIGHT
TZOFFSETFROM:+0000
TZOFFSETTO:+0100
TZNAME:BST
DTSTART:20190331T010000
END:DAYLIGHT
BEGIN:STANDARD
TZOFFSETFROM:+0100
TZOFFSETTO:+0000
TZNAME:GMT
DTSTART:20191027T010000
END:STANDARD
BEGIN:DAYLIGHT
TZOFFSETFROM:+0000
TZOFFSETTO:+0100
TZNAME:BST
DTSTART:20200329T010000
END:DAYLIGHT
BEGIN:STANDARD
TZOFFSETFROM:+0100
TZOFFSETTO:+0000
TZNAME:GMT
DTSTART:20201025T010000
END:STANDARD
END:VTIMEZONE
BEGIN:VEVENT
DTSTART;TZID=Europe/London:20190729T100000
DTEND;TZID=Europe/London:20190729T120000
DTSTAMP:20260424T103925
CREATED:20190704T091922Z
LAST-MODIFIED:20190704T091922Z
UID:2030-1564394400-1564401600@www.stmaryschurchtickhill.com
SUMMARY:10:00 AM Tickhill Churches Together - Tickhill Methodist Church
DESCRIPTION:
URL:https://www.stmaryschurchtickhill.com/event/1000-am-tickhill-churches-together-tickhill-methodist-church
LOCATION:Tickhill Methodist Church\, 8 Buttercross Ct\, Tickhill\,\, Doncaster\, DN11 9JX
END:VEVENT
BEGIN:VEVENT
DTSTART;TZID=Europe/London:20190728T180000
DTEND;TZID=Europe/London:20190728T190000
DTSTAMP:20260424T103925
CREATED:20190503T163312Z
LAST-MODIFIED:20190503T163312Z
UID:1694-1564336800-1564340400@www.stmaryschurchtickhill.com
SUMMARY:6:00 PM Evensong
DESCRIPTION:
URL:https://www.stmaryschurchtickhill.com/event/600-pm-evensong-25
LOCATION:St. Mary’s Church\, Tickhill\, St Mary's Church\, St Mary's Rd\, Tickhill\,\, Doncaster\, DN11 9LZ\, United Kingdom
END:VEVENT
BEGIN:VEVENT
DTSTART;TZID=Europe/London:20190728T103000
DTEND;TZID=Europe/London:20190728T120000
DTSTAMP:20260424T103925
CREATED:20190503T163055Z
LAST-MODIFIED:20190503T163055Z
UID:1688-1564309800-1564315200@www.stmaryschurchtickhill.com
SUMMARY:10:30 AM Sung Parish Eucharist
DESCRIPTION:
URL:https://www.stmaryschurchtickhill.com/event/1030-am-sung-parish-eucharist-16
LOCATION:St. Mary’s Church\, Tickhill\, St Mary's Church\, St Mary's Rd\, Tickhill\,\, Doncaster\, DN11 9LZ\, United Kingdom
END:VEVENT
BEGIN:VEVENT
DTSTART;TZID=Europe/London:20190728T080000
DTEND;TZID=Europe/London:20190728T090000
DTSTAMP:20260424T103925
CREATED:20190503T162902Z
LAST-MODIFIED:20190503T162902Z
UID:1684-1564300800-1564304400@www.stmaryschurchtickhill.com
SUMMARY:8:00 AM Holy Communion (BCP)\, St. Helen’s Chapel
DESCRIPTION:
URL:https://www.stmaryschurchtickhill.com/event/800-am-holy-communion-bcp-st-helens-chapel-26
LOCATION:St. Mary’s Church\, Tickhill\, St Mary's Church\, St Mary's Rd\, Tickhill\,\, Doncaster\, DN11 9LZ\, United Kingdom
END:VEVENT
BEGIN:VEVENT
DTSTART;VALUE=DATE:20190728
DTEND;VALUE=DATE:20190729
DTSTAMP:20260424T103925
CREATED:20190220T162538Z
LAST-MODIFIED:20190220T162538Z
UID:884-1564272000-1564358399@www.stmaryschurchtickhill.com
SUMMARY:The Sixth Sunday after Trinity
DESCRIPTION:
URL:https://www.stmaryschurchtickhill.com/event/the-sixth-sunday-after-trinity
END:VEVENT
BEGIN:VEVENT
DTSTART;TZID=Europe/London:20190726T190000
DTEND;TZID=Europe/London:20190726T200000
DTSTAMP:20260424T103925
CREATED:20190704T084835Z
LAST-MODIFIED:20190704T084835Z
UID:2004-1564167600-1564171200@www.stmaryschurchtickhill.com
SUMMARY:7:00 PM Senior Choir Practice in St. Luke’s Chapel
DESCRIPTION:
URL:https://www.stmaryschurchtickhill.com/event/700-pm-senior-choir-practice-in-st-lukes-chapel-21
LOCATION:St. Mary’s Church\, Tickhill\, St Mary's Church\, St Mary's Rd\, Tickhill\,\, Doncaster\, DN11 9LZ\, United Kingdom
END:VEVENT
BEGIN:VEVENT
DTSTART;TZID=Europe/London:20190726T180000
DTEND;TZID=Europe/London:20190726T190000
DTSTAMP:20260424T103925
CREATED:20190704T083804Z
LAST-MODIFIED:20190704T083804Z
UID:1986-1564164000-1564167600@www.stmaryschurchtickhill.com
SUMMARY:6:00 PM Junior Choir Practice in St. Luke’s Chapel
DESCRIPTION:
URL:https://www.stmaryschurchtickhill.com/event/600-pm-junior-choir-practice-in-st-lukes-chapel-22
LOCATION:St. Mary’s Church\, Tickhill\, St Mary's Church\, St Mary's Rd\, Tickhill\,\, Doncaster\, DN11 9LZ\, United Kingdom
END:VEVENT
BEGIN:VEVENT
DTSTART;TZID=Europe/London:20190724T100000
DTEND;TZID=Europe/London:20190724T110000
DTSTAMP:20260424T103925
CREATED:20190503T150226Z
LAST-MODIFIED:20190503T150226Z
UID:1609-1563962400-1563966000@www.stmaryschurchtickhill.com
SUMMARY:10:00 AM Holy Communion in St Luke's Chapel
DESCRIPTION:
URL:https://www.stmaryschurchtickhill.com/event/1000-am-holy-communion-in-st-lukes-chapel-7
LOCATION:St. Mary’s Church\, Tickhill\, St Mary's Church\, St Mary's Rd\, Tickhill\,\, Doncaster\, DN11 9LZ\, United Kingdom
END:VEVENT
BEGIN:VEVENT
DTSTART;TZID=Europe/London:20190721T180000
DTEND;TZID=Europe/London:20190721T190000
DTSTAMP:20260424T103925
CREATED:20190503T163239Z
LAST-MODIFIED:20190503T163239Z
UID:1692-1563732000-1563735600@www.stmaryschurchtickhill.com
SUMMARY:6:00 PM Evensong
DESCRIPTION:
URL:https://www.stmaryschurchtickhill.com/event/600-pm-evensong-24
LOCATION:St. Mary’s Church\, Tickhill\, St Mary's Church\, St Mary's Rd\, Tickhill\,\, Doncaster\, DN11 9LZ\, United Kingdom
END:VEVENT
BEGIN:VEVENT
DTSTART;TZID=Europe/London:20190721T103000
DTEND;TZID=Europe/London:20190721T120000
DTSTAMP:20260424T103925
CREATED:20190503T163022Z
LAST-MODIFIED:20190503T163022Z
UID:1686-1563705000-1563710400@www.stmaryschurchtickhill.com
SUMMARY:10:30 AM Sung Parish Eucharist
DESCRIPTION:
URL:https://www.stmaryschurchtickhill.com/event/1030-am-sung-parish-eucharist-15
LOCATION:St. Mary’s Church\, Tickhill\, St Mary's Church\, St Mary's Rd\, Tickhill\,\, Doncaster\, DN11 9LZ\, United Kingdom
END:VEVENT
BEGIN:VEVENT
DTSTART;TZID=Europe/London:20190721T080000
DTEND;TZID=Europe/London:20190721T090000
DTSTAMP:20260424T103925
CREATED:20190503T162828Z
LAST-MODIFIED:20190503T162828Z
UID:1682-1563696000-1563699600@www.stmaryschurchtickhill.com
SUMMARY:8:00 AM Holy Communion (BCP)\, St. Helen’s Chapel
DESCRIPTION:
URL:https://www.stmaryschurchtickhill.com/event/800-am-holy-communion-bcp-st-helens-chapel-25
LOCATION:St. Mary’s Church\, Tickhill\, St Mary's Church\, St Mary's Rd\, Tickhill\,\, Doncaster\, DN11 9LZ\, United Kingdom
END:VEVENT
BEGIN:VEVENT
DTSTART;VALUE=DATE:20190721
DTEND;VALUE=DATE:20190722
DTSTAMP:20260424T103925
CREATED:20190220T162457Z
LAST-MODIFIED:20190220T162457Z
UID:882-1563667200-1563753599@www.stmaryschurchtickhill.com
SUMMARY:The Fifth Sunday after Trinity
DESCRIPTION:
URL:https://www.stmaryschurchtickhill.com/event/the-fifth-sunday-after-trinity
END:VEVENT
BEGIN:VEVENT
DTSTART;TZID=Europe/London:20190720T100000
DTEND;TZID=Europe/London:20190720T120000
DTSTAMP:20260424T103925
CREATED:20190714T133216Z
LAST-MODIFIED:20190714T133216Z
UID:2043-1563616800-1563624000@www.stmaryschurchtickhill.com
SUMMARY:10:00 Coffee served in the Parish Room
DESCRIPTION:Get ready to stock up on your ethical grocery from our fair trade store cupboard at our next Traidcraft event. \nWe will have our Traidcraft stall at the Parish Room Coffee Morning from 10:00 am to 12 noon on Saturday 20th . \nGet ready to feel good inside and out
URL:https://www.stmaryschurchtickhill.com/event/1000-coffee-served-in-the-parish-room-18
LOCATION:Parish Room\, Tickhill Parish Room\, Northgate\, Tickhill\, Doncaster\, DN11 9HZ\, United Kingdom
END:VEVENT
BEGIN:VEVENT
DTSTART;TZID=Europe/London:20190719T190000
DTEND;TZID=Europe/London:20190719T200000
DTSTAMP:20260424T103925
CREATED:20190704T084758Z
LAST-MODIFIED:20190704T084758Z
UID:2002-1563562800-1563566400@www.stmaryschurchtickhill.com
SUMMARY:7:00 PM Senior Choir Practice in St. Luke’s Chapel
DESCRIPTION:
URL:https://www.stmaryschurchtickhill.com/event/700-pm-senior-choir-practice-in-st-lukes-chapel-20
LOCATION:St. Mary’s Church\, Tickhill\, St Mary's Church\, St Mary's Rd\, Tickhill\,\, Doncaster\, DN11 9LZ\, United Kingdom
END:VEVENT
BEGIN:VEVENT
DTSTART;TZID=Europe/London:20190719T180000
DTEND;TZID=Europe/London:20190719T190000
DTSTAMP:20260424T103925
CREATED:20190704T083732Z
LAST-MODIFIED:20190704T083732Z
UID:1984-1563559200-1563562800@www.stmaryschurchtickhill.com
SUMMARY:6:00 PM Junior Choir Practice in St. Luke’s Chapel
DESCRIPTION:
URL:https://www.stmaryschurchtickhill.com/event/600-pm-junior-choir-practice-in-st-lukes-chapel-21
LOCATION:St. Mary’s Church\, Tickhill\, St Mary's Church\, St Mary's Rd\, Tickhill\,\, Doncaster\, DN11 9LZ\, United Kingdom
END:VEVENT
BEGIN:VEVENT
DTSTART;TZID=Europe/London:20190717T100000
DTEND;TZID=Europe/London:20190717T110000
DTSTAMP:20260424T103925
CREATED:20190503T150051Z
LAST-MODIFIED:20190503T150051Z
UID:1607-1563357600-1563361200@www.stmaryschurchtickhill.com
SUMMARY:10:00 AM Holy Communion in St Luke's Chapel
DESCRIPTION:
URL:https://www.stmaryschurchtickhill.com/event/1000-am-holy-communion-in-st-lukes-chapel-6
LOCATION:St. Mary’s Church\, Tickhill\, St Mary's Church\, St Mary's Rd\, Tickhill\,\, Doncaster\, DN11 9LZ\, United Kingdom
END:VEVENT
BEGIN:VEVENT
DTSTART;TZID=Europe/London:20190714T180000
DTEND;TZID=Europe/London:20190714T190000
DTSTAMP:20260424T103925
CREATED:20190503T163206Z
LAST-MODIFIED:20190503T163206Z
UID:1690-1563127200-1563130800@www.stmaryschurchtickhill.com
SUMMARY:6:00 PM Evensong
DESCRIPTION:
URL:https://www.stmaryschurchtickhill.com/event/600-pm-evensong-23
LOCATION:St. Mary’s Church\, Tickhill\, St Mary's Church\, St Mary's Rd\, Tickhill\,\, Doncaster\, DN11 9LZ\, United Kingdom
END:VEVENT
BEGIN:VEVENT
DTSTART;TZID=Europe/London:20190714T120000
DTEND;TZID=Europe/London:20190714T170000
DTSTAMP:20260424T103925
CREATED:20190221T151126Z
LAST-MODIFIED:20190529T132044Z
UID:1167-1563105600-1563123600@www.stmaryschurchtickhill.com
SUMMARY:12:00 PM Open Gardens
DESCRIPTION:On Sunday 14th July seven gardens will be open to view from 12:00 until 17:00.  All these gardens will be within easy walking distance of the Church.  There will also be refreshments being served in the Church with proceeds going to the Tower Appeal
URL:https://www.stmaryschurchtickhill.com/event/1200-pm-open-gardens
END:VEVENT
BEGIN:VEVENT
DTSTART;TZID=Europe/London:20190714T103000
DTEND;TZID=Europe/London:20190714T120000
DTSTAMP:20260424T103925
CREATED:20190503T162522Z
LAST-MODIFIED:20190503T162522Z
UID:1676-1563100200-1563105600@www.stmaryschurchtickhill.com
SUMMARY:10:30 AM Sung Parish Eucharist
DESCRIPTION:
URL:https://www.stmaryschurchtickhill.com/event/1030-am-sung-parish-eucharist-14
LOCATION:St. Mary’s Church\, Tickhill\, St Mary's Church\, St Mary's Rd\, Tickhill\,\, Doncaster\, DN11 9LZ\, United Kingdom
END:VEVENT
BEGIN:VEVENT
DTSTART;TZID=Europe/London:20190714T080000
DTEND;TZID=Europe/London:20190714T090000
DTSTAMP:20260424T103925
CREATED:20190503T162753Z
LAST-MODIFIED:20190503T162753Z
UID:1680-1563091200-1563094800@www.stmaryschurchtickhill.com
SUMMARY:8:00 AM Holy Communion (BCP)\, St. Helen’s Chapel
DESCRIPTION:
URL:https://www.stmaryschurchtickhill.com/event/800-am-holy-communion-bcp-st-helens-chapel-24
LOCATION:St. Mary’s Church\, Tickhill\, St Mary's Church\, St Mary's Rd\, Tickhill\,\, Doncaster\, DN11 9LZ\, United Kingdom
END:VEVENT
BEGIN:VEVENT
DTSTART;VALUE=DATE:20190714
DTEND;VALUE=DATE:20190715
DTSTAMP:20260424T103925
CREATED:20190220T162344Z
LAST-MODIFIED:20190220T162344Z
UID:880-1563062400-1563148799@www.stmaryschurchtickhill.com
SUMMARY:The Fourth Sunday after Trinity
DESCRIPTION:
URL:https://www.stmaryschurchtickhill.com/event/the-fourth-sunday-after-trinity
END:VEVENT
BEGIN:VEVENT
DTSTART;TZID=Europe/London:20190712T190000
DTEND;TZID=Europe/London:20190712T200000
DTSTAMP:20260424T103925
CREATED:20190704T084716Z
LAST-MODIFIED:20190704T084716Z
UID:2000-1562958000-1562961600@www.stmaryschurchtickhill.com
SUMMARY:7:00 PM Senior Choir Practice in St. Luke’s Chapel
DESCRIPTION:
URL:https://www.stmaryschurchtickhill.com/event/700-pm-senior-choir-practice-in-st-lukes-chapel-19
LOCATION:St. Mary’s Church\, Tickhill\, St Mary's Church\, St Mary's Rd\, Tickhill\,\, Doncaster\, DN11 9LZ\, United Kingdom
END:VEVENT
BEGIN:VEVENT
DTSTART;TZID=Europe/London:20190712T180000
DTEND;TZID=Europe/London:20190712T190000
DTSTAMP:20260424T103925
CREATED:20190704T083649Z
LAST-MODIFIED:20190704T083649Z
UID:1982-1562954400-1562958000@www.stmaryschurchtickhill.com
SUMMARY:6:00 PM Junior Choir Practice in St. Luke’s Chapel
DESCRIPTION:
URL:https://www.stmaryschurchtickhill.com/event/600-pm-junior-choir-practice-in-st-lukes-chapel-20
LOCATION:St. Mary’s Church\, Tickhill\, St Mary's Church\, St Mary's Rd\, Tickhill\,\, Doncaster\, DN11 9LZ\, United Kingdom
END:VEVENT
BEGIN:VEVENT
DTSTART;TZID=Europe/London:20190710T100000
DTEND;TZID=Europe/London:20190710T110000
DTSTAMP:20260424T103925
CREATED:20190503T150012Z
LAST-MODIFIED:20190503T150012Z
UID:1605-1562752800-1562756400@www.stmaryschurchtickhill.com
SUMMARY:10:00 AM Holy Communion in St Luke's Chapel
DESCRIPTION:
URL:https://www.stmaryschurchtickhill.com/event/1000-am-holy-communion-in-st-lukes-chapel-5
LOCATION:St. Mary’s Church\, Tickhill\, St Mary's Church\, St Mary's Rd\, Tickhill\,\, Doncaster\, DN11 9LZ\, United Kingdom
END:VEVENT
BEGIN:VEVENT
DTSTART;TZID=Europe/London:20190709T140000
DTEND;TZID=Europe/London:20190709T160000
DTSTAMP:20260424T103925
CREATED:20190704T091544Z
LAST-MODIFIED:20190706T110711Z
UID:2028-1562680800-1562688000@www.stmaryschurchtickhill.com
SUMMARY:2:00 PM Mothers' Union MULOA course - Tickhill Library
DESCRIPTION:Listening\, Observing\, Acting – with Pauline Reynolds
URL:https://www.stmaryschurchtickhill.com/event/200-pm-mothers-union-muloa-course-st-lukes-chapel
LOCATION:Tickhill Community Library\, Market Pl\, Tickhill\, Doncaster\, DN11 9QU\, United Kingdom
END:VEVENT
BEGIN:VEVENT
DTSTART;TZID=Europe/London:20190708T193000
DTEND;TZID=Europe/London:20190708T210000
DTSTAMP:20260424T103925
CREATED:20190516T153806Z
LAST-MODIFIED:20190516T153806Z
UID:1729-1562614200-1562619600@www.stmaryschurchtickhill.com
SUMMARY:7:30 PM PCC- St. Luke’s Chapel
DESCRIPTION:
URL:https://www.stmaryschurchtickhill.com/event/730-pm-pcc-st-lukes-chapel-3
LOCATION:St. Mary’s Church\, Tickhill\, St Mary's Church\, St Mary's Rd\, Tickhill\,\, Doncaster\, DN11 9LZ\, United Kingdom
END:VEVENT
BEGIN:VEVENT
DTSTART;TZID=Europe/London:20190707T180000
DTEND;TZID=Europe/London:20190707T190000
DTSTAMP:20260424T103925
CREATED:20190503T161954Z
LAST-MODIFIED:20190503T161954Z
UID:1666-1562522400-1562526000@www.stmaryschurchtickhill.com
SUMMARY:6:00 PM Evensong
DESCRIPTION:
URL:https://www.stmaryschurchtickhill.com/event/600-pm-evensong-22
LOCATION:St. Mary’s Church\, Tickhill\, St Mary's Church\, St Mary's Rd\, Tickhill\,\, Doncaster\, DN11 9LZ\, United Kingdom
END:VEVENT
BEGIN:VEVENT
DTSTART;TZID=Europe/London:20190707T103000
DTEND;TZID=Europe/London:20190707T120000
DTSTAMP:20260424T103925
CREATED:20190215T150925Z
LAST-MODIFIED:20190215T161153Z
UID:523-1562495400-1562500800@www.stmaryschurchtickhill.com
SUMMARY:10:30 AM Family Communion with Baptisms
DESCRIPTION:
URL:https://www.stmaryschurchtickhill.com/event/1030-family-communion-with-baptisms-6
END:VEVENT
BEGIN:VEVENT
DTSTART;TZID=Europe/London:20190707T080000
DTEND;TZID=Europe/London:20190707T090000
DTSTAMP:20260424T103925
CREATED:20190503T162656Z
LAST-MODIFIED:20190503T162656Z
UID:1678-1562486400-1562490000@www.stmaryschurchtickhill.com
SUMMARY:8:00 AM Holy Communion (BCP)\, St. Helen’s Chapel
DESCRIPTION:
URL:https://www.stmaryschurchtickhill.com/event/800-am-holy-communion-bcp-st-helens-chapel-23
LOCATION:St. Mary’s Church\, Tickhill\, St Mary's Church\, St Mary's Rd\, Tickhill\,\, Doncaster\, DN11 9LZ\, United Kingdom
END:VEVENT
BEGIN:VEVENT
DTSTART;VALUE=DATE:20190707
DTEND;VALUE=DATE:20190708
DTSTAMP:20260424T103925
CREATED:20190220T162249Z
LAST-MODIFIED:20190220T162319Z
UID:878-1562457600-1562543999@www.stmaryschurchtickhill.com
SUMMARY:The Third Sunday after Trinity
DESCRIPTION:
URL:https://www.stmaryschurchtickhill.com/event/the-third-sunday-after-trinity
END:VEVENT
END:VCALENDAR