BEGIN:VCALENDAR
VERSION:2.0
PRODID:-//St Mary&#039;s Church Tickhill - ECPv6.15.20//NONSGML v1.0//EN
CALSCALE:GREGORIAN
METHOD:PUBLISH
X-WR-CALNAME:St Mary&#039;s Church Tickhill
X-ORIGINAL-URL:https://www.stmaryschurchtickhill.com
X-WR-CALDESC:Events for St Mary&#039;s Church Tickhill
REFRESH-INTERVAL;VALUE=DURATION:PT1H
X-Robots-Tag:noindex
X-PUBLISHED-TTL:PT1H
BEGIN:VTIMEZONE
TZID:Europe/London
BEGIN:DAYLIGHT
TZOFFSETFROM:+0000
TZOFFSETTO:+0100
TZNAME:BST
DTSTART:20180325T010000
END:DAYLIGHT
BEGIN:STANDARD
TZOFFSETFROM:+0100
TZOFFSETTO:+0000
TZNAME:GMT
DTSTART:20181028T010000
END:STANDARD
BEGIN:DAYLIGHT
TZOFFSETFROM:+0000
TZOFFSETTO:+0100
TZNAME:BST
DTSTART:20190331T010000
END:DAYLIGHT
BEGIN:STANDARD
TZOFFSETFROM:+0100
TZOFFSETTO:+0000
TZNAME:GMT
DTSTART:20191027T010000
END:STANDARD
BEGIN:DAYLIGHT
TZOFFSETFROM:+0000
TZOFFSETTO:+0100
TZNAME:BST
DTSTART:20200329T010000
END:DAYLIGHT
BEGIN:STANDARD
TZOFFSETFROM:+0100
TZOFFSETTO:+0000
TZNAME:GMT
DTSTART:20201025T010000
END:STANDARD
END:VTIMEZONE
BEGIN:VEVENT
DTSTART;TZID=Europe/London:20190902T183000
DTEND;TZID=Europe/London:20190902T200000
DTSTAMP:20260423T211811
CREATED:20190516T154211Z
LAST-MODIFIED:20190516T154211Z
UID:1740-1567449000-1567454400@www.stmaryschurchtickhill.com
SUMMARY:6:30 PM Standing Committee – St. Luke’s Chapel
DESCRIPTION:
URL:https://www.stmaryschurchtickhill.com/event/630-pm-standing-committee-st-lukes-chapel-4
LOCATION:St. Mary’s Church\, Tickhill\, St Mary's Church\, St Mary's Rd\, Tickhill\,\, Doncaster\, DN11 9LZ\, United Kingdom
END:VEVENT
BEGIN:VEVENT
DTSTART;TZID=Europe/London:20190901T180000
DTEND;TZID=Europe/London:20190901T190000
DTSTAMP:20260423T211811
CREATED:20190529T150939Z
LAST-MODIFIED:20190529T150939Z
UID:1888-1567360800-1567364400@www.stmaryschurchtickhill.com
SUMMARY:6:00 PM Evensong
DESCRIPTION:
URL:https://www.stmaryschurchtickhill.com/event/600-pm-evensong-30
LOCATION:St. Mary’s Church\, Tickhill\, St Mary's Church\, St Mary's Rd\, Tickhill\,\, Doncaster\, DN11 9LZ\, United Kingdom
END:VEVENT
BEGIN:VEVENT
DTSTART;TZID=Europe/London:20190901T103000
DTEND;TZID=Europe/London:20190901T120000
DTSTAMP:20260423T211811
CREATED:20190215T151049Z
LAST-MODIFIED:20190215T161216Z
UID:527-1567333800-1567339200@www.stmaryschurchtickhill.com
SUMMARY:10:30 AM Family Communion with Baptisms
DESCRIPTION:
URL:https://www.stmaryschurchtickhill.com/event/1030-family-communion-with-baptisms-8
END:VEVENT
BEGIN:VEVENT
DTSTART;TZID=Europe/London:20190901T080000
DTEND;TZID=Europe/London:20190901T090000
DTSTAMP:20260423T211811
CREATED:20190529T140348Z
LAST-MODIFIED:20190529T140348Z
UID:1853-1567324800-1567328400@www.stmaryschurchtickhill.com
SUMMARY:8:00 AM Holy Communion (BCP)\, St. Helen’s Chapel
DESCRIPTION:
URL:https://www.stmaryschurchtickhill.com/event/800-am-holy-communion-bcp-st-helens-chapel-31
LOCATION:St. Mary’s Church\, Tickhill\, St Mary's Church\, St Mary's Rd\, Tickhill\,\, Doncaster\, DN11 9LZ\, United Kingdom
END:VEVENT
BEGIN:VEVENT
DTSTART;VALUE=DATE:20190901
DTEND;VALUE=DATE:20190902
DTSTAMP:20260423T211811
CREATED:20190220T162906Z
LAST-MODIFIED:20190220T162906Z
UID:894-1567296000-1567382399@www.stmaryschurchtickhill.com
SUMMARY:The Eleventh Sunday after Trinity
DESCRIPTION:
URL:https://www.stmaryschurchtickhill.com/event/the-eleventh-sunday-after-trinity
END:VEVENT
BEGIN:VEVENT
DTSTART;TZID=Europe/London:20190830T190000
DTEND;TZID=Europe/London:20190830T200000
DTSTAMP:20260423T211811
CREATED:20190704T085214Z
LAST-MODIFIED:20190704T085214Z
UID:2014-1567191600-1567195200@www.stmaryschurchtickhill.com
SUMMARY:7:00 PM Senior Choir Practice in St. Luke’s Chapel
DESCRIPTION:
URL:https://www.stmaryschurchtickhill.com/event/700-pm-senior-choir-practice-in-st-lukes-chapel-26
LOCATION:St. Mary’s Church\, Tickhill\, St Mary's Church\, St Mary's Rd\, Tickhill\,\, Doncaster\, DN11 9LZ\, United Kingdom
END:VEVENT
BEGIN:VEVENT
DTSTART;TZID=Europe/London:20190830T180000
DTEND;TZID=Europe/London:20190830T190000
DTSTAMP:20260423T211811
CREATED:20190704T083948Z
LAST-MODIFIED:20190704T084245Z
UID:1992-1567188000-1567191600@www.stmaryschurchtickhill.com
SUMMARY:6:00 PM Junior Choir Practice in St. Luke’s Chapel
DESCRIPTION:
URL:https://www.stmaryschurchtickhill.com/event/600-pm-junior-choir-practice-in-st-lukes-chapel-25
LOCATION:St. Mary’s Church\, Tickhill\, St Mary's Church\, St Mary's Rd\, Tickhill\,\, Doncaster\, DN11 9LZ\, United Kingdom
END:VEVENT
BEGIN:VEVENT
DTSTART;TZID=Europe/London:20190828T100000
DTEND;TZID=Europe/London:20190828T110000
DTSTAMP:20260423T211811
CREATED:20190529T144750Z
LAST-MODIFIED:20190529T144750Z
UID:1869-1566986400-1566990000@www.stmaryschurchtickhill.com
SUMMARY:10:00 AM Holy Communion in St Luke's Chapel
DESCRIPTION:
URL:https://www.stmaryschurchtickhill.com/event/1000-am-holy-communion-in-st-lukes-chapel-12
LOCATION:St. Mary’s Church\, Tickhill\, St Mary's Church\, St Mary's Rd\, Tickhill\,\, Doncaster\, DN11 9LZ\, United Kingdom
END:VEVENT
BEGIN:VEVENT
DTSTART;TZID=Europe/London:20190825T180000
DTEND;TZID=Europe/London:20190825T190000
DTSTAMP:20260423T211811
CREATED:20190529T150849Z
LAST-MODIFIED:20190529T150849Z
UID:1886-1566756000-1566759600@www.stmaryschurchtickhill.com
SUMMARY:6:00 PM Evensong
DESCRIPTION:
URL:https://www.stmaryschurchtickhill.com/event/600-pm-evensong-29
LOCATION:St. Mary’s Church\, Tickhill\, St Mary's Church\, St Mary's Rd\, Tickhill\,\, Doncaster\, DN11 9LZ\, United Kingdom
END:VEVENT
BEGIN:VEVENT
DTSTART;TZID=Europe/London:20190825T103000
DTEND;TZID=Europe/London:20190825T120000
DTSTAMP:20260423T211811
CREATED:20190529T152354Z
LAST-MODIFIED:20190529T152354Z
UID:1902-1566729000-1566734400@www.stmaryschurchtickhill.com
SUMMARY:10:30 AM Sung Parish Eucharist
DESCRIPTION:
URL:https://www.stmaryschurchtickhill.com/event/1030-am-sung-parish-eucharist-19
LOCATION:St. Mary’s Church\, Tickhill\, St Mary's Church\, St Mary's Rd\, Tickhill\,\, Doncaster\, DN11 9LZ\, United Kingdom
END:VEVENT
BEGIN:VEVENT
DTSTART;TZID=Europe/London:20190825T080000
DTEND;TZID=Europe/London:20190825T090000
DTSTAMP:20260423T211811
CREATED:20190529T140246Z
LAST-MODIFIED:20190529T140246Z
UID:1851-1566720000-1566723600@www.stmaryschurchtickhill.com
SUMMARY:8:00 AM Holy Communion (BCP)\, St. Helen’s Chapel
DESCRIPTION:
URL:https://www.stmaryschurchtickhill.com/event/800-am-holy-communion-bcp-st-helens-chapel-30
LOCATION:St. Mary’s Church\, Tickhill\, St Mary's Church\, St Mary's Rd\, Tickhill\,\, Doncaster\, DN11 9LZ\, United Kingdom
END:VEVENT
BEGIN:VEVENT
DTSTART;VALUE=DATE:20190825
DTEND;VALUE=DATE:20190826
DTSTAMP:20260423T211811
CREATED:20190220T162811Z
LAST-MODIFIED:20190220T162811Z
UID:892-1566691200-1566777599@www.stmaryschurchtickhill.com
SUMMARY:The Tenth Sunday after Trinity
DESCRIPTION:
URL:https://www.stmaryschurchtickhill.com/event/the-tenth-sunday-after-trinity
END:VEVENT
BEGIN:VEVENT
DTSTART;TZID=Europe/London:20190823T190000
DTEND;TZID=Europe/London:20190823T200000
DTSTAMP:20260423T211811
CREATED:20190704T085140Z
LAST-MODIFIED:20190704T085140Z
UID:2012-1566586800-1566590400@www.stmaryschurchtickhill.com
SUMMARY:7:00 PM Senior Choir Practice in St. Luke’s Chapel
DESCRIPTION:
URL:https://www.stmaryschurchtickhill.com/event/700-pm-senior-choir-practice-in-st-lukes-chapel-25
LOCATION:St. Mary’s Church\, Tickhill\, St Mary's Church\, St Mary's Rd\, Tickhill\,\, Doncaster\, DN11 9LZ\, United Kingdom
END:VEVENT
BEGIN:VEVENT
DTSTART;TZID=Europe/London:20190823T180000
DTEND;TZID=Europe/London:20190823T190000
DTSTAMP:20260423T211811
CREATED:20190704T084117Z
LAST-MODIFIED:20190704T084117Z
UID:1996-1566583200-1566586800@www.stmaryschurchtickhill.com
SUMMARY:6:00 PM Junior Choir Practice in St. Luke’s Chapel
DESCRIPTION:
URL:https://www.stmaryschurchtickhill.com/event/600-pm-junior-choir-practice-in-st-lukes-chapel-27
LOCATION:St. Mary’s Church\, Tickhill\, St Mary's Church\, St Mary's Rd\, Tickhill\,\, Doncaster\, DN11 9LZ\, United Kingdom
END:VEVENT
BEGIN:VEVENT
DTSTART;TZID=Europe/London:20190821T100000
DTEND;TZID=Europe/London:20190821T110000
DTSTAMP:20260423T211811
CREATED:20190529T142955Z
LAST-MODIFIED:20190529T142955Z
UID:1867-1566381600-1566385200@www.stmaryschurchtickhill.com
SUMMARY:10:00 AM Holy Communion in St Luke's Chapel
DESCRIPTION:
URL:https://www.stmaryschurchtickhill.com/event/1000-am-holy-communion-in-st-lukes-chapel-11
LOCATION:St. Mary’s Church\, Tickhill\, St Mary's Church\, St Mary's Rd\, Tickhill\,\, Doncaster\, DN11 9LZ\, United Kingdom
END:VEVENT
BEGIN:VEVENT
DTSTART;TZID=Europe/London:20190818T180000
DTEND;TZID=Europe/London:20190818T190000
DTSTAMP:20260423T211811
CREATED:20190529T150219Z
LAST-MODIFIED:20190529T150219Z
UID:1884-1566151200-1566154800@www.stmaryschurchtickhill.com
SUMMARY:6:00 PM Evensong
DESCRIPTION:
URL:https://www.stmaryschurchtickhill.com/event/600-pm-evensong-28
LOCATION:St. Mary’s Church\, Tickhill\, St Mary's Church\, St Mary's Rd\, Tickhill\,\, Doncaster\, DN11 9LZ\, United Kingdom
END:VEVENT
BEGIN:VEVENT
DTSTART;TZID=Europe/London:20190818T103000
DTEND;TZID=Europe/London:20190818T120000
DTSTAMP:20260423T211811
CREATED:20190529T152316Z
LAST-MODIFIED:20190529T152316Z
UID:1900-1566124200-1566129600@www.stmaryschurchtickhill.com
SUMMARY:10:30 AM Sung Parish Eucharist
DESCRIPTION:
URL:https://www.stmaryschurchtickhill.com/event/1030-am-sung-parish-eucharist-18
LOCATION:St. Mary’s Church\, Tickhill\, St Mary's Church\, St Mary's Rd\, Tickhill\,\, Doncaster\, DN11 9LZ\, United Kingdom
END:VEVENT
BEGIN:VEVENT
DTSTART;TZID=Europe/London:20190818T080000
DTEND;TZID=Europe/London:20190818T090000
DTSTAMP:20260423T211811
CREATED:20190529T140118Z
LAST-MODIFIED:20190529T140118Z
UID:1849-1566115200-1566118800@www.stmaryschurchtickhill.com
SUMMARY:8:00 AM Holy Communion (BCP)\, St. Helen’s Chapel
DESCRIPTION:
URL:https://www.stmaryschurchtickhill.com/event/800-am-holy-communion-bcp-st-helens-chapel-29
LOCATION:St. Mary’s Church\, Tickhill\, St Mary's Church\, St Mary's Rd\, Tickhill\,\, Doncaster\, DN11 9LZ\, United Kingdom
END:VEVENT
BEGIN:VEVENT
DTSTART;VALUE=DATE:20190818
DTEND;VALUE=DATE:20190819
DTSTAMP:20260423T211811
CREATED:20190220T162742Z
LAST-MODIFIED:20190220T162742Z
UID:890-1566086400-1566172799@www.stmaryschurchtickhill.com
SUMMARY:The Ninth Sunday after Trinity
DESCRIPTION:
URL:https://www.stmaryschurchtickhill.com/event/the-ninth-sunday-after-trinity
END:VEVENT
BEGIN:VEVENT
DTSTART;TZID=Europe/London:20190816T190000
DTEND;TZID=Europe/London:20190816T200000
DTSTAMP:20260423T211811
CREATED:20190704T085043Z
LAST-MODIFIED:20190704T085043Z
UID:2010-1565982000-1565985600@www.stmaryschurchtickhill.com
SUMMARY:7:00 PM Senior Choir Practice in St. Luke’s Chapel
DESCRIPTION:
URL:https://www.stmaryschurchtickhill.com/event/700-pm-senior-choir-practice-in-st-lukes-chapel-24
LOCATION:St. Mary’s Church\, Tickhill\, St Mary's Church\, St Mary's Rd\, Tickhill\,\, Doncaster\, DN11 9LZ\, United Kingdom
END:VEVENT
BEGIN:VEVENT
DTSTART;TZID=Europe/London:20190816T180000
DTEND;TZID=Europe/London:20190816T190000
DTSTAMP:20260423T211811
CREATED:20190704T084036Z
LAST-MODIFIED:20190704T084036Z
UID:1994-1565978400-1565982000@www.stmaryschurchtickhill.com
SUMMARY:6:00 PM Junior Choir Practice in St. Luke’s Chapel
DESCRIPTION:
URL:https://www.stmaryschurchtickhill.com/event/600-pm-junior-choir-practice-in-st-lukes-chapel-26
LOCATION:St. Mary’s Church\, Tickhill\, St Mary's Church\, St Mary's Rd\, Tickhill\,\, Doncaster\, DN11 9LZ\, United Kingdom
END:VEVENT
BEGIN:VEVENT
DTSTART;TZID=Europe/London:20190814T100000
DTEND;TZID=Europe/London:20190814T110000
DTSTAMP:20260423T211811
CREATED:20190529T142842Z
LAST-MODIFIED:20190529T142842Z
UID:1865-1565776800-1565780400@www.stmaryschurchtickhill.com
SUMMARY:10:00 AM Holy Communion in St Luke's Chapel
DESCRIPTION:
URL:https://www.stmaryschurchtickhill.com/event/1000-am-holy-communion-in-st-lukes-chapel-10
LOCATION:St. Mary’s Church\, Tickhill\, St Mary's Church\, St Mary's Rd\, Tickhill\,\, Doncaster\, DN11 9LZ\, United Kingdom
END:VEVENT
BEGIN:VEVENT
DTSTART;TZID=Europe/London:20190811T180000
DTEND;TZID=Europe/London:20190811T190000
DTSTAMP:20260423T211811
CREATED:20190529T150148Z
LAST-MODIFIED:20190529T150148Z
UID:1882-1565546400-1565550000@www.stmaryschurchtickhill.com
SUMMARY:6:00 PM Evensong
DESCRIPTION:
URL:https://www.stmaryschurchtickhill.com/event/600-pm-evensong-27
LOCATION:St. Mary’s Church\, Tickhill\, St Mary's Church\, St Mary's Rd\, Tickhill\,\, Doncaster\, DN11 9LZ\, United Kingdom
END:VEVENT
BEGIN:VEVENT
DTSTART;TZID=Europe/London:20190811T103000
DTEND;TZID=Europe/London:20190811T120000
DTSTAMP:20260423T211811
CREATED:20190529T152158Z
LAST-MODIFIED:20190529T152158Z
UID:1898-1565519400-1565524800@www.stmaryschurchtickhill.com
SUMMARY:10:30 AM Sung Parish Eucharist
DESCRIPTION:
URL:https://www.stmaryschurchtickhill.com/event/1030-am-sung-parish-eucharist-17
LOCATION:St. Mary’s Church\, Tickhill\, St Mary's Church\, St Mary's Rd\, Tickhill\,\, Doncaster\, DN11 9LZ\, United Kingdom
END:VEVENT
BEGIN:VEVENT
DTSTART;TZID=Europe/London:20190811T080000
DTEND;TZID=Europe/London:20190811T090000
DTSTAMP:20260423T211811
CREATED:20190529T140039Z
LAST-MODIFIED:20190529T140039Z
UID:1847-1565510400-1565514000@www.stmaryschurchtickhill.com
SUMMARY:8:00 AM Holy Communion (BCP)\, St. Helen’s Chapel
DESCRIPTION:
URL:https://www.stmaryschurchtickhill.com/event/800-am-holy-communion-bcp-st-helens-chapel-28
LOCATION:St. Mary’s Church\, Tickhill\, St Mary's Church\, St Mary's Rd\, Tickhill\,\, Doncaster\, DN11 9LZ\, United Kingdom
END:VEVENT
BEGIN:VEVENT
DTSTART;VALUE=DATE:20190811
DTEND;VALUE=DATE:20190812
DTSTAMP:20260423T211811
CREATED:20190220T162715Z
LAST-MODIFIED:20190220T162715Z
UID:888-1565481600-1565567999@www.stmaryschurchtickhill.com
SUMMARY:The Eighth Sunday after Trinity
DESCRIPTION:
URL:https://www.stmaryschurchtickhill.com/event/the-eighth-sunday-after-trinity
END:VEVENT
BEGIN:VEVENT
DTSTART;TZID=Europe/London:20190809T190000
DTEND;TZID=Europe/London:20190809T200000
DTSTAMP:20260423T211811
CREATED:20190704T085008Z
LAST-MODIFIED:20190704T085008Z
UID:2008-1565377200-1565380800@www.stmaryschurchtickhill.com
SUMMARY:7:00 PM Senior Choir Practice in St. Luke’s Chapel
DESCRIPTION:
URL:https://www.stmaryschurchtickhill.com/event/700-pm-senior-choir-practice-in-st-lukes-chapel-23
LOCATION:St. Mary’s Church\, Tickhill\, St Mary's Church\, St Mary's Rd\, Tickhill\,\, Doncaster\, DN11 9LZ\, United Kingdom
END:VEVENT
BEGIN:VEVENT
DTSTART;TZID=Europe/London:20190809T180000
DTEND;TZID=Europe/London:20190809T190000
DTSTAMP:20260423T211811
CREATED:20190704T083911Z
LAST-MODIFIED:20190704T083911Z
UID:1990-1565373600-1565377200@www.stmaryschurchtickhill.com
SUMMARY:6:00 PM Junior Choir Practice in St. Luke’s Chapel
DESCRIPTION:
URL:https://www.stmaryschurchtickhill.com/event/600-pm-junior-choir-practice-in-st-lukes-chapel-24
LOCATION:St. Mary’s Church\, Tickhill\, St Mary's Church\, St Mary's Rd\, Tickhill\,\, Doncaster\, DN11 9LZ\, United Kingdom
END:VEVENT
BEGIN:VEVENT
DTSTART;TZID=Europe/London:20190807T140000
DTEND;TZID=Europe/London:20190807T170000
DTSTAMP:20260423T211811
CREATED:20190221T151511Z
LAST-MODIFIED:20190529T135101Z
UID:1170-1565186400-1565197200@www.stmaryschurchtickhill.com
SUMMARY:2:00 PM Afternoon Tea at 27 Sunderland Street
DESCRIPTION:In aid of the Tower Appeal
URL:https://www.stmaryschurchtickhill.com/event/200-pm-afternoon-tea-at-27-sunderland-street
LOCATION:27 Sunderland Street\, 27 Sunderland Street\, DN11 9PT\, United Kingdom
END:VEVENT
BEGIN:VEVENT
DTSTART;TZID=Europe/London:20190807T100000
DTEND;TZID=Europe/London:20190807T110000
DTSTAMP:20260423T211811
CREATED:20190529T142133Z
LAST-MODIFIED:20190529T142133Z
UID:1863-1565172000-1565175600@www.stmaryschurchtickhill.com
SUMMARY:10:00 AM Holy Communion in St Luke's Chapel
DESCRIPTION:
URL:https://www.stmaryschurchtickhill.com/event/1000-am-holy-communion-in-st-lukes-chapel-9
LOCATION:St. Mary’s Church\, Tickhill\, St Mary's Church\, St Mary's Rd\, Tickhill\,\, Doncaster\, DN11 9LZ\, United Kingdom
END:VEVENT
END:VCALENDAR