BEGIN:VCALENDAR
VERSION:2.0
PRODID:-//St Mary&#039;s Church Tickhill - ECPv6.15.20//NONSGML v1.0//EN
CALSCALE:GREGORIAN
METHOD:PUBLISH
X-WR-CALNAME:St Mary&#039;s Church Tickhill
X-ORIGINAL-URL:https://www.stmaryschurchtickhill.com
X-WR-CALDESC:Events for St Mary&#039;s Church Tickhill
REFRESH-INTERVAL;VALUE=DURATION:PT1H
X-Robots-Tag:noindex
X-PUBLISHED-TTL:PT1H
BEGIN:VTIMEZONE
TZID:Europe/London
BEGIN:DAYLIGHT
TZOFFSETFROM:+0000
TZOFFSETTO:+0100
TZNAME:BST
DTSTART:20180325T010000
END:DAYLIGHT
BEGIN:STANDARD
TZOFFSETFROM:+0100
TZOFFSETTO:+0000
TZNAME:GMT
DTSTART:20181028T010000
END:STANDARD
BEGIN:DAYLIGHT
TZOFFSETFROM:+0000
TZOFFSETTO:+0100
TZNAME:BST
DTSTART:20190331T010000
END:DAYLIGHT
BEGIN:STANDARD
TZOFFSETFROM:+0100
TZOFFSETTO:+0000
TZNAME:GMT
DTSTART:20191027T010000
END:STANDARD
BEGIN:DAYLIGHT
TZOFFSETFROM:+0000
TZOFFSETTO:+0100
TZNAME:BST
DTSTART:20200329T010000
END:DAYLIGHT
BEGIN:STANDARD
TZOFFSETFROM:+0100
TZOFFSETTO:+0000
TZNAME:GMT
DTSTART:20201025T010000
END:STANDARD
END:VTIMEZONE
BEGIN:VEVENT
DTSTART;TZID=Europe/London:20191006T180000
DTEND;TZID=Europe/London:20191006T190000
DTSTAMP:20260424T050218
CREATED:20190919T111215Z
LAST-MODIFIED:20190919T111215Z
UID:2126-1570384800-1570388400@www.stmaryschurchtickhill.com
SUMMARY:6:00 PM Evensong
DESCRIPTION:
URL:https://www.stmaryschurchtickhill.com/event/600-pm-evensong-35
LOCATION:St. Mary’s Church\, Tickhill\, St Mary's Church\, St Mary's Rd\, Tickhill\,\, Doncaster\, DN11 9LZ\, United Kingdom
END:VEVENT
BEGIN:VEVENT
DTSTART;TZID=Europe/London:20191006T103000
DTEND;TZID=Europe/London:20191006T120000
DTSTAMP:20260424T050218
CREATED:20190215T151219Z
LAST-MODIFIED:20190215T161225Z
UID:529-1570357800-1570363200@www.stmaryschurchtickhill.com
SUMMARY:10:30 AM Family Communion with Baptisms
DESCRIPTION:
URL:https://www.stmaryschurchtickhill.com/event/1030-family-communion-with-baptisms-9
END:VEVENT
BEGIN:VEVENT
DTSTART;TZID=Europe/London:20191006T080000
DTEND;TZID=Europe/London:20191006T090000
DTSTAMP:20260424T050218
CREATED:20190919T110144Z
LAST-MODIFIED:20190919T110338Z
UID:2103-1570348800-1570352400@www.stmaryschurchtickhill.com
SUMMARY:8:00 AM Holy Communion (BCP)\, St. Helen’s Chapel
DESCRIPTION:
URL:https://www.stmaryschurchtickhill.com/event/800-am-holy-communion-bcp-st-helens-chapel-36
LOCATION:St. Mary’s Church\, Tickhill\, St Mary's Church\, St Mary's Rd\, Tickhill\,\, Doncaster\, DN11 9LZ\, United Kingdom
END:VEVENT
BEGIN:VEVENT
DTSTART;VALUE=DATE:20191006
DTEND;VALUE=DATE:20191007
DTSTAMP:20260424T050218
CREATED:20190220T163240Z
LAST-MODIFIED:20190220T163240Z
UID:904-1570320000-1570406399@www.stmaryschurchtickhill.com
SUMMARY:The Sixteenth Sunday after Trinity
DESCRIPTION:
URL:https://www.stmaryschurchtickhill.com/event/the-sixteenth-sunday-after-trinity
END:VEVENT
BEGIN:VEVENT
DTSTART;TZID=Europe/London:20191004T190000
DTEND;TZID=Europe/London:20191004T200000
DTSTAMP:20260424T050218
CREATED:20190919T130927Z
LAST-MODIFIED:20190919T130927Z
UID:2199-1570215600-1570219200@www.stmaryschurchtickhill.com
SUMMARY:7:00 PM Senior Choir Practice in St. Luke’s Chapel
DESCRIPTION:
URL:https://www.stmaryschurchtickhill.com/event/700-pm-senior-choir-practice-in-st-lukes-chapel-30
LOCATION:St. Mary’s Church\, Tickhill\, St Mary's Church\, St Mary's Rd\, Tickhill\,\, Doncaster\, DN11 9LZ\, United Kingdom
END:VEVENT
BEGIN:VEVENT
DTSTART;TZID=Europe/London:20191004T180000
DTEND;TZID=Europe/London:20191004T190000
DTSTAMP:20260424T050218
CREATED:20190919T132234Z
LAST-MODIFIED:20190919T132234Z
UID:2222-1570212000-1570215600@www.stmaryschurchtickhill.com
SUMMARY:6:00 PM Junior Choir Practice in St. Luke’s Chapel
DESCRIPTION:
URL:https://www.stmaryschurchtickhill.com/event/600-pm-junior-choir-practice-in-st-lukes-chapel-31
LOCATION:St. Mary’s Church\, Tickhill\, St Mary's Church\, St Mary's Rd\, Tickhill\,\, Doncaster\, DN11 9LZ\, United Kingdom
END:VEVENT
BEGIN:VEVENT
DTSTART;TZID=Europe/London:20191004T141500
DTEND;TZID=Europe/London:20191004T153000
DTSTAMP:20260424T050218
CREATED:20190919T132005Z
LAST-MODIFIED:20190919T132005Z
UID:2218-1570198500-1570203000@www.stmaryschurchtickhill.com
SUMMARY:2:15 PM Church Mice\, St. Luke's Chapel
DESCRIPTION:
URL:https://www.stmaryschurchtickhill.com/event/215-pm-church-mice-st-lukes-chapel-6
LOCATION:St. Mary’s Church\, Tickhill\, St Mary's Church\, St Mary's Rd\, Tickhill\,\, Doncaster\, DN11 9LZ\, United Kingdom
END:VEVENT
BEGIN:VEVENT
DTSTART;TZID=Europe/London:20191002T100000
DTEND;TZID=Europe/London:20191002T110000
DTSTAMP:20260424T050218
CREATED:20190919T121615Z
LAST-MODIFIED:20190919T121615Z
UID:2154-1570010400-1570014000@www.stmaryschurchtickhill.com
SUMMARY:10:00 AM Holy Communion in St Luke’s Chapel
DESCRIPTION:
URL:https://www.stmaryschurchtickhill.com/event/1000-am-holy-communion-in-st-lukes-chapel-17
LOCATION:St. Mary’s Church\, Tickhill\, St Mary's Church\, St Mary's Rd\, Tickhill\,\, Doncaster\, DN11 9LZ\, United Kingdom
END:VEVENT
BEGIN:VEVENT
DTSTART;TZID=Europe/London:20190929T180000
DTEND;TZID=Europe/London:20190929T190000
DTSTAMP:20260424T050218
CREATED:20190529T151724Z
LAST-MODIFIED:20190529T151724Z
UID:1896-1569780000-1569783600@www.stmaryschurchtickhill.com
SUMMARY:6:00 PM Evensong
DESCRIPTION:
URL:https://www.stmaryschurchtickhill.com/event/600-pm-evensong-34
LOCATION:St. Mary’s Church\, Tickhill\, St Mary's Church\, St Mary's Rd\, Tickhill\,\, Doncaster\, DN11 9LZ\, United Kingdom
END:VEVENT
BEGIN:VEVENT
DTSTART;TZID=Europe/London:20190929T120000
DTEND;TZID=Europe/London:20190929T140000
DTSTAMP:20260424T050218
CREATED:20190919T124929Z
LAST-MODIFIED:20190919T124929Z
UID:2194-1569758400-1569765600@www.stmaryschurchtickhill.com
SUMMARY:12:00 PM Harvest Bring and Share Lunch
DESCRIPTION:
URL:https://www.stmaryschurchtickhill.com/event/1200-pm-harvest-bring-and-share-lunch
LOCATION:St. Mary’s Church\, Tickhill\, St Mary's Church\, St Mary's Rd\, Tickhill\,\, Doncaster\, DN11 9LZ\, United Kingdom
END:VEVENT
BEGIN:VEVENT
DTSTART;TZID=Europe/London:20190929T103000
DTEND;TZID=Europe/London:20190929T120000
DTSTAMP:20260424T050218
CREATED:20190529T152948Z
LAST-MODIFIED:20190919T125109Z
UID:1910-1569753000-1569758400@www.stmaryschurchtickhill.com
SUMMARY:10:30 AM Family Communion for Harvest
DESCRIPTION:
URL:https://www.stmaryschurchtickhill.com/event/1030-am-sung-parish-eucharist-23
LOCATION:St. Mary’s Church\, Tickhill\, St Mary's Church\, St Mary's Rd\, Tickhill\,\, Doncaster\, DN11 9LZ\, United Kingdom
END:VEVENT
BEGIN:VEVENT
DTSTART;TZID=Europe/London:20190929T080000
DTEND;TZID=Europe/London:20190929T090000
DTSTAMP:20260424T050218
CREATED:20190529T141652Z
LAST-MODIFIED:20190529T141652Z
UID:1861-1569744000-1569747600@www.stmaryschurchtickhill.com
SUMMARY:8:00 AM Holy Communion (BCP)\, St. Helen’s Chapel
DESCRIPTION:
URL:https://www.stmaryschurchtickhill.com/event/800-am-holy-communion-bcp-st-helens-chapel-35
LOCATION:St. Mary’s Church\, Tickhill\, St Mary's Church\, St Mary's Rd\, Tickhill\,\, Doncaster\, DN11 9LZ\, United Kingdom
END:VEVENT
BEGIN:VEVENT
DTSTART;VALUE=DATE:20190929
DTEND;VALUE=DATE:20190930
DTSTAMP:20260424T050218
CREATED:20190221T144248Z
LAST-MODIFIED:20190221T144248Z
UID:1136-1569715200-1569801599@www.stmaryschurchtickhill.com
SUMMARY:Harvest Thanksgiving
DESCRIPTION:
URL:https://www.stmaryschurchtickhill.com/event/harvest-thanksgiving
END:VEVENT
BEGIN:VEVENT
DTSTART;VALUE=DATE:20190929
DTEND;VALUE=DATE:20190930
DTSTAMP:20260424T050218
CREATED:20190220T163129Z
LAST-MODIFIED:20190220T163129Z
UID:902-1569715200-1569801599@www.stmaryschurchtickhill.com
SUMMARY:The Fifteenth Sunday after Trinity
DESCRIPTION:
URL:https://www.stmaryschurchtickhill.com/event/the-fifteenth-sunday-after-trinity
END:VEVENT
BEGIN:VEVENT
DTSTART;TZID=Europe/London:20190927T190000
DTEND;TZID=Europe/London:20190927T200000
DTSTAMP:20260424T050218
CREATED:20190704T085340Z
LAST-MODIFIED:20190704T085546Z
UID:2018-1569610800-1569614400@www.stmaryschurchtickhill.com
SUMMARY:7:00 PM Senior Choir Practice in St. Luke’s Chapel
DESCRIPTION:
URL:https://www.stmaryschurchtickhill.com/event/700-pm-senior-choir-practice-in-st-lukes-chapel-28
LOCATION:St. Mary’s Church\, Tickhill\, St Mary's Church\, St Mary's Rd\, Tickhill\,\, Doncaster\, DN11 9LZ\, United Kingdom
END:VEVENT
BEGIN:VEVENT
DTSTART;TZID=Europe/London:20190927T180000
DTEND;TZID=Europe/London:20190927T190000
DTSTAMP:20260424T050218
CREATED:20190704T091012Z
LAST-MODIFIED:20190704T091012Z
UID:2026-1569607200-1569610800@www.stmaryschurchtickhill.com
SUMMARY:6:00 PM Junior Choir Practice in St. Luke’s Chapel
DESCRIPTION:
URL:https://www.stmaryschurchtickhill.com/event/600-pm-junior-choir-practice-in-st-lukes-chapel-30
LOCATION:St. Mary’s Church\, Tickhill\, St Mary's Church\, St Mary's Rd\, Tickhill\,\, Doncaster\, DN11 9LZ\, United Kingdom
END:VEVENT
BEGIN:VEVENT
DTSTART;TZID=Europe/London:20190925T100000
DTEND;TZID=Europe/London:20190925T110000
DTSTAMP:20260424T050218
CREATED:20190529T145832Z
LAST-MODIFIED:20190529T145832Z
UID:1878-1569405600-1569409200@www.stmaryschurchtickhill.com
SUMMARY:10:00 AM Holy Communion in St Luke's Chapel
DESCRIPTION:
URL:https://www.stmaryschurchtickhill.com/event/1000-am-holy-communion-in-st-lukes-chapel-16
LOCATION:St. Mary’s Church\, Tickhill\, St Mary's Church\, St Mary's Rd\, Tickhill\,\, Doncaster\, DN11 9LZ\, United Kingdom
END:VEVENT
BEGIN:VEVENT
DTSTART;TZID=Europe/London:20190922T180000
DTEND;TZID=Europe/London:20190922T190000
DTSTAMP:20260424T050218
CREATED:20190529T151653Z
LAST-MODIFIED:20190529T151653Z
UID:1894-1569175200-1569178800@www.stmaryschurchtickhill.com
SUMMARY:6:00 PM Evensong
DESCRIPTION:
URL:https://www.stmaryschurchtickhill.com/event/600-pm-evensong-33
LOCATION:St. Mary’s Church\, Tickhill\, St Mary's Church\, St Mary's Rd\, Tickhill\,\, Doncaster\, DN11 9LZ\, United Kingdom
END:VEVENT
BEGIN:VEVENT
DTSTART;TZID=Europe/London:20190922T103000
DTEND;TZID=Europe/London:20190922T120000
DTSTAMP:20260424T050218
CREATED:20190529T152916Z
LAST-MODIFIED:20190529T152916Z
UID:1908-1569148200-1569153600@www.stmaryschurchtickhill.com
SUMMARY:10:30 AM Sung Parish Eucharist
DESCRIPTION:
URL:https://www.stmaryschurchtickhill.com/event/1030-am-sung-parish-eucharist-22
LOCATION:St. Mary’s Church\, Tickhill\, St Mary's Church\, St Mary's Rd\, Tickhill\,\, Doncaster\, DN11 9LZ\, United Kingdom
END:VEVENT
BEGIN:VEVENT
DTSTART;TZID=Europe/London:20190922T080000
DTEND;TZID=Europe/London:20190922T090000
DTSTAMP:20260424T050218
CREATED:20190529T141531Z
LAST-MODIFIED:20190529T141531Z
UID:1859-1569139200-1569142800@www.stmaryschurchtickhill.com
SUMMARY:8:00 AM Holy Communion (BCP)\, St. Helen’s Chapel
DESCRIPTION:
URL:https://www.stmaryschurchtickhill.com/event/800-am-holy-communion-bcp-st-helens-chapel-34
LOCATION:St. Mary’s Church\, Tickhill\, St Mary's Church\, St Mary's Rd\, Tickhill\,\, Doncaster\, DN11 9LZ\, United Kingdom
END:VEVENT
BEGIN:VEVENT
DTSTART;VALUE=DATE:20190922
DTEND;VALUE=DATE:20190923
DTSTAMP:20260424T050218
CREATED:20190220T163058Z
LAST-MODIFIED:20190220T163058Z
UID:900-1569110400-1569196799@www.stmaryschurchtickhill.com
SUMMARY:The Fourteenth Sunday after Trinity
DESCRIPTION:
URL:https://www.stmaryschurchtickhill.com/event/the-fourteenth-sunday-after-trinity
END:VEVENT
BEGIN:VEVENT
DTSTART;TZID=Europe/London:20190920T190000
DTEND;TZID=Europe/London:20190920T200000
DTSTAMP:20260424T050218
CREATED:20190704T085417Z
LAST-MODIFIED:20190704T085417Z
UID:2020-1569006000-1569009600@www.stmaryschurchtickhill.com
SUMMARY:7:00 PM Senior Choir Practice in St. Luke’s Chapel
DESCRIPTION:
URL:https://www.stmaryschurchtickhill.com/event/700-pm-senior-choir-practice-in-st-lukes-chapel-29
LOCATION:St. Mary’s Church\, Tickhill\, St Mary's Church\, St Mary's Rd\, Tickhill\,\, Doncaster\, DN11 9LZ\, United Kingdom
END:VEVENT
BEGIN:VEVENT
DTSTART;TZID=Europe/London:20190920T180000
DTEND;TZID=Europe/London:20190920T190000
DTSTAMP:20260424T050218
CREATED:20190704T090312Z
LAST-MODIFIED:20190704T090312Z
UID:2024-1569002400-1569006000@www.stmaryschurchtickhill.com
SUMMARY:6:00 PM Junior Choir Practice in St. Luke’s Chapel
DESCRIPTION:
URL:https://www.stmaryschurchtickhill.com/event/600-pm-junior-choir-practice-in-st-lukes-chapel-29
LOCATION:St. Mary’s Church\, Tickhill\, St Mary's Church\, St Mary's Rd\, Tickhill\,\, Doncaster\, DN11 9LZ\, United Kingdom
END:VEVENT
BEGIN:VEVENT
DTSTART;TZID=Europe/London:20190919T100000
DTEND;TZID=Europe/London:20190919T110000
DTSTAMP:20260424T050218
CREATED:20190919T122126Z
LAST-MODIFIED:20190919T122126Z
UID:2170-1568887200-1568890800@www.stmaryschurchtickhill.com
SUMMARY:10:00 AM Holy Communion in St Luke’s Chapel
DESCRIPTION:
URL:https://www.stmaryschurchtickhill.com/event/1000-am-holy-communion-in-st-lukes-chapel-25
LOCATION:St. Mary’s Church\, Tickhill\, St Mary's Church\, St Mary's Rd\, Tickhill\,\, Doncaster\, DN11 9LZ\, United Kingdom
END:VEVENT
BEGIN:VEVENT
DTSTART;TZID=Europe/London:20190918T100000
DTEND;TZID=Europe/London:20190918T110000
DTSTAMP:20260424T050218
CREATED:20190529T145759Z
LAST-MODIFIED:20190529T145759Z
UID:1876-1568800800-1568804400@www.stmaryschurchtickhill.com
SUMMARY:10:00 AM Holy Communion in St Luke's Chapel
DESCRIPTION:
URL:https://www.stmaryschurchtickhill.com/event/1000-am-holy-communion-in-st-lukes-chapel-15
LOCATION:St. Mary’s Church\, Tickhill\, St Mary's Church\, St Mary's Rd\, Tickhill\,\, Doncaster\, DN11 9LZ\, United Kingdom
END:VEVENT
BEGIN:VEVENT
DTSTART;TZID=Europe/London:20190916T193000
DTEND;TZID=Europe/London:20190916T210000
DTSTAMP:20260424T050218
CREATED:20190516T153851Z
LAST-MODIFIED:20190516T153851Z
UID:1731-1568662200-1568667600@www.stmaryschurchtickhill.com
SUMMARY:7:30 PM PCC- St. Luke’s Chapel
DESCRIPTION:
URL:https://www.stmaryschurchtickhill.com/event/730-pm-pcc-st-lukes-chapel-4
LOCATION:St. Mary’s Church\, Tickhill\, St Mary's Church\, St Mary's Rd\, Tickhill\,\, Doncaster\, DN11 9LZ\, United Kingdom
END:VEVENT
BEGIN:VEVENT
DTSTART;TZID=Europe/London:20190915T180000
DTEND;TZID=Europe/London:20190915T190000
DTSTAMP:20260424T050218
CREATED:20190529T151101Z
LAST-MODIFIED:20190529T151101Z
UID:1892-1568570400-1568574000@www.stmaryschurchtickhill.com
SUMMARY:6:00 PM Evensong
DESCRIPTION:
URL:https://www.stmaryschurchtickhill.com/event/600-pm-evensong-32
LOCATION:St. Mary’s Church\, Tickhill\, St Mary's Church\, St Mary's Rd\, Tickhill\,\, Doncaster\, DN11 9LZ\, United Kingdom
END:VEVENT
BEGIN:VEVENT
DTSTART;TZID=Europe/London:20190915T103000
DTEND;TZID=Europe/London:20190915T120000
DTSTAMP:20260424T050218
CREATED:20190529T152829Z
LAST-MODIFIED:20190529T152829Z
UID:1906-1568543400-1568548800@www.stmaryschurchtickhill.com
SUMMARY:10:30 AM Sung Parish Eucharist
DESCRIPTION:
URL:https://www.stmaryschurchtickhill.com/event/1030-am-sung-parish-eucharist-21
LOCATION:St. Mary’s Church\, Tickhill\, St Mary's Church\, St Mary's Rd\, Tickhill\,\, Doncaster\, DN11 9LZ\, United Kingdom
END:VEVENT
BEGIN:VEVENT
DTSTART;TZID=Europe/London:20190915T080000
DTEND;TZID=Europe/London:20190915T090000
DTSTAMP:20260424T050218
CREATED:20190529T141452Z
LAST-MODIFIED:20190529T141452Z
UID:1857-1568534400-1568538000@www.stmaryschurchtickhill.com
SUMMARY:8:00 AM Holy Communion (BCP)\, St. Helen’s Chapel
DESCRIPTION:
URL:https://www.stmaryschurchtickhill.com/event/800-am-holy-communion-bcp-st-helens-chapel-33
LOCATION:St. Mary’s Church\, Tickhill\, St Mary's Church\, St Mary's Rd\, Tickhill\,\, Doncaster\, DN11 9LZ\, United Kingdom
END:VEVENT
BEGIN:VEVENT
DTSTART;VALUE=DATE:20190915
DTEND;VALUE=DATE:20190916
DTSTAMP:20260424T050218
CREATED:20190220T163022Z
LAST-MODIFIED:20190220T163022Z
UID:898-1568505600-1568591999@www.stmaryschurchtickhill.com
SUMMARY:The Thirteenth Sunday after Trinity
DESCRIPTION:
URL:https://www.stmaryschurchtickhill.com/event/the-thirteenth-sunday-after-trinity
END:VEVENT
END:VCALENDAR