BEGIN:VCALENDAR
VERSION:2.0
PRODID:-//St Mary&#039;s Church Tickhill - ECPv6.15.20//NONSGML v1.0//EN
CALSCALE:GREGORIAN
METHOD:PUBLISH
X-WR-CALNAME:St Mary&#039;s Church Tickhill
X-ORIGINAL-URL:https://www.stmaryschurchtickhill.com
X-WR-CALDESC:Events for St Mary&#039;s Church Tickhill
REFRESH-INTERVAL;VALUE=DURATION:PT1H
X-Robots-Tag:noindex
X-PUBLISHED-TTL:PT1H
BEGIN:VTIMEZONE
TZID:Europe/London
BEGIN:DAYLIGHT
TZOFFSETFROM:+0000
TZOFFSETTO:+0100
TZNAME:BST
DTSTART:20180325T010000
END:DAYLIGHT
BEGIN:STANDARD
TZOFFSETFROM:+0100
TZOFFSETTO:+0000
TZNAME:GMT
DTSTART:20181028T010000
END:STANDARD
BEGIN:DAYLIGHT
TZOFFSETFROM:+0000
TZOFFSETTO:+0100
TZNAME:BST
DTSTART:20190331T010000
END:DAYLIGHT
BEGIN:STANDARD
TZOFFSETFROM:+0100
TZOFFSETTO:+0000
TZNAME:GMT
DTSTART:20191027T010000
END:STANDARD
BEGIN:DAYLIGHT
TZOFFSETFROM:+0000
TZOFFSETTO:+0100
TZNAME:BST
DTSTART:20200329T010000
END:DAYLIGHT
BEGIN:STANDARD
TZOFFSETFROM:+0100
TZOFFSETTO:+0000
TZNAME:GMT
DTSTART:20201025T010000
END:STANDARD
END:VTIMEZONE
BEGIN:VEVENT
DTSTART;TZID=Europe/London:20190920T180000
DTEND;TZID=Europe/London:20190920T190000
DTSTAMP:20260423T195508
CREATED:20190704T090312Z
LAST-MODIFIED:20190704T090312Z
UID:2024-1569002400-1569006000@www.stmaryschurchtickhill.com
SUMMARY:6:00 PM Junior Choir Practice in St. Luke’s Chapel
DESCRIPTION:
URL:https://www.stmaryschurchtickhill.com/event/600-pm-junior-choir-practice-in-st-lukes-chapel-29
LOCATION:St. Mary’s Church\, Tickhill\, St Mary's Church\, St Mary's Rd\, Tickhill\,\, Doncaster\, DN11 9LZ\, United Kingdom
END:VEVENT
BEGIN:VEVENT
DTSTART;TZID=Europe/London:20190919T100000
DTEND;TZID=Europe/London:20190919T110000
DTSTAMP:20260423T195508
CREATED:20190919T122126Z
LAST-MODIFIED:20190919T122126Z
UID:2170-1568887200-1568890800@www.stmaryschurchtickhill.com
SUMMARY:10:00 AM Holy Communion in St Luke’s Chapel
DESCRIPTION:
URL:https://www.stmaryschurchtickhill.com/event/1000-am-holy-communion-in-st-lukes-chapel-25
LOCATION:St. Mary’s Church\, Tickhill\, St Mary's Church\, St Mary's Rd\, Tickhill\,\, Doncaster\, DN11 9LZ\, United Kingdom
END:VEVENT
BEGIN:VEVENT
DTSTART;TZID=Europe/London:20190918T100000
DTEND;TZID=Europe/London:20190918T110000
DTSTAMP:20260423T195508
CREATED:20190529T145759Z
LAST-MODIFIED:20190529T145759Z
UID:1876-1568800800-1568804400@www.stmaryschurchtickhill.com
SUMMARY:10:00 AM Holy Communion in St Luke's Chapel
DESCRIPTION:
URL:https://www.stmaryschurchtickhill.com/event/1000-am-holy-communion-in-st-lukes-chapel-15
LOCATION:St. Mary’s Church\, Tickhill\, St Mary's Church\, St Mary's Rd\, Tickhill\,\, Doncaster\, DN11 9LZ\, United Kingdom
END:VEVENT
BEGIN:VEVENT
DTSTART;TZID=Europe/London:20190916T193000
DTEND;TZID=Europe/London:20190916T210000
DTSTAMP:20260423T195508
CREATED:20190516T153851Z
LAST-MODIFIED:20190516T153851Z
UID:1731-1568662200-1568667600@www.stmaryschurchtickhill.com
SUMMARY:7:30 PM PCC- St. Luke’s Chapel
DESCRIPTION:
URL:https://www.stmaryschurchtickhill.com/event/730-pm-pcc-st-lukes-chapel-4
LOCATION:St. Mary’s Church\, Tickhill\, St Mary's Church\, St Mary's Rd\, Tickhill\,\, Doncaster\, DN11 9LZ\, United Kingdom
END:VEVENT
BEGIN:VEVENT
DTSTART;TZID=Europe/London:20190915T180000
DTEND;TZID=Europe/London:20190915T190000
DTSTAMP:20260423T195508
CREATED:20190529T151101Z
LAST-MODIFIED:20190529T151101Z
UID:1892-1568570400-1568574000@www.stmaryschurchtickhill.com
SUMMARY:6:00 PM Evensong
DESCRIPTION:
URL:https://www.stmaryschurchtickhill.com/event/600-pm-evensong-32
LOCATION:St. Mary’s Church\, Tickhill\, St Mary's Church\, St Mary's Rd\, Tickhill\,\, Doncaster\, DN11 9LZ\, United Kingdom
END:VEVENT
BEGIN:VEVENT
DTSTART;TZID=Europe/London:20190915T103000
DTEND;TZID=Europe/London:20190915T120000
DTSTAMP:20260423T195508
CREATED:20190529T152829Z
LAST-MODIFIED:20190529T152829Z
UID:1906-1568543400-1568548800@www.stmaryschurchtickhill.com
SUMMARY:10:30 AM Sung Parish Eucharist
DESCRIPTION:
URL:https://www.stmaryschurchtickhill.com/event/1030-am-sung-parish-eucharist-21
LOCATION:St. Mary’s Church\, Tickhill\, St Mary's Church\, St Mary's Rd\, Tickhill\,\, Doncaster\, DN11 9LZ\, United Kingdom
END:VEVENT
BEGIN:VEVENT
DTSTART;TZID=Europe/London:20190915T080000
DTEND;TZID=Europe/London:20190915T090000
DTSTAMP:20260423T195508
CREATED:20190529T141452Z
LAST-MODIFIED:20190529T141452Z
UID:1857-1568534400-1568538000@www.stmaryschurchtickhill.com
SUMMARY:8:00 AM Holy Communion (BCP)\, St. Helen’s Chapel
DESCRIPTION:
URL:https://www.stmaryschurchtickhill.com/event/800-am-holy-communion-bcp-st-helens-chapel-33
LOCATION:St. Mary’s Church\, Tickhill\, St Mary's Church\, St Mary's Rd\, Tickhill\,\, Doncaster\, DN11 9LZ\, United Kingdom
END:VEVENT
BEGIN:VEVENT
DTSTART;VALUE=DATE:20190915
DTEND;VALUE=DATE:20190916
DTSTAMP:20260423T195508
CREATED:20190220T163022Z
LAST-MODIFIED:20190220T163022Z
UID:898-1568505600-1568591999@www.stmaryschurchtickhill.com
SUMMARY:The Thirteenth Sunday after Trinity
DESCRIPTION:
URL:https://www.stmaryschurchtickhill.com/event/the-thirteenth-sunday-after-trinity
END:VEVENT
BEGIN:VEVENT
DTSTART;TZID=Europe/London:20190913T190000
DTEND;TZID=Europe/London:20190913T210000
DTSTAMP:20260423T195508
CREATED:20190405T170202Z
LAST-MODIFIED:20190405T170202Z
UID:1424-1568401200-1568408400@www.stmaryschurchtickhill.com
SUMMARY:7:00 PM Tickhill Music Society
DESCRIPTION:  \n \nOur new season begins in St. Mary’s Church with the welcome return of Bel Canto
URL:https://www.stmaryschurchtickhill.com/event/700-pm-tickhill-music-society
LOCATION:St. Mary’s Church\, Tickhill\, St Mary's Church\, St Mary's Rd\, Tickhill\,\, Doncaster\, DN11 9LZ\, United Kingdom
END:VEVENT
BEGIN:VEVENT
DTSTART;TZID=Europe/London:20190911T100000
DTEND;TZID=Europe/London:20190911T110000
DTSTAMP:20260423T195508
CREATED:20190529T145727Z
LAST-MODIFIED:20190529T145727Z
UID:1874-1568196000-1568199600@www.stmaryschurchtickhill.com
SUMMARY:10:00 AM Holy Communion in St Luke's Chapel
DESCRIPTION:
URL:https://www.stmaryschurchtickhill.com/event/1000-am-holy-communion-in-st-lukes-chapel-14
LOCATION:St. Mary’s Church\, Tickhill\, St Mary's Church\, St Mary's Rd\, Tickhill\,\, Doncaster\, DN11 9LZ\, United Kingdom
END:VEVENT
BEGIN:VEVENT
DTSTART;TZID=Europe/London:20190909T190000
DTEND;TZID=Europe/London:20190909T220000
DTSTAMP:20260423T195508
CREATED:20190903T123830Z
LAST-MODIFIED:20190903T123830Z
UID:2080-1568055600-1568066400@www.stmaryschurchtickhill.com
SUMMARY:RECITAL AND LATE SUMMER DESSERTS
DESCRIPTION:Following the tremendous success of the “Recital and Summer Desserts” St. Mary’s will now be holding a “Recital and Late Summer Desserts” on Monday 9th September starting at 7pm in aid of the Tower Appeal. \nThis will be another fantastic opportunity to enjoy the acoustics under the tower. It will feature Hannah Webb on Saxophone\, Marianne Hofman on Flute and Charlotte Cummings on Violin. \nTickets are £5 and can be purchased on the night or by contacting John Marsden on 744142
URL:https://www.stmaryschurchtickhill.com/event/recital-and-late-summer-desserts
LOCATION:St. Mary’s Church\, Tickhill\, St Mary's Church\, St Mary's Rd\, Tickhill\,\, Doncaster\, DN11 9LZ\, United Kingdom
ATTACH;FMTTYPE=image/jpeg:https://www.stmaryschurchtickhill.com/wp-content/uploads/2019/09/Late-Summer-Desserts.jpg
END:VEVENT
BEGIN:VEVENT
DTSTART;TZID=Europe/London:20190908T180000
DTEND;TZID=Europe/London:20190908T190000
DTSTAMP:20260423T195508
CREATED:20190529T151011Z
LAST-MODIFIED:20190529T151011Z
UID:1890-1567965600-1567969200@www.stmaryschurchtickhill.com
SUMMARY:6:00 PM Evensong
DESCRIPTION:
URL:https://www.stmaryschurchtickhill.com/event/600-pm-evensong-31
LOCATION:St. Mary’s Church\, Tickhill\, St Mary's Church\, St Mary's Rd\, Tickhill\,\, Doncaster\, DN11 9LZ\, United Kingdom
END:VEVENT
BEGIN:VEVENT
DTSTART;TZID=Europe/London:20190908T103000
DTEND;TZID=Europe/London:20190908T120000
DTSTAMP:20260423T195508
CREATED:20190529T152727Z
LAST-MODIFIED:20190529T152727Z
UID:1904-1567938600-1567944000@www.stmaryschurchtickhill.com
SUMMARY:10:30 AM Sung Parish Eucharist
DESCRIPTION:
URL:https://www.stmaryschurchtickhill.com/event/1030-am-sung-parish-eucharist-20
LOCATION:St. Mary’s Church\, Tickhill\, St Mary's Church\, St Mary's Rd\, Tickhill\,\, Doncaster\, DN11 9LZ\, United Kingdom
END:VEVENT
BEGIN:VEVENT
DTSTART;TZID=Europe/London:20190908T080000
DTEND;TZID=Europe/London:20190908T090000
DTSTAMP:20260423T195508
CREATED:20190529T141410Z
LAST-MODIFIED:20190529T141410Z
UID:1855-1567929600-1567933200@www.stmaryschurchtickhill.com
SUMMARY:8:00 AM Holy Communion (BCP)\, St. Helen’s Chapel
DESCRIPTION:
URL:https://www.stmaryschurchtickhill.com/event/800-am-holy-communion-bcp-st-helens-chapel-32
LOCATION:St. Mary’s Church\, Tickhill\, St Mary's Church\, St Mary's Rd\, Tickhill\,\, Doncaster\, DN11 9LZ\, United Kingdom
END:VEVENT
BEGIN:VEVENT
DTSTART;VALUE=DATE:20190908
DTEND;VALUE=DATE:20190909
DTSTAMP:20260423T195508
CREATED:20190220T162937Z
LAST-MODIFIED:20190220T162937Z
UID:896-1567900800-1567987199@www.stmaryschurchtickhill.com
SUMMARY:The Twelfth Sunday after Trinity
DESCRIPTION:
URL:https://www.stmaryschurchtickhill.com/event/the-twelfth-sunday-after-trinity
END:VEVENT
BEGIN:VEVENT
DTSTART;TZID=Europe/London:20190907T100000
DTEND;TZID=Europe/London:20190907T120000
DTSTAMP:20260423T195508
CREATED:20190529T135650Z
LAST-MODIFIED:20190529T135650Z
UID:1843-1567850400-1567857600@www.stmaryschurchtickhill.com
SUMMARY:10:00 Coffee served in the Parish Room
DESCRIPTION:
URL:https://www.stmaryschurchtickhill.com/event/1000-coffee-served-in-the-parish-room-17
LOCATION:Parish Room\, Tickhill Parish Room\, Northgate\, Tickhill\, Doncaster\, DN11 9HZ\, United Kingdom
END:VEVENT
BEGIN:VEVENT
DTSTART;TZID=Europe/London:20190906T190000
DTEND;TZID=Europe/London:20190906T200000
DTSTAMP:20260423T195508
CREATED:20190704T085303Z
LAST-MODIFIED:20190704T085303Z
UID:2016-1567796400-1567800000@www.stmaryschurchtickhill.com
SUMMARY:7:00 PM Senior Choir Practice in St. Luke’s Chapel
DESCRIPTION:
URL:https://www.stmaryschurchtickhill.com/event/700-pm-senior-choir-practice-in-st-lukes-chapel-27
LOCATION:St. Mary’s Church\, Tickhill\, St Mary's Church\, St Mary's Rd\, Tickhill\,\, Doncaster\, DN11 9LZ\, United Kingdom
END:VEVENT
BEGIN:VEVENT
DTSTART;TZID=Europe/London:20190906T180000
DTEND;TZID=Europe/London:20190906T190000
DTSTAMP:20260423T195508
CREATED:20190704T085915Z
LAST-MODIFIED:20190704T085915Z
UID:2022-1567792800-1567796400@www.stmaryschurchtickhill.com
SUMMARY:6:00 PM Junior Choir Practice in St. Luke’s Chapel
DESCRIPTION:
URL:https://www.stmaryschurchtickhill.com/event/600-pm-junior-choir-practice-in-st-lukes-chapel-28
LOCATION:St. Mary’s Church\, Tickhill\, St Mary's Church\, St Mary's Rd\, Tickhill\,\, Doncaster\, DN11 9LZ\, United Kingdom
END:VEVENT
BEGIN:VEVENT
DTSTART;TZID=Europe/London:20190904T100000
DTEND;TZID=Europe/London:20190904T110000
DTSTAMP:20260423T195508
CREATED:20190529T144837Z
LAST-MODIFIED:20190529T144837Z
UID:1871-1567591200-1567594800@www.stmaryschurchtickhill.com
SUMMARY:10:00 AM Holy Communion in St Luke's Chapel
DESCRIPTION:
URL:https://www.stmaryschurchtickhill.com/event/1000-am-holy-communion-in-st-lukes-chapel-13
LOCATION:St. Mary’s Church\, Tickhill\, St Mary's Church\, St Mary's Rd\, Tickhill\,\, Doncaster\, DN11 9LZ\, United Kingdom
END:VEVENT
BEGIN:VEVENT
DTSTART;TZID=Europe/London:20190902T183000
DTEND;TZID=Europe/London:20190902T200000
DTSTAMP:20260423T195508
CREATED:20190516T154211Z
LAST-MODIFIED:20190516T154211Z
UID:1740-1567449000-1567454400@www.stmaryschurchtickhill.com
SUMMARY:6:30 PM Standing Committee – St. Luke’s Chapel
DESCRIPTION:
URL:https://www.stmaryschurchtickhill.com/event/630-pm-standing-committee-st-lukes-chapel-4
LOCATION:St. Mary’s Church\, Tickhill\, St Mary's Church\, St Mary's Rd\, Tickhill\,\, Doncaster\, DN11 9LZ\, United Kingdom
END:VEVENT
BEGIN:VEVENT
DTSTART;TZID=Europe/London:20190901T180000
DTEND;TZID=Europe/London:20190901T190000
DTSTAMP:20260423T195508
CREATED:20190529T150939Z
LAST-MODIFIED:20190529T150939Z
UID:1888-1567360800-1567364400@www.stmaryschurchtickhill.com
SUMMARY:6:00 PM Evensong
DESCRIPTION:
URL:https://www.stmaryschurchtickhill.com/event/600-pm-evensong-30
LOCATION:St. Mary’s Church\, Tickhill\, St Mary's Church\, St Mary's Rd\, Tickhill\,\, Doncaster\, DN11 9LZ\, United Kingdom
END:VEVENT
BEGIN:VEVENT
DTSTART;TZID=Europe/London:20190901T103000
DTEND;TZID=Europe/London:20190901T120000
DTSTAMP:20260423T195508
CREATED:20190215T151049Z
LAST-MODIFIED:20190215T161216Z
UID:527-1567333800-1567339200@www.stmaryschurchtickhill.com
SUMMARY:10:30 AM Family Communion with Baptisms
DESCRIPTION:
URL:https://www.stmaryschurchtickhill.com/event/1030-family-communion-with-baptisms-8
END:VEVENT
BEGIN:VEVENT
DTSTART;TZID=Europe/London:20190901T080000
DTEND;TZID=Europe/London:20190901T090000
DTSTAMP:20260423T195508
CREATED:20190529T140348Z
LAST-MODIFIED:20190529T140348Z
UID:1853-1567324800-1567328400@www.stmaryschurchtickhill.com
SUMMARY:8:00 AM Holy Communion (BCP)\, St. Helen’s Chapel
DESCRIPTION:
URL:https://www.stmaryschurchtickhill.com/event/800-am-holy-communion-bcp-st-helens-chapel-31
LOCATION:St. Mary’s Church\, Tickhill\, St Mary's Church\, St Mary's Rd\, Tickhill\,\, Doncaster\, DN11 9LZ\, United Kingdom
END:VEVENT
BEGIN:VEVENT
DTSTART;VALUE=DATE:20190901
DTEND;VALUE=DATE:20190902
DTSTAMP:20260423T195508
CREATED:20190220T162906Z
LAST-MODIFIED:20190220T162906Z
UID:894-1567296000-1567382399@www.stmaryschurchtickhill.com
SUMMARY:The Eleventh Sunday after Trinity
DESCRIPTION:
URL:https://www.stmaryschurchtickhill.com/event/the-eleventh-sunday-after-trinity
END:VEVENT
BEGIN:VEVENT
DTSTART;TZID=Europe/London:20190830T190000
DTEND;TZID=Europe/London:20190830T200000
DTSTAMP:20260423T195508
CREATED:20190704T085214Z
LAST-MODIFIED:20190704T085214Z
UID:2014-1567191600-1567195200@www.stmaryschurchtickhill.com
SUMMARY:7:00 PM Senior Choir Practice in St. Luke’s Chapel
DESCRIPTION:
URL:https://www.stmaryschurchtickhill.com/event/700-pm-senior-choir-practice-in-st-lukes-chapel-26
LOCATION:St. Mary’s Church\, Tickhill\, St Mary's Church\, St Mary's Rd\, Tickhill\,\, Doncaster\, DN11 9LZ\, United Kingdom
END:VEVENT
BEGIN:VEVENT
DTSTART;TZID=Europe/London:20190830T180000
DTEND;TZID=Europe/London:20190830T190000
DTSTAMP:20260423T195508
CREATED:20190704T083948Z
LAST-MODIFIED:20190704T084245Z
UID:1992-1567188000-1567191600@www.stmaryschurchtickhill.com
SUMMARY:6:00 PM Junior Choir Practice in St. Luke’s Chapel
DESCRIPTION:
URL:https://www.stmaryschurchtickhill.com/event/600-pm-junior-choir-practice-in-st-lukes-chapel-25
LOCATION:St. Mary’s Church\, Tickhill\, St Mary's Church\, St Mary's Rd\, Tickhill\,\, Doncaster\, DN11 9LZ\, United Kingdom
END:VEVENT
BEGIN:VEVENT
DTSTART;TZID=Europe/London:20190828T100000
DTEND;TZID=Europe/London:20190828T110000
DTSTAMP:20260423T195508
CREATED:20190529T144750Z
LAST-MODIFIED:20190529T144750Z
UID:1869-1566986400-1566990000@www.stmaryschurchtickhill.com
SUMMARY:10:00 AM Holy Communion in St Luke's Chapel
DESCRIPTION:
URL:https://www.stmaryschurchtickhill.com/event/1000-am-holy-communion-in-st-lukes-chapel-12
LOCATION:St. Mary’s Church\, Tickhill\, St Mary's Church\, St Mary's Rd\, Tickhill\,\, Doncaster\, DN11 9LZ\, United Kingdom
END:VEVENT
BEGIN:VEVENT
DTSTART;TZID=Europe/London:20190825T180000
DTEND;TZID=Europe/London:20190825T190000
DTSTAMP:20260423T195508
CREATED:20190529T150849Z
LAST-MODIFIED:20190529T150849Z
UID:1886-1566756000-1566759600@www.stmaryschurchtickhill.com
SUMMARY:6:00 PM Evensong
DESCRIPTION:
URL:https://www.stmaryschurchtickhill.com/event/600-pm-evensong-29
LOCATION:St. Mary’s Church\, Tickhill\, St Mary's Church\, St Mary's Rd\, Tickhill\,\, Doncaster\, DN11 9LZ\, United Kingdom
END:VEVENT
BEGIN:VEVENT
DTSTART;TZID=Europe/London:20190825T103000
DTEND;TZID=Europe/London:20190825T120000
DTSTAMP:20260423T195508
CREATED:20190529T152354Z
LAST-MODIFIED:20190529T152354Z
UID:1902-1566729000-1566734400@www.stmaryschurchtickhill.com
SUMMARY:10:30 AM Sung Parish Eucharist
DESCRIPTION:
URL:https://www.stmaryschurchtickhill.com/event/1030-am-sung-parish-eucharist-19
LOCATION:St. Mary’s Church\, Tickhill\, St Mary's Church\, St Mary's Rd\, Tickhill\,\, Doncaster\, DN11 9LZ\, United Kingdom
END:VEVENT
BEGIN:VEVENT
DTSTART;TZID=Europe/London:20190825T080000
DTEND;TZID=Europe/London:20190825T090000
DTSTAMP:20260423T195508
CREATED:20190529T140246Z
LAST-MODIFIED:20190529T140246Z
UID:1851-1566720000-1566723600@www.stmaryschurchtickhill.com
SUMMARY:8:00 AM Holy Communion (BCP)\, St. Helen’s Chapel
DESCRIPTION:
URL:https://www.stmaryschurchtickhill.com/event/800-am-holy-communion-bcp-st-helens-chapel-30
LOCATION:St. Mary’s Church\, Tickhill\, St Mary's Church\, St Mary's Rd\, Tickhill\,\, Doncaster\, DN11 9LZ\, United Kingdom
END:VEVENT
END:VCALENDAR