BEGIN:VCALENDAR
VERSION:2.0
PRODID:-//St Mary&#039;s Church Tickhill - ECPv6.15.20//NONSGML v1.0//EN
CALSCALE:GREGORIAN
METHOD:PUBLISH
X-WR-CALNAME:St Mary&#039;s Church Tickhill
X-ORIGINAL-URL:https://www.stmaryschurchtickhill.com
X-WR-CALDESC:Events for St Mary&#039;s Church Tickhill
REFRESH-INTERVAL;VALUE=DURATION:PT1H
X-Robots-Tag:noindex
X-PUBLISHED-TTL:PT1H
BEGIN:VTIMEZONE
TZID:Europe/London
BEGIN:DAYLIGHT
TZOFFSETFROM:+0000
TZOFFSETTO:+0100
TZNAME:BST
DTSTART:20180325T010000
END:DAYLIGHT
BEGIN:STANDARD
TZOFFSETFROM:+0100
TZOFFSETTO:+0000
TZNAME:GMT
DTSTART:20181028T010000
END:STANDARD
BEGIN:DAYLIGHT
TZOFFSETFROM:+0000
TZOFFSETTO:+0100
TZNAME:BST
DTSTART:20190331T010000
END:DAYLIGHT
BEGIN:STANDARD
TZOFFSETFROM:+0100
TZOFFSETTO:+0000
TZNAME:GMT
DTSTART:20191027T010000
END:STANDARD
BEGIN:DAYLIGHT
TZOFFSETFROM:+0000
TZOFFSETTO:+0100
TZNAME:BST
DTSTART:20200329T010000
END:DAYLIGHT
BEGIN:STANDARD
TZOFFSETFROM:+0100
TZOFFSETTO:+0000
TZNAME:GMT
DTSTART:20201025T010000
END:STANDARD
END:VTIMEZONE
BEGIN:VEVENT
DTSTART;TZID=Europe/London:20190526T103000
DTEND;TZID=Europe/London:20190526T120000
DTSTAMP:20260425T132732
CREATED:20190503T151806Z
LAST-MODIFIED:20190503T151806Z
UID:1626-1558866600-1558872000@www.stmaryschurchtickhill.com
SUMMARY:10:30 AM Sung Parish Eucharist
DESCRIPTION:
URL:https://www.stmaryschurchtickhill.com/event/1030-am-sung-parish-eucharist-9
LOCATION:St. Mary’s Church\, Tickhill\, St Mary's Church\, St Mary's Rd\, Tickhill\,\, Doncaster\, DN11 9LZ\, United Kingdom
END:VEVENT
BEGIN:VEVENT
DTSTART;TZID=Europe/London:20190526T080000
DTEND;TZID=Europe/London:20190526T090000
DTSTAMP:20260425T132732
CREATED:20190221T120630Z
LAST-MODIFIED:20190221T120630Z
UID:1075-1558857600-1558861200@www.stmaryschurchtickhill.com
SUMMARY:8:00 AM Holy Communion (BCP)\, St. Helen’s Chapel
DESCRIPTION:
URL:https://www.stmaryschurchtickhill.com/event/800-am-holy-communion-bcp-st-helens-chapel-17
LOCATION:St. Mary’s Church\, Tickhill\, St Mary's Church\, St Mary's Rd\, Tickhill\,\, Doncaster\, DN11 9LZ\, United Kingdom
END:VEVENT
BEGIN:VEVENT
DTSTART;VALUE=DATE:20190526
DTEND;VALUE=DATE:20190527
DTSTAMP:20260425T132732
CREATED:20190216T152003Z
LAST-MODIFIED:20190503T152425Z
UID:648-1558828800-1558915199@www.stmaryschurchtickhill.com
SUMMARY:The Sixth Sunday of Easter - Rogation Sunday
DESCRIPTION:
URL:https://www.stmaryschurchtickhill.com/event/the-sixth-sunday-of-easter
END:VEVENT
BEGIN:VEVENT
DTSTART;TZID=Europe/London:20190525T100000
DTEND;TZID=Europe/London:20190525T120000
DTSTAMP:20260425T132732
CREATED:20190221T105641Z
LAST-MODIFIED:20190221T105641Z
UID:973-1558778400-1558785600@www.stmaryschurchtickhill.com
SUMMARY:10:00 Coffee served in the Parish Room
DESCRIPTION:
URL:https://www.stmaryschurchtickhill.com/event/1000-coffee-served-in-the-parish-room-13
LOCATION:Parish Room\, Tickhill Parish Room\, Northgate\, Tickhill\, Doncaster\, DN11 9HZ\, United Kingdom
END:VEVENT
BEGIN:VEVENT
DTSTART;TZID=Europe/London:20190524T190000
DTEND;TZID=Europe/London:20190524T200000
DTSTAMP:20260425T132732
CREATED:20190221T115130Z
LAST-MODIFIED:20190221T115149Z
UID:1043-1558724400-1558728000@www.stmaryschurchtickhill.com
SUMMARY:7:00 PM Senior Choir Practice in St. Luke's Chapel
DESCRIPTION:
URL:https://www.stmaryschurchtickhill.com/event/700-pm-senior-choir-practice-in-st-lukes-chapel-12
LOCATION:St. Mary’s Church\, Tickhill\, St Mary's Church\, St Mary's Rd\, Tickhill\,\, Doncaster\, DN11 9LZ\, United Kingdom
END:VEVENT
BEGIN:VEVENT
DTSTART;TZID=Europe/London:20190524T180000
DTEND;TZID=Europe/London:20190524T190000
DTSTAMP:20260425T132732
CREATED:20190221T113406Z
LAST-MODIFIED:20190221T113406Z
UID:1016-1558720800-1558724400@www.stmaryschurchtickhill.com
SUMMARY:6:00 PM Junior Choir Practice in St. Luke's Chapel
DESCRIPTION:
URL:https://www.stmaryschurchtickhill.com/event/600-pm-junior-choir-practice-in-st-lukes-chapel-15
LOCATION:St. Mary’s Church\, Tickhill\, St Mary's Church\, St Mary's Rd\, Tickhill\,\, Doncaster\, DN11 9LZ\, United Kingdom
END:VEVENT
BEGIN:VEVENT
DTSTART;TZID=Europe/London:20190522T100000
DTEND;TZID=Europe/London:20190522T113000
DTSTAMP:20260425T132732
CREATED:20190221T115917Z
LAST-MODIFIED:20190221T115917Z
UID:1057-1558519200-1558524600@www.stmaryschurchtickhill.com
SUMMARY:10:00 AM Holy Communion\, St. Luke’s Chapel
DESCRIPTION:
URL:https://www.stmaryschurchtickhill.com/event/1000-am-holy-communion-st-lukes-chapel-16
LOCATION:St. Mary’s Church\, Tickhill\, St Mary's Church\, St Mary's Rd\, Tickhill\,\, Doncaster\, DN11 9LZ\, United Kingdom
END:VEVENT
BEGIN:VEVENT
DTSTART;TZID=Europe/London:20190519T180000
DTEND;TZID=Europe/London:20190519T193000
DTSTAMP:20260425T132732
CREATED:20190221T121352Z
LAST-MODIFIED:20190221T121352Z
UID:1091-1558288800-1558294200@www.stmaryschurchtickhill.com
SUMMARY:6:00 PM Evensong
DESCRIPTION:
URL:https://www.stmaryschurchtickhill.com/event/600-pm-evensong-16
LOCATION:St. Mary’s Church\, Tickhill\, St Mary's Church\, St Mary's Rd\, Tickhill\,\, Doncaster\, DN11 9LZ\, United Kingdom
END:VEVENT
BEGIN:VEVENT
DTSTART;TZID=Europe/London:20190519T103000
DTEND;TZID=Europe/London:20190519T120000
DTSTAMP:20260425T132732
CREATED:20190503T151708Z
LAST-MODIFIED:20190503T151708Z
UID:1624-1558261800-1558267200@www.stmaryschurchtickhill.com
SUMMARY:10:30 AM Sung Parish Eucharist
DESCRIPTION:
URL:https://www.stmaryschurchtickhill.com/event/1030-am-sung-parish-eucharist-8
LOCATION:St. Mary’s Church\, Tickhill\, St Mary's Church\, St Mary's Rd\, Tickhill\,\, Doncaster\, DN11 9LZ\, United Kingdom
END:VEVENT
BEGIN:VEVENT
DTSTART;TZID=Europe/London:20190519T080000
DTEND;TZID=Europe/London:20190519T090000
DTSTAMP:20260425T132732
CREATED:20190221T120538Z
LAST-MODIFIED:20190221T120538Z
UID:1073-1558252800-1558256400@www.stmaryschurchtickhill.com
SUMMARY:8:00 AM Holy Communion (BCP)\, St. Helen’s Chapel
DESCRIPTION:
URL:https://www.stmaryschurchtickhill.com/event/800-am-holy-communion-bcp-st-helens-chapel-16
LOCATION:St. Mary’s Church\, Tickhill\, St Mary's Church\, St Mary's Rd\, Tickhill\,\, Doncaster\, DN11 9LZ\, United Kingdom
END:VEVENT
BEGIN:VEVENT
DTSTART;VALUE=DATE:20190519
DTEND;VALUE=DATE:20190520
DTSTAMP:20260425T132732
CREATED:20190216T151828Z
LAST-MODIFIED:20190407T124625Z
UID:646-1558224000-1558310399@www.stmaryschurchtickhill.com
SUMMARY:The Fifth Sunday of Easter
DESCRIPTION:
URL:https://www.stmaryschurchtickhill.com/event/the-fifth-sunday-of-easter
END:VEVENT
BEGIN:VEVENT
DTSTART;TZID=Europe/London:20190518T143000
DTEND;TZID=Europe/London:20190518T163000
DTSTAMP:20260425T132732
CREATED:20190321T101724Z
LAST-MODIFIED:20190321T101724Z
UID:1296-1558189800-1558197000@www.stmaryschurchtickhill.com
SUMMARY:2:30 PM Celebration of Women's Ministry Service
DESCRIPTION:A service to celebrate the 25th Anniversary of the first ordinations of women; and 50 years since the first women Lay Readers were licenced in Sheffield Diocese. How has ministry been shaped and enriched for everyone by the women who have inhabited it? An opportunity to gave thanks\, to honour the history which shapes us\, and to party afterwards.
URL:https://www.stmaryschurchtickhill.com/event/230-pm-celebration-of-womens-ministry-service
LOCATION:Doncaster Minster\, The Minster Church of St George Doncaster 9 Church Street\, Doncaster\, DN1 1RD\, United Kingdom
END:VEVENT
BEGIN:VEVENT
DTSTART;TZID=Europe/London:20190518T103000
DTEND;TZID=Europe/London:20190518T113000
DTSTAMP:20260425T132732
CREATED:20190221T143742Z
LAST-MODIFIED:20190503T152253Z
UID:1128-1558175400-1558179000@www.stmaryschurchtickhill.com
SUMMARY:10:30 AM Singing for Christian Aid (TCT)
DESCRIPTION:
URL:https://www.stmaryschurchtickhill.com/event/1030-singing-for-christian-aid-2
LOCATION:Market Place\, DN11 9HT\, United Kingdom
END:VEVENT
BEGIN:VEVENT
DTSTART;TZID=Europe/London:20190518T100000
DTEND;TZID=Europe/London:20190518T120000
DTSTAMP:20260425T132732
CREATED:20190221T105554Z
LAST-MODIFIED:20190221T105554Z
UID:971-1558173600-1558180800@www.stmaryschurchtickhill.com
SUMMARY:10:00 Coffee served in the Parish Room
DESCRIPTION:
URL:https://www.stmaryschurchtickhill.com/event/1000-coffee-served-in-the-parish-room-12
LOCATION:Parish Room\, Tickhill Parish Room\, Northgate\, Tickhill\, Doncaster\, DN11 9HZ\, United Kingdom
END:VEVENT
BEGIN:VEVENT
DTSTART;TZID=Europe/London:20190517T190000
DTEND;TZID=Europe/London:20190517T200000
DTSTAMP:20260425T132732
CREATED:20190221T115056Z
LAST-MODIFIED:20190221T115056Z
UID:1041-1558119600-1558123200@www.stmaryschurchtickhill.com
SUMMARY:7:00 PM Senior Choir Practice in St. Luke's Chapel
DESCRIPTION:
URL:https://www.stmaryschurchtickhill.com/event/700-pm-senior-choir-practice-in-st-lukes-chapel-11
LOCATION:St. Mary’s Church\, Tickhill\, St Mary's Church\, St Mary's Rd\, Tickhill\,\, Doncaster\, DN11 9LZ\, United Kingdom
END:VEVENT
BEGIN:VEVENT
DTSTART;TZID=Europe/London:20190517T180000
DTEND;TZID=Europe/London:20190517T190000
DTSTAMP:20260425T132732
CREATED:20190221T113321Z
LAST-MODIFIED:20190221T113321Z
UID:1014-1558116000-1558119600@www.stmaryschurchtickhill.com
SUMMARY:6:00 PM Junior Choir Practice in St. Luke's Chapel
DESCRIPTION:
URL:https://www.stmaryschurchtickhill.com/event/600-pm-junior-choir-practice-in-st-lukes-chapel-14
LOCATION:St. Mary’s Church\, Tickhill\, St Mary's Church\, St Mary's Rd\, Tickhill\,\, Doncaster\, DN11 9LZ\, United Kingdom
END:VEVENT
BEGIN:VEVENT
DTSTART;TZID=Europe/London:20190515T100000
DTEND;TZID=Europe/London:20190515T113000
DTSTAMP:20260425T132732
CREATED:20190221T115842Z
LAST-MODIFIED:20190221T115842Z
UID:1055-1557914400-1557919800@www.stmaryschurchtickhill.com
SUMMARY:10:00 AM Holy Communion\, St. Luke’s Chapel
DESCRIPTION:
URL:https://www.stmaryschurchtickhill.com/event/1000-am-holy-communion-st-lukes-chapel-15
LOCATION:St. Mary’s Church\, Tickhill\, St Mary's Church\, St Mary's Rd\, Tickhill\,\, Doncaster\, DN11 9LZ\, United Kingdom
END:VEVENT
BEGIN:VEVENT
DTSTART;TZID=Europe/London:20190512T180000
DTEND;TZID=Europe/London:20190512T193000
DTSTAMP:20260425T132732
CREATED:20190221T121322Z
LAST-MODIFIED:20190221T121322Z
UID:1089-1557684000-1557689400@www.stmaryschurchtickhill.com
SUMMARY:6:00 PM Evensong
DESCRIPTION:
URL:https://www.stmaryschurchtickhill.com/event/600-pm-evensong-15
LOCATION:St. Mary’s Church\, Tickhill\, St Mary's Church\, St Mary's Rd\, Tickhill\,\, Doncaster\, DN11 9LZ\, United Kingdom
END:VEVENT
BEGIN:VEVENT
DTSTART;TZID=Europe/London:20190512T103000
DTEND;TZID=Europe/London:20190512T120000
DTSTAMP:20260425T132732
CREATED:20190503T151617Z
LAST-MODIFIED:20190503T151617Z
UID:1622-1557657000-1557662400@www.stmaryschurchtickhill.com
SUMMARY:10:30 AM Sung Parish Eucharist
DESCRIPTION:
URL:https://www.stmaryschurchtickhill.com/event/1030-am-sung-parish-eucharist-7
LOCATION:St. Mary’s Church\, Tickhill\, St Mary's Church\, St Mary's Rd\, Tickhill\,\, Doncaster\, DN11 9LZ\, United Kingdom
END:VEVENT
BEGIN:VEVENT
DTSTART;TZID=Europe/London:20190512T080000
DTEND;TZID=Europe/London:20190512T090000
DTSTAMP:20260425T132732
CREATED:20190221T120510Z
LAST-MODIFIED:20190221T120510Z
UID:1071-1557648000-1557651600@www.stmaryschurchtickhill.com
SUMMARY:8:00 AM Holy Communion (BCP)\, St. Helen’s Chapel
DESCRIPTION:
URL:https://www.stmaryschurchtickhill.com/event/800-am-holy-communion-bcp-st-helens-chapel-15
LOCATION:St. Mary’s Church\, Tickhill\, St Mary's Church\, St Mary's Rd\, Tickhill\,\, Doncaster\, DN11 9LZ\, United Kingdom
END:VEVENT
BEGIN:VEVENT
DTSTART;VALUE=DATE:20190512
DTEND;VALUE=DATE:20190513
DTSTAMP:20260425T132732
CREATED:20190216T151730Z
LAST-MODIFIED:20190216T151730Z
UID:644-1557619200-1557705599@www.stmaryschurchtickhill.com
SUMMARY:The Fourth Sunday of Easter
DESCRIPTION:
URL:https://www.stmaryschurchtickhill.com/event/the-fourth-sunday-of-easter
END:VEVENT
BEGIN:VEVENT
DTSTART;TZID=Europe/London:20190511T100000
DTEND;TZID=Europe/London:20190511T120000
DTSTAMP:20260425T132732
CREATED:20190221T105518Z
LAST-MODIFIED:20190221T105518Z
UID:969-1557568800-1557576000@www.stmaryschurchtickhill.com
SUMMARY:10:00 Coffee served in the Parish Room
DESCRIPTION:
URL:https://www.stmaryschurchtickhill.com/event/1000-coffee-served-in-the-parish-room-11
LOCATION:Parish Room\, Tickhill Parish Room\, Northgate\, Tickhill\, Doncaster\, DN11 9HZ\, United Kingdom
END:VEVENT
BEGIN:VEVENT
DTSTART;TZID=Europe/London:20190510T190000
DTEND;TZID=Europe/London:20190510T200000
DTSTAMP:20260425T132732
CREATED:20190221T115012Z
LAST-MODIFIED:20190221T115012Z
UID:1039-1557514800-1557518400@www.stmaryschurchtickhill.com
SUMMARY:7:00 PM Senior Choir Practice in St. Luke's Chapel
DESCRIPTION:
URL:https://www.stmaryschurchtickhill.com/event/700-pm-senior-choir-practice-in-st-lukes-chapel-10
LOCATION:St. Mary’s Church\, Tickhill\, St Mary's Church\, St Mary's Rd\, Tickhill\,\, Doncaster\, DN11 9LZ\, United Kingdom
END:VEVENT
BEGIN:VEVENT
DTSTART;TZID=Europe/London:20190510T180000
DTEND;TZID=Europe/London:20190510T190000
DTSTAMP:20260425T132732
CREATED:20190221T113227Z
LAST-MODIFIED:20190221T113227Z
UID:1012-1557511200-1557514800@www.stmaryschurchtickhill.com
SUMMARY:6:00 PM Junior Choir Practice in St. Luke's Chapel
DESCRIPTION:
URL:https://www.stmaryschurchtickhill.com/event/600-pm-junior-choir-practice-in-st-lukes-chapel-13
LOCATION:St. Mary’s Church\, Tickhill\, St Mary's Church\, St Mary's Rd\, Tickhill\,\, Doncaster\, DN11 9LZ\, United Kingdom
END:VEVENT
BEGIN:VEVENT
DTSTART;TZID=Europe/London:20190509T100000
DTEND;TZID=Europe/London:20190509T113000
DTSTAMP:20260425T132732
CREATED:20190503T152049Z
LAST-MODIFIED:20190503T152049Z
UID:1628-1557396000-1557401400@www.stmaryschurchtickhill.com
SUMMARY:10:00 AM Coffee Stop! in the Parish Room
DESCRIPTION:
URL:https://www.stmaryschurchtickhill.com/event/1000-am-coffee-stop-in-the-parish-room
LOCATION:Parish Room\, Tickhill Parish Room\, Northgate\, Tickhill\, Doncaster\, DN11 9HZ\, United Kingdom
END:VEVENT
BEGIN:VEVENT
DTSTART;TZID=Europe/London:20190508T100000
DTEND;TZID=Europe/London:20190508T113000
DTSTAMP:20260425T132732
CREATED:20190221T115739Z
LAST-MODIFIED:20190221T115739Z
UID:1053-1557309600-1557315000@www.stmaryschurchtickhill.com
SUMMARY:10:00 AM Holy Communion\, St. Luke’s Chapel
DESCRIPTION:
URL:https://www.stmaryschurchtickhill.com/event/1000-am-holy-communion-st-lukes-chapel-14
LOCATION:St. Mary’s Church\, Tickhill\, St Mary's Church\, St Mary's Rd\, Tickhill\,\, Doncaster\, DN11 9LZ\, United Kingdom
END:VEVENT
BEGIN:VEVENT
DTSTART;TZID=Europe/London:20190507T183000
DTEND;TZID=Europe/London:20190507T203000
DTSTAMP:20260425T132732
CREATED:20190322T125847Z
LAST-MODIFIED:20190322T125847Z
UID:1359-1557253800-1557261000@www.stmaryschurchtickhill.com
SUMMARY:6:30 PM Standing Committee – St. Luke’s Chapel
DESCRIPTION:
URL:https://www.stmaryschurchtickhill.com/event/630-pm-standing-committee-st-lukes-chapel-2
LOCATION:St. Mary’s Church\, Tickhill\, St Mary's Church\, St Mary's Rd\, Tickhill\,\, Doncaster\, DN11 9LZ\, United Kingdom
END:VEVENT
BEGIN:VEVENT
DTSTART;TZID=Europe/London:20190505T180000
DTEND;TZID=Europe/London:20190505T193000
DTSTAMP:20260425T132732
CREATED:20190221T121203Z
LAST-MODIFIED:20190221T121203Z
UID:1087-1557079200-1557084600@www.stmaryschurchtickhill.com
SUMMARY:6:00 PM Evensong
DESCRIPTION:
URL:https://www.stmaryschurchtickhill.com/event/600-pm-evensong-14
LOCATION:St. Mary’s Church\, Tickhill\, St Mary's Church\, St Mary's Rd\, Tickhill\,\, Doncaster\, DN11 9LZ\, United Kingdom
END:VEVENT
BEGIN:VEVENT
DTSTART;TZID=Europe/London:20190505T103000
DTEND;TZID=Europe/London:20190505T120000
DTSTAMP:20260425T132732
CREATED:20190215T145831Z
LAST-MODIFIED:20190215T161120Z
UID:518-1557052200-1557057600@www.stmaryschurchtickhill.com
SUMMARY:10:30 AM Family Communion with Baptisms
DESCRIPTION:
URL:https://www.stmaryschurchtickhill.com/event/1030-family-communion-with-baptisms-4
END:VEVENT
BEGIN:VEVENT
DTSTART;TZID=Europe/London:20190505T080000
DTEND;TZID=Europe/London:20190505T090000
DTSTAMP:20260425T132732
CREATED:20190221T120441Z
LAST-MODIFIED:20190221T120441Z
UID:1069-1557043200-1557046800@www.stmaryschurchtickhill.com
SUMMARY:8:00 AM Holy Communion (BCP)\, St. Helen’s Chapel
DESCRIPTION:
URL:https://www.stmaryschurchtickhill.com/event/800-am-holy-communion-bcp-st-helens-chapel-14
LOCATION:St. Mary’s Church\, Tickhill\, St Mary's Church\, St Mary's Rd\, Tickhill\,\, Doncaster\, DN11 9LZ\, United Kingdom
END:VEVENT
END:VCALENDAR