BEGIN:VCALENDAR
VERSION:2.0
PRODID:-//St Mary&#039;s Church Tickhill - ECPv6.15.20//NONSGML v1.0//EN
CALSCALE:GREGORIAN
METHOD:PUBLISH
X-WR-CALNAME:St Mary&#039;s Church Tickhill
X-ORIGINAL-URL:https://www.stmaryschurchtickhill.com
X-WR-CALDESC:Events for St Mary&#039;s Church Tickhill
REFRESH-INTERVAL;VALUE=DURATION:PT1H
X-Robots-Tag:noindex
X-PUBLISHED-TTL:PT1H
BEGIN:VTIMEZONE
TZID:Europe/London
BEGIN:DAYLIGHT
TZOFFSETFROM:+0000
TZOFFSETTO:+0100
TZNAME:BST
DTSTART:20180325T010000
END:DAYLIGHT
BEGIN:STANDARD
TZOFFSETFROM:+0100
TZOFFSETTO:+0000
TZNAME:GMT
DTSTART:20181028T010000
END:STANDARD
BEGIN:DAYLIGHT
TZOFFSETFROM:+0000
TZOFFSETTO:+0100
TZNAME:BST
DTSTART:20190331T010000
END:DAYLIGHT
BEGIN:STANDARD
TZOFFSETFROM:+0100
TZOFFSETTO:+0000
TZNAME:GMT
DTSTART:20191027T010000
END:STANDARD
BEGIN:DAYLIGHT
TZOFFSETFROM:+0000
TZOFFSETTO:+0100
TZNAME:BST
DTSTART:20200329T010000
END:DAYLIGHT
BEGIN:STANDARD
TZOFFSETFROM:+0100
TZOFFSETTO:+0000
TZNAME:GMT
DTSTART:20201025T010000
END:STANDARD
END:VTIMEZONE
BEGIN:VEVENT
DTSTART;VALUE=DATE:20190418
DTEND;VALUE=DATE:20190419
DTSTAMP:20260425T132735
CREATED:20190214T211459Z
LAST-MODIFIED:20190215T153707Z
UID:428-1555545600-1555631999@www.stmaryschurchtickhill.com
SUMMARY:Maundy Thursday
DESCRIPTION:
URL:https://www.stmaryschurchtickhill.com/event/maundy-thursday
END:VEVENT
BEGIN:VEVENT
DTSTART;VALUE=DATE:20190417
DTEND;VALUE=DATE:20190418
DTSTAMP:20260425T132735
CREATED:20190214T212345Z
LAST-MODIFIED:20190215T153629Z
UID:436-1555459200-1555545599@www.stmaryschurchtickhill.com
SUMMARY:Wednesday of Holy Week
DESCRIPTION:
URL:https://www.stmaryschurchtickhill.com/event/wednesday-of-holy-week
END:VEVENT
BEGIN:VEVENT
DTSTART;VALUE=DATE:20190416
DTEND;VALUE=DATE:20190417
DTSTAMP:20260425T132735
CREATED:20190214T212252Z
LAST-MODIFIED:20190215T153533Z
UID:434-1555372800-1555459199@www.stmaryschurchtickhill.com
SUMMARY:Tuesday of Holy Week
DESCRIPTION:
URL:https://www.stmaryschurchtickhill.com/event/tuesday-of-holy-week
END:VEVENT
BEGIN:VEVENT
DTSTART;VALUE=DATE:20190415
DTEND;VALUE=DATE:20190416
DTSTAMP:20260425T132735
CREATED:20190214T211730Z
LAST-MODIFIED:20190215T150201Z
UID:432-1555286400-1555372799@www.stmaryschurchtickhill.com
SUMMARY:Monday of Holy Week
DESCRIPTION:
URL:https://www.stmaryschurchtickhill.com/event/monday-of-holy-week
END:VEVENT
BEGIN:VEVENT
DTSTART;TZID=Europe/London:20190414T180000
DTEND;TZID=Europe/London:20190414T193000
DTSTAMP:20260425T132735
CREATED:20190221T120952Z
LAST-MODIFIED:20190221T121012Z
UID:1081-1555264800-1555270200@www.stmaryschurchtickhill.com
SUMMARY:6:00 PM Evensong
DESCRIPTION:
URL:https://www.stmaryschurchtickhill.com/event/600-pm-evensong-11
LOCATION:St. Mary’s Church\, Tickhill\, St Mary's Church\, St Mary's Rd\, Tickhill\,\, Doncaster\, DN11 9LZ\, United Kingdom
END:VEVENT
BEGIN:VEVENT
DTSTART;TZID=Europe/London:20190414T103000
DTEND;TZID=Europe/London:20190414T120000
DTSTAMP:20260425T132735
CREATED:20190221T123221Z
LAST-MODIFIED:20190221T123221Z
UID:1099-1555237800-1555243200@www.stmaryschurchtickhill.com
SUMMARY:10:30 AM Parish Eucharist
DESCRIPTION:
URL:https://www.stmaryschurchtickhill.com/event/1030-am-parish-eucharist
LOCATION:St. Mary’s Church\, Tickhill\, St Mary's Church\, St Mary's Rd\, Tickhill\,\, Doncaster\, DN11 9LZ\, United Kingdom
END:VEVENT
BEGIN:VEVENT
DTSTART;TZID=Europe/London:20190414T080000
DTEND;TZID=Europe/London:20190414T090000
DTSTAMP:20260425T132735
CREATED:20190221T120250Z
LAST-MODIFIED:20190221T120250Z
UID:1063-1555228800-1555232400@www.stmaryschurchtickhill.com
SUMMARY:8:00 AM Holy Communion (BCP)\, St. Helen’s Chapel
DESCRIPTION:
URL:https://www.stmaryschurchtickhill.com/event/800-am-holy-communion-bcp-st-helens-chapel-11
LOCATION:St. Mary’s Church\, Tickhill\, St Mary's Church\, St Mary's Rd\, Tickhill\,\, Doncaster\, DN11 9LZ\, United Kingdom
END:VEVENT
BEGIN:VEVENT
DTSTART;VALUE=DATE:20190414
DTEND;VALUE=DATE:20190415
DTSTAMP:20260425T132735
CREATED:20190214T211247Z
LAST-MODIFIED:20190215T150134Z
UID:424-1555200000-1555286399@www.stmaryschurchtickhill.com
SUMMARY:Palm Sunday
DESCRIPTION:
URL:https://www.stmaryschurchtickhill.com/event/palm-sunday
END:VEVENT
BEGIN:VEVENT
DTSTART;TZID=Europe/London:20190413T100000
DTEND;TZID=Europe/London:20190413T160000
DTSTAMP:20260425T132735
CREATED:20190221T150504Z
LAST-MODIFIED:20190221T151659Z
UID:1163-1555149600-1555171200@www.stmaryschurchtickhill.com
SUMMARY:10:00 AM Music Marathon
DESCRIPTION:Sponsor John to play a tune on the organ \n     \nIn aid of the Tower Appeal
URL:https://www.stmaryschurchtickhill.com/event/1000-am-music-marathon
LOCATION:St. Mary’s Church\, Tickhill\, St Mary's Church\, St Mary's Rd\, Tickhill\,\, Doncaster\, DN11 9LZ\, United Kingdom
END:VEVENT
BEGIN:VEVENT
DTSTART;TZID=Europe/London:20190413T100000
DTEND;TZID=Europe/London:20190413T120000
DTSTAMP:20260425T132735
CREATED:20190221T104958Z
LAST-MODIFIED:20190221T104958Z
UID:961-1555149600-1555156800@www.stmaryschurchtickhill.com
SUMMARY:10:00 Coffee served in the Parish Room
DESCRIPTION:
URL:https://www.stmaryschurchtickhill.com/event/1000-coffee-served-in-the-parish-room-7
LOCATION:Parish Room\, Tickhill Parish Room\, Northgate\, Tickhill\, Doncaster\, DN11 9HZ\, United Kingdom
END:VEVENT
BEGIN:VEVENT
DTSTART;TZID=Europe/London:20190412T190000
DTEND;TZID=Europe/London:20190412T200000
DTSTAMP:20260425T132735
CREATED:20190221T114715Z
LAST-MODIFIED:20190221T114715Z
UID:1033-1555095600-1555099200@www.stmaryschurchtickhill.com
SUMMARY:7:00 PM Senior Choir Practice in St. Luke's Chapel
DESCRIPTION:
URL:https://www.stmaryschurchtickhill.com/event/700-pm-senior-choir-practice-in-st-lukes-chapel-7
LOCATION:St. Mary’s Church\, Tickhill\, St Mary's Church\, St Mary's Rd\, Tickhill\,\, Doncaster\, DN11 9LZ\, United Kingdom
END:VEVENT
BEGIN:VEVENT
DTSTART;TZID=Europe/London:20190412T180000
DTEND;TZID=Europe/London:20190412T190000
DTSTAMP:20260425T132735
CREATED:20190221T111819Z
LAST-MODIFIED:20190221T111819Z
UID:1002-1555092000-1555095600@www.stmaryschurchtickhill.com
SUMMARY:6:00 PM Junior Choir Practice in St. Luke's Chapel
DESCRIPTION:
URL:https://www.stmaryschurchtickhill.com/event/600-pm-junior-choir-practice-in-st-lukes-chapel-8
LOCATION:St. Mary’s Church\, Tickhill\, St Mary's Church\, St Mary's Rd\, Tickhill\,\, Doncaster\, DN11 9LZ\, United Kingdom
END:VEVENT
BEGIN:VEVENT
DTSTART;TZID=Europe/London:20190412T090000
DTEND;TZID=Europe/London:20190412T120000
DTSTAMP:20260425T132735
CREATED:20190324T160843Z
LAST-MODIFIED:20190324T160843Z
UID:1377-1555059600-1555070400@www.stmaryschurchtickhill.com
SUMMARY:9:00 AM Church Cleaning
DESCRIPTION:The end of the internal work on the tower is at last in sight.  We now have to think about cleaning the church after it.  Could you please spare some time between 9:00 am and 12:00 noon on Thursday 11 April and/or Friday 12th April. \nWe are looking for budding Mrs Hinchs (or Mr Hinchs) so that between us we can sweep\, vacuum and dust all areas of the church following the work\, and in time for Easter? \nThese occasions usually turn out to be quite enjoyable! As always\, refreshments will be provided \nThank you \nHazel Horrigan \nCleaning Co-ordinator
URL:https://www.stmaryschurchtickhill.com/event/900-am-church-cleaning
LOCATION:St. Mary’s Church\, Tickhill\, St Mary's Church\, St Mary's Rd\, Tickhill\,\, Doncaster\, DN11 9LZ\, United Kingdom
END:VEVENT
BEGIN:VEVENT
DTSTART;TZID=Europe/London:20190411T090000
DTEND;TZID=Europe/London:20190411T120000
DTSTAMP:20260425T132735
CREATED:20190324T160450Z
LAST-MODIFIED:20190324T160555Z
UID:1371-1554973200-1554984000@www.stmaryschurchtickhill.com
SUMMARY:9:00 AM Church Cleaning
DESCRIPTION:The end of the internal work on the tower is at last in sight.  We now have to think about cleaning the church after it.  Could you please spare some time between 9:00 am and 12:00 noon on Thursday 11 April and/or Friday 12th April. \nWe are looking for budding Mrs Hinchs (or Mr Hinchs) so that between us we can sweep\, vacuum and dust all areas of the church following the work\, and in time for Easter?  These occasions usually turn out to be quite enjoyable!  As always\, refreshments will be provided \nThank you \nHazel Horrigan \nCleaning Co-ordinator
URL:https://www.stmaryschurchtickhill.com/event/church-cleaning
LOCATION:St. Mary’s Church\, Tickhill\, St Mary's Church\, St Mary's Rd\, Tickhill\,\, Doncaster\, DN11 9LZ\, United Kingdom
END:VEVENT
BEGIN:VEVENT
DTSTART;TZID=Europe/London:20190410T193000
DTEND;TZID=Europe/London:20190410T210000
DTSTAMP:20260425T132735
CREATED:20190225T115345Z
LAST-MODIFIED:20190225T115345Z
UID:1206-1554924600-1554930000@www.stmaryschurchtickhill.com
SUMMARY:7:30 PM Lent Course - Methodist Church
DESCRIPTION:
URL:https://www.stmaryschurchtickhill.com/event/730-pm-lent-course-methodist-church-5
LOCATION:Tickhill Methodist Church\, 8 Buttercross Ct\, Tickhill\,\, Doncaster\, DN11 9JX
END:VEVENT
BEGIN:VEVENT
DTSTART;TZID=Europe/London:20190410T140000
DTEND;TZID=Europe/London:20190410T160000
DTSTAMP:20260425T132735
CREATED:20190405T163845Z
LAST-MODIFIED:20190405T164001Z
UID:1416-1554904800-1554912000@www.stmaryschurchtickhill.com
SUMMARY:2:00 PM Imelda Staunton in Tickhill
DESCRIPTION:Tickhill Writers present “An Afternoon with Imelda Staunton” on Wednesday 10th April at 2:00 pm at The Methodist Church. \nProceeds to St Mary’s Church and to Alzheimers Research. \nThere will be a Raffle. \nTickets\, priced at £12 are available from Tickhill Library
URL:https://www.stmaryschurchtickhill.com/event/200-pm-imelda-staunton-in-tickhill
LOCATION:Tickhill Methodist Church\, 8 Buttercross Ct\, Tickhill\,\, Doncaster\, DN11 9JX
END:VEVENT
BEGIN:VEVENT
DTSTART;TZID=Europe/London:20190410T100000
DTEND;TZID=Europe/London:20190410T113000
DTSTAMP:20260425T132735
CREATED:20190221T110107Z
LAST-MODIFIED:20190221T110107Z
UID:979-1554890400-1554895800@www.stmaryschurchtickhill.com
SUMMARY:10:00 AM Holy Communion\, St. Luke's Chapel
DESCRIPTION:
URL:https://www.stmaryschurchtickhill.com/event/1000-am-holy-communion-st-lukes-chapel-10
LOCATION:St. Mary’s Church\, Tickhill\, St Mary's Church\, St Mary's Rd\, Tickhill\,\, Doncaster\, DN11 9LZ\, United Kingdom
END:VEVENT
BEGIN:VEVENT
DTSTART;TZID=Europe/London:20190408T143000
DTEND;TZID=Europe/London:20190408T154500
DTSTAMP:20260425T132735
CREATED:20190405T165017Z
LAST-MODIFIED:20190405T165401Z
UID:1419-1554733800-1554738300@www.stmaryschurchtickhill.com
SUMMARY:2:30 PM Handbell Ringers - Tickhill Library
DESCRIPTION:A team of St. Mary’s Handbell Ringers will be playing in the Library  on Monday 8th April between 2:30 pm and 3:45 pm. \nRefreshments will be available and all proceeds will benefit the Library.
URL:https://www.stmaryschurchtickhill.com/event/230-pm-handbell-ringers-tickhill-library
LOCATION:Tickhill Community Library\, Market Pl\, Tickhill\, Doncaster\, DN11 9QU\, United Kingdom
END:VEVENT
BEGIN:VEVENT
DTSTART;TZID=Europe/London:20190407T180000
DTEND;TZID=Europe/London:20190407T193000
DTSTAMP:20260425T132735
CREATED:20190221T120902Z
LAST-MODIFIED:20190221T120902Z
UID:1079-1554660000-1554665400@www.stmaryschurchtickhill.com
SUMMARY:6:00 PM Evensong
DESCRIPTION:
URL:https://www.stmaryschurchtickhill.com/event/600-pm-evensong-10
LOCATION:St. Mary’s Church\, Tickhill\, St Mary's Church\, St Mary's Rd\, Tickhill\,\, Doncaster\, DN11 9LZ\, United Kingdom
END:VEVENT
BEGIN:VEVENT
DTSTART;TZID=Europe/London:20190407T103000
DTEND;TZID=Europe/London:20190407T120000
DTSTAMP:20260425T132735
CREATED:20190215T145745Z
LAST-MODIFIED:20190215T161048Z
UID:516-1554633000-1554638400@www.stmaryschurchtickhill.com
SUMMARY:10:30 AM Family Communion with Baptisms
DESCRIPTION:
URL:https://www.stmaryschurchtickhill.com/event/1030-family-communion-with-baptisms-3
END:VEVENT
BEGIN:VEVENT
DTSTART;TZID=Europe/London:20190407T080000
DTEND;TZID=Europe/London:20190407T090000
DTSTAMP:20260425T132735
CREATED:20190221T120206Z
LAST-MODIFIED:20190221T120206Z
UID:1061-1554624000-1554627600@www.stmaryschurchtickhill.com
SUMMARY:8:00 AM Holy Communion (BCP)\, St. Helen’s Chapel
DESCRIPTION:
URL:https://www.stmaryschurchtickhill.com/event/800-am-holy-communion-bcp-st-helens-chapel-10
LOCATION:St. Mary’s Church\, Tickhill\, St Mary's Church\, St Mary's Rd\, Tickhill\,\, Doncaster\, DN11 9LZ\, United Kingdom
END:VEVENT
BEGIN:VEVENT
DTSTART;VALUE=DATE:20190407
DTEND;VALUE=DATE:20190408
DTSTAMP:20260425T132735
CREATED:20190214T210316Z
LAST-MODIFIED:20190215T150037Z
UID:422-1554595200-1554681599@www.stmaryschurchtickhill.com
SUMMARY:The Fifth Sunday of Lent (Passiontide begins)
DESCRIPTION:
URL:https://www.stmaryschurchtickhill.com/event/the-fifth-sunday-of-lent-passiontide-begins
END:VEVENT
BEGIN:VEVENT
DTSTART;TZID=Europe/London:20190406T140000
DTEND;TZID=Europe/London:20190406T153000
DTSTAMP:20260425T132735
CREATED:20190217T182919Z
LAST-MODIFIED:20190319T155133Z
UID:779-1554559200-1554564600@www.stmaryschurchtickhill.com
SUMMARY:2:00 PM Church Reordering Meeting
DESCRIPTION:As you are probably aware an appeal was launched several months ago to undertake some significant repairs to the tower at St Mary’s church which I’m pleased to report should be undertaken during the course of 2019. We are eternally gratefully for everyone who has and continues to support our appeal. \nWe now see this as an opportune time to consider how we may be able to reorder some of the internal parts of our church building in ways to make it a major centre for the day to day life of Tickhill\, where people can gather to enjoy activities which are perhaps presently not available elsewhere. The vision is that St. Mary’s church is inclusive to everyone\, regular churchgoers or not\, and still keeping its integrity as being a central place of Christian worship and witness in the community\, this being our parish church. \nChurches are being encouraged to develop their use as a sustainable community resource and St. Mary’s wishes to move in this direction to actively play our part in fulfilling the needs of today’s people and for the generations that follow. It would be great if you could help us with this important and exciting work. \nIn working towards this goal\, we would love to hear what facilities you think we might be able to provide to make this wonderful medieval building a welcoming place to the whole community. \nPlease come along to a very informal gathering to be held in church on Saturday 06 April at 2.00 p.m. when we would very much look forward to seeing you and hear your views\, all of which are important to us. Please put this date in your diary and I look forward to seeing you there.
URL:https://www.stmaryschurchtickhill.com/event/church-reordering-meeting
LOCATION:St. Mary’s Church\, Tickhill\, St Mary's Church\, St Mary's Rd\, Tickhill\,\, Doncaster\, DN11 9LZ\, United Kingdom
END:VEVENT
BEGIN:VEVENT
DTSTART;TZID=Europe/London:20190406T100000
DTEND;TZID=Europe/London:20190406T120000
DTSTAMP:20260425T132735
CREATED:20190221T104922Z
LAST-MODIFIED:20190221T104922Z
UID:959-1554544800-1554552000@www.stmaryschurchtickhill.com
SUMMARY:10:00 Coffee served in the Parish Room
DESCRIPTION:
URL:https://www.stmaryschurchtickhill.com/event/1000-coffee-served-in-the-parish-room-6
LOCATION:Parish Room\, Tickhill Parish Room\, Northgate\, Tickhill\, Doncaster\, DN11 9HZ\, United Kingdom
END:VEVENT
BEGIN:VEVENT
DTSTART;TZID=Europe/London:20190405T190000
DTEND;TZID=Europe/London:20190405T200000
DTSTAMP:20260425T132735
CREATED:20190221T114642Z
LAST-MODIFIED:20190221T114642Z
UID:1031-1554490800-1554494400@www.stmaryschurchtickhill.com
SUMMARY:7:00 PM Senior Choir Practice in St. Luke's Chapel
DESCRIPTION:
URL:https://www.stmaryschurchtickhill.com/event/700-pm-senior-choir-practice-in-st-lukes-chapel-6
LOCATION:St. Mary’s Church\, Tickhill\, St Mary's Church\, St Mary's Rd\, Tickhill\,\, Doncaster\, DN11 9LZ\, United Kingdom
END:VEVENT
BEGIN:VEVENT
DTSTART;TZID=Europe/London:20190405T180000
DTEND;TZID=Europe/London:20190405T190000
DTSTAMP:20260425T132735
CREATED:20190221T111745Z
LAST-MODIFIED:20190221T111745Z
UID:1000-1554487200-1554490800@www.stmaryschurchtickhill.com
SUMMARY:6:00 PM Junior Choir Practice in St. Luke's Chapel
DESCRIPTION:
URL:https://www.stmaryschurchtickhill.com/event/600-pm-junior-choir-practice-in-st-lukes-chapel-7
LOCATION:St. Mary’s Church\, Tickhill\, St Mary's Church\, St Mary's Rd\, Tickhill\,\, Doncaster\, DN11 9LZ\, United Kingdom
END:VEVENT
BEGIN:VEVENT
DTSTART;TZID=Europe/London:20190405T141500
DTEND;TZID=Europe/London:20190405T160000
DTSTAMP:20260425T132735
CREATED:20190322T123837Z
LAST-MODIFIED:20190322T123837Z
UID:1347-1554473700-1554480000@www.stmaryschurchtickhill.com
SUMMARY:2:15 PM Church Mice\, St. Luke’s Chapel
DESCRIPTION:Meet in Church to share some simple songs\, a story and some craft\, with time for a drink and a biscuit\, coffee and a chat.
URL:https://www.stmaryschurchtickhill.com/event/215-pm-church-mice-st-lukes-chapel-2
LOCATION:St. Mary’s Church\, Tickhill\, St Mary's Church\, St Mary's Rd\, Tickhill\,\, Doncaster\, DN11 9LZ\, United Kingdom
END:VEVENT
BEGIN:VEVENT
DTSTART;TZID=Europe/London:20190405T120000
DTEND;TZID=Europe/London:20190405T130000
DTSTAMP:20260425T132735
CREATED:20190217T181308Z
LAST-MODIFIED:20190221T110406Z
UID:774-1554465600-1554469200@www.stmaryschurchtickhill.com
SUMMARY:12:00 PM Soup Lunch in the Parish Room
DESCRIPTION:Choice of three homemade soups and bread followed by a hot drink and something sweet to go with it. All for £5.00 \nEveryone welcome – bring your friends \nIn support of the Tower Appeal.
URL:https://www.stmaryschurchtickhill.com/event/12-pm-soup-lunch-in-the-parish-room-4
LOCATION:Parish Room\, Tickhill Parish Room\, Northgate\, Tickhill\, Doncaster\, DN11 9HZ\, United Kingdom
END:VEVENT
BEGIN:VEVENT
DTSTART;TZID=Europe/London:20190403T193000
DTEND;TZID=Europe/London:20190403T210000
DTSTAMP:20260425T132735
CREATED:20190225T115309Z
LAST-MODIFIED:20190225T115309Z
UID:1204-1554319800-1554325200@www.stmaryschurchtickhill.com
SUMMARY:7:30 PM Lent Course - Methodist Church
DESCRIPTION:
URL:https://www.stmaryschurchtickhill.com/event/730-pm-lent-course-methodist-church-4
LOCATION:Tickhill Methodist Church\, 8 Buttercross Ct\, Tickhill\,\, Doncaster\, DN11 9JX
END:VEVENT
BEGIN:VEVENT
DTSTART;TZID=Europe/London:20190403T100000
DTEND;TZID=Europe/London:20190403T113000
DTSTAMP:20260425T132735
CREATED:20190221T110004Z
LAST-MODIFIED:20190221T110004Z
UID:977-1554285600-1554291000@www.stmaryschurchtickhill.com
SUMMARY:10:00 AM Holy Communion\, St. Luke's Chapel
DESCRIPTION:
URL:https://www.stmaryschurchtickhill.com/event/1000-am-holy-communion-st-lukes-chapel-9
LOCATION:St. Mary’s Church\, Tickhill\, St Mary's Church\, St Mary's Rd\, Tickhill\,\, Doncaster\, DN11 9LZ\, United Kingdom
END:VEVENT
END:VCALENDAR