BEGIN:VCALENDAR
VERSION:2.0
PRODID:-//St Mary&#039;s Church Tickhill - ECPv6.15.20//NONSGML v1.0//EN
CALSCALE:GREGORIAN
METHOD:PUBLISH
X-WR-CALNAME:St Mary&#039;s Church Tickhill
X-ORIGINAL-URL:https://www.stmaryschurchtickhill.com
X-WR-CALDESC:Events for St Mary&#039;s Church Tickhill
REFRESH-INTERVAL;VALUE=DURATION:PT1H
X-Robots-Tag:noindex
X-PUBLISHED-TTL:PT1H
BEGIN:VTIMEZONE
TZID:Europe/London
BEGIN:DAYLIGHT
TZOFFSETFROM:+0000
TZOFFSETTO:+0100
TZNAME:BST
DTSTART:20180325T010000
END:DAYLIGHT
BEGIN:STANDARD
TZOFFSETFROM:+0100
TZOFFSETTO:+0000
TZNAME:GMT
DTSTART:20181028T010000
END:STANDARD
BEGIN:DAYLIGHT
TZOFFSETFROM:+0000
TZOFFSETTO:+0100
TZNAME:BST
DTSTART:20190331T010000
END:DAYLIGHT
BEGIN:STANDARD
TZOFFSETFROM:+0100
TZOFFSETTO:+0000
TZNAME:GMT
DTSTART:20191027T010000
END:STANDARD
BEGIN:DAYLIGHT
TZOFFSETFROM:+0000
TZOFFSETTO:+0100
TZNAME:BST
DTSTART:20200329T010000
END:DAYLIGHT
BEGIN:STANDARD
TZOFFSETFROM:+0100
TZOFFSETTO:+0000
TZNAME:GMT
DTSTART:20201025T010000
END:STANDARD
END:VTIMEZONE
BEGIN:VEVENT
DTSTART;TZID=Europe/London:20190203T080000
DTEND;TZID=Europe/London:20190203T090000
DTSTAMP:20260426T035935
CREATED:20190215T152029Z
LAST-MODIFIED:20190215T152029Z
UID:538-1549180800-1549184400@www.stmaryschurchtickhill.com
SUMMARY:8:00 AM Holy Communion (BCP)\, St. Helen's Chapel
DESCRIPTION:
URL:https://www.stmaryschurchtickhill.com/event/800-am-holy-communion-bcp-st-helens-chapel-2
END:VEVENT
BEGIN:VEVENT
DTSTART;VALUE=DATE:20190203
DTEND;VALUE=DATE:20190204
DTSTAMP:20260426T035935
CREATED:20190214T204117Z
LAST-MODIFIED:20190214T205803Z
UID:402-1549152000-1549238399@www.stmaryschurchtickhill.com
SUMMARY:The Fifth Sunday Before Lent - Candlemas
DESCRIPTION:
URL:https://www.stmaryschurchtickhill.com/event/the-fifth-sunday-before-lent
END:VEVENT
BEGIN:VEVENT
DTSTART;VALUE=DATE:20190203
DTEND;VALUE=DATE:20190204
DTSTAMP:20260426T035935
CREATED:20190214T203932Z
LAST-MODIFIED:20190214T203932Z
UID:398-1549152000-1549238399@www.stmaryschurchtickhill.com
SUMMARY:The Presentation of Christ in The Temple
DESCRIPTION:
URL:https://www.stmaryschurchtickhill.com/event/the-presentation-of-christ-in-the-temple
END:VEVENT
END:VCALENDAR