BEGIN:VCALENDAR
VERSION:2.0
PRODID:-//St Mary&#039;s Church Tickhill - ECPv6.15.20//NONSGML v1.0//EN
CALSCALE:GREGORIAN
METHOD:PUBLISH
X-WR-CALNAME:St Mary&#039;s Church Tickhill
X-ORIGINAL-URL:https://www.stmaryschurchtickhill.com
X-WR-CALDESC:Events for St Mary&#039;s Church Tickhill
REFRESH-INTERVAL;VALUE=DURATION:PT1H
X-Robots-Tag:noindex
X-PUBLISHED-TTL:PT1H
BEGIN:VTIMEZONE
TZID:Europe/London
BEGIN:DAYLIGHT
TZOFFSETFROM:+0000
TZOFFSETTO:+0100
TZNAME:BST
DTSTART:20180325T010000
END:DAYLIGHT
BEGIN:STANDARD
TZOFFSETFROM:+0100
TZOFFSETTO:+0000
TZNAME:GMT
DTSTART:20181028T010000
END:STANDARD
BEGIN:DAYLIGHT
TZOFFSETFROM:+0000
TZOFFSETTO:+0100
TZNAME:BST
DTSTART:20190331T010000
END:DAYLIGHT
BEGIN:STANDARD
TZOFFSETFROM:+0100
TZOFFSETTO:+0000
TZNAME:GMT
DTSTART:20191027T010000
END:STANDARD
BEGIN:DAYLIGHT
TZOFFSETFROM:+0000
TZOFFSETTO:+0100
TZNAME:BST
DTSTART:20200329T010000
END:DAYLIGHT
BEGIN:STANDARD
TZOFFSETFROM:+0100
TZOFFSETTO:+0000
TZNAME:GMT
DTSTART:20201025T010000
END:STANDARD
END:VTIMEZONE
BEGIN:VEVENT
DTSTART;TZID=Europe/London:20190331T103000
DTEND;TZID=Europe/London:20190331T120000
DTSTAMP:20260425T115339
CREATED:20190215T162411Z
LAST-MODIFIED:20190215T162846Z
UID:594-1554028200-1554033600@www.stmaryschurchtickhill.com
SUMMARY:10:30 AM Family Communion
DESCRIPTION:
URL:https://www.stmaryschurchtickhill.com/event/1030-am-sung-parish-eucharist-6
END:VEVENT
BEGIN:VEVENT
DTSTART;TZID=Europe/London:20190331T080000
DTEND;TZID=Europe/London:20190331T090000
DTSTAMP:20260425T115339
CREATED:20190215T152514Z
LAST-MODIFIED:20190215T152514Z
UID:552-1554019200-1554022800@www.stmaryschurchtickhill.com
SUMMARY:8:00 AM Holy Communion (BCP)\, St. Helen's Chapel
DESCRIPTION:
URL:https://www.stmaryschurchtickhill.com/event/800-am-holy-communion-bcp-st-helens-chapel-9
END:VEVENT
BEGIN:VEVENT
DTSTART;TZID=Europe/London:20190330T100000
DTEND;TZID=Europe/London:20190330T120000
DTSTAMP:20260425T115339
CREATED:20190221T104451Z
LAST-MODIFIED:20190221T104746Z
UID:954-1553940000-1553947200@www.stmaryschurchtickhill.com
SUMMARY:10:00 Coffee served in the Parish Room
DESCRIPTION:
URL:https://www.stmaryschurchtickhill.com/event/1000-coffee-served-in-the-parish-room-5
LOCATION:Parish Room\, Tickhill Parish Room\, Northgate\, Tickhill\, Doncaster\, DN11 9HZ\, United Kingdom
END:VEVENT
BEGIN:VEVENT
DTSTART;TZID=Europe/London:20190329T190000
DTEND;TZID=Europe/London:20190329T200000
DTSTAMP:20260425T115339
CREATED:20190221T114611Z
LAST-MODIFIED:20190221T114611Z
UID:1029-1553886000-1553889600@www.stmaryschurchtickhill.com
SUMMARY:7:00 PM Senior Choir Practice in St. Luke's Chapel
DESCRIPTION:
URL:https://www.stmaryschurchtickhill.com/event/700-pm-senior-choir-practice-in-st-lukes-chapel-5
LOCATION:St. Mary’s Church\, Tickhill\, St Mary's Church\, St Mary's Rd\, Tickhill\,\, Doncaster\, DN11 9LZ\, United Kingdom
END:VEVENT
BEGIN:VEVENT
DTSTART;TZID=Europe/London:20190329T180000
DTEND;TZID=Europe/London:20190329T190000
DTSTAMP:20260425T115339
CREATED:20190221T111431Z
LAST-MODIFIED:20190221T111431Z
UID:993-1553882400-1553886000@www.stmaryschurchtickhill.com
SUMMARY:6:00 PM Junior Choir Practice in St. Luke's Chapel
DESCRIPTION:
URL:https://www.stmaryschurchtickhill.com/event/600-pm-junior-choir-practice-in-st-lukes-chapel-4
LOCATION:St. Mary’s Church\, Tickhill\, St Mary's Church\, St Mary's Rd\, Tickhill\,\, Doncaster\, DN11 9LZ\, United Kingdom
END:VEVENT
BEGIN:VEVENT
DTSTART;TZID=Europe/London:20190327T193000
DTEND;TZID=Europe/London:20190327T210000
DTSTAMP:20260425T115339
CREATED:20190225T115050Z
LAST-MODIFIED:20190225T115050Z
UID:1201-1553715000-1553720400@www.stmaryschurchtickhill.com
SUMMARY:7:30 PM Lent Course - Methodist Church
DESCRIPTION:
URL:https://www.stmaryschurchtickhill.com/event/730-pm-lent-course-methodist-church-3
LOCATION:Tickhill Methodist Church\, 8 Buttercross Ct\, Tickhill\,\, Doncaster\, DN11 9JX
END:VEVENT
BEGIN:VEVENT
DTSTART;TZID=Europe/London:20190327T100000
DTEND;TZID=Europe/London:20190327T113000
DTSTAMP:20260425T115339
CREATED:20190215T144457Z
LAST-MODIFIED:20190221T105913Z
UID:509-1553680800-1553686200@www.stmaryschurchtickhill.com
SUMMARY:10:00 AM Holy Communion\, St. Luke's Chapel
DESCRIPTION:
URL:https://www.stmaryschurchtickhill.com/event/1000-am-holy-communion-st-lukes-chapel-8
LOCATION:St. Mary’s Church\, Tickhill\, St Mary's Church\, St Mary's Rd\, Tickhill\,\, Doncaster\, DN11 9LZ\, United Kingdom
END:VEVENT
BEGIN:VEVENT
DTSTART;TZID=Europe/London:20190325T193000
DTEND;TZID=Europe/London:20190325T210000
DTSTAMP:20260425T115339
CREATED:20190225T115506Z
LAST-MODIFIED:20190225T115506Z
UID:1208-1553542200-1553547600@www.stmaryschurchtickhill.com
SUMMARY:7:30 PM PCC- St. Luke's Chapel
DESCRIPTION:
URL:https://www.stmaryschurchtickhill.com/event/730-pm-pcc-st-lukes-chapel
LOCATION:St. Mary’s Church\, Tickhill\, St Mary's Church\, St Mary's Rd\, Tickhill\,\, Doncaster\, DN11 9LZ\, United Kingdom
END:VEVENT
BEGIN:VEVENT
DTSTART;TZID=Europe/London:20190324T180000
DTEND;TZID=Europe/London:20190324T193000
DTSTAMP:20260425T115339
CREATED:20190215T160838Z
LAST-MODIFIED:20190215T160838Z
UID:571-1553450400-1553455800@www.stmaryschurchtickhill.com
SUMMARY:6:00 PM Evensong
DESCRIPTION:
URL:https://www.stmaryschurchtickhill.com/event/600-pm-evensong-8
END:VEVENT
BEGIN:VEVENT
DTSTART;TZID=Europe/London:20190324T103000
DTEND;TZID=Europe/London:20190324T120000
DTSTAMP:20260425T115339
CREATED:20190215T161926Z
LAST-MODIFIED:20190215T162649Z
UID:592-1553423400-1553428800@www.stmaryschurchtickhill.com
SUMMARY:10:30 AM Parish Eucharist
DESCRIPTION:
URL:https://www.stmaryschurchtickhill.com/event/1030-am-sung-parish-eucharist-5
END:VEVENT
BEGIN:VEVENT
DTSTART;TZID=Europe/London:20190324T080000
DTEND;TZID=Europe/London:20190324T090000
DTSTAMP:20260425T115339
CREATED:20190215T152415Z
LAST-MODIFIED:20190215T152415Z
UID:550-1553414400-1553418000@www.stmaryschurchtickhill.com
SUMMARY:8:00 AM Holy Communion (BCP)\, St. Helen's Chapel
DESCRIPTION:
URL:https://www.stmaryschurchtickhill.com/event/800-am-holy-communion-bcp-st-helens-chapel-8
END:VEVENT
BEGIN:VEVENT
DTSTART;VALUE=DATE:20190324
DTEND;VALUE=DATE:20190325
DTSTAMP:20260425T115339
CREATED:20190214T210105Z
LAST-MODIFIED:20190214T210105Z
UID:418-1553385600-1553471999@www.stmaryschurchtickhill.com
SUMMARY:The Third Sunday of Lent
DESCRIPTION:
URL:https://www.stmaryschurchtickhill.com/event/the-third-sunday-of-lent
END:VEVENT
BEGIN:VEVENT
DTSTART;TZID=Europe/London:20190323T100000
DTEND;TZID=Europe/London:20190323T120000
DTSTAMP:20260425T115339
CREATED:20190221T104416Z
LAST-MODIFIED:20190221T104729Z
UID:952-1553335200-1553342400@www.stmaryschurchtickhill.com
SUMMARY:10:00 Coffee served in the Parish Room
DESCRIPTION:
URL:https://www.stmaryschurchtickhill.com/event/1000-coffee-served-in-the-parish-room-4
LOCATION:Parish Room\, Tickhill Parish Room\, Northgate\, Tickhill\, Doncaster\, DN11 9HZ\, United Kingdom
END:VEVENT
BEGIN:VEVENT
DTSTART;TZID=Europe/London:20190322T190000
DTEND;TZID=Europe/London:20190322T200000
DTSTAMP:20260425T115339
CREATED:20190221T114537Z
LAST-MODIFIED:20190221T114537Z
UID:1027-1553281200-1553284800@www.stmaryschurchtickhill.com
SUMMARY:7:00 PM Senior Choir Practice in St. Luke's Chapel
DESCRIPTION:
URL:https://www.stmaryschurchtickhill.com/event/700-pm-senior-choir-practice-in-st-lukes-chapel-4
LOCATION:St. Mary’s Church\, Tickhill\, St Mary's Church\, St Mary's Rd\, Tickhill\,\, Doncaster\, DN11 9LZ\, United Kingdom
END:VEVENT
BEGIN:VEVENT
DTSTART;TZID=Europe/London:20190322T180000
DTEND;TZID=Europe/London:20190322T190000
DTSTAMP:20260425T115339
CREATED:20190221T111619Z
LAST-MODIFIED:20190221T111619Z
UID:998-1553277600-1553281200@www.stmaryschurchtickhill.com
SUMMARY:6:00 PM Junior Choir Practice in St. Luke's Chapel
DESCRIPTION:
URL:https://www.stmaryschurchtickhill.com/event/600-pm-junior-choir-practice-in-st-lukes-chapel-6
LOCATION:St. Mary’s Church\, Tickhill\, St Mary's Church\, St Mary's Rd\, Tickhill\,\, Doncaster\, DN11 9LZ\, United Kingdom
END:VEVENT
BEGIN:VEVENT
DTSTART;TZID=Europe/London:20190322T120000
DTEND;TZID=Europe/London:20190322T130000
DTSTAMP:20260425T115339
CREATED:20190217T181157Z
LAST-MODIFIED:20190221T110349Z
UID:772-1553256000-1553259600@www.stmaryschurchtickhill.com
SUMMARY:12:00 PM Soup Lunch in the Parish Room
DESCRIPTION:Choice of three homemade soups and bread followed by a hot drink and something sweet to go with it. All for £5.00 \nEveryone welcome – bring your friends \nIn support of the Tower Appeal.
URL:https://www.stmaryschurchtickhill.com/event/12-pm-soup-lunch-in-the-parish-room-3
LOCATION:Parish Room\, Tickhill Parish Room\, Northgate\, Tickhill\, Doncaster\, DN11 9HZ\, United Kingdom
END:VEVENT
BEGIN:VEVENT
DTSTART;TZID=Europe/London:20190320T193000
DTEND;TZID=Europe/London:20190320T210000
DTSTAMP:20260425T115339
CREATED:20190225T114956Z
LAST-MODIFIED:20190225T114956Z
UID:1199-1553110200-1553115600@www.stmaryschurchtickhill.com
SUMMARY:7:30 PM Lent Course - Methodist Church
DESCRIPTION:
URL:https://www.stmaryschurchtickhill.com/event/730-pm-lent-course-methodist-church-2
LOCATION:Tickhill Methodist Church\, 8 Buttercross Ct\, Tickhill\,\, Doncaster\, DN11 9JX
END:VEVENT
BEGIN:VEVENT
DTSTART;TZID=Europe/London:20190320T100000
DTEND;TZID=Europe/London:20190320T113000
DTSTAMP:20260425T115339
CREATED:20190215T144414Z
LAST-MODIFIED:20190215T144414Z
UID:507-1553076000-1553081400@www.stmaryschurchtickhill.com
SUMMARY:10:00 AM Holy Communion\, St. Luke's Chapel
DESCRIPTION:
URL:https://www.stmaryschurchtickhill.com/event/1000-am-holy-communion-st-lukes-chapel-7
END:VEVENT
BEGIN:VEVENT
DTSTART;TZID=Europe/London:20190317T180000
DTEND;TZID=Europe/London:20190317T193000
DTSTAMP:20260425T115339
CREATED:20190215T160758Z
LAST-MODIFIED:20190215T160758Z
UID:569-1552845600-1552851000@www.stmaryschurchtickhill.com
SUMMARY:6:00 PM Evensong
DESCRIPTION:
URL:https://www.stmaryschurchtickhill.com/event/600-pm-evensong-7
END:VEVENT
BEGIN:VEVENT
DTSTART;TZID=Europe/London:20190317T103000
DTEND;TZID=Europe/London:20190317T120000
DTSTAMP:20260425T115339
CREATED:20190215T161846Z
LAST-MODIFIED:20190215T162637Z
UID:590-1552818600-1552824000@www.stmaryschurchtickhill.com
SUMMARY:10:30 AM Parish Eucharist
DESCRIPTION:
URL:https://www.stmaryschurchtickhill.com/event/1030-am-sung-parish-eucharist-4
END:VEVENT
BEGIN:VEVENT
DTSTART;TZID=Europe/London:20190317T080000
DTEND;TZID=Europe/London:20190317T090000
DTSTAMP:20260425T115339
CREATED:20190215T152331Z
LAST-MODIFIED:20190215T152331Z
UID:548-1552809600-1552813200@www.stmaryschurchtickhill.com
SUMMARY:8:00 AM Holy Communion (BCP)\, St. Helen's Chapel
DESCRIPTION:
URL:https://www.stmaryschurchtickhill.com/event/800-am-holy-communion-bcp-st-helens-chapel-7
END:VEVENT
BEGIN:VEVENT
DTSTART;VALUE=DATE:20190317
DTEND;VALUE=DATE:20190318
DTSTAMP:20260425T115339
CREATED:20190214T210006Z
LAST-MODIFIED:20190214T210006Z
UID:416-1552780800-1552867199@www.stmaryschurchtickhill.com
SUMMARY:The Second Sunday of Lent
DESCRIPTION:
URL:https://www.stmaryschurchtickhill.com/event/the-second-sunday-of-lent
END:VEVENT
BEGIN:VEVENT
DTSTART;TZID=Europe/London:20190316T180000
DTEND;TZID=Europe/London:20190316T190000
DTSTAMP:20260425T115339
CREATED:20190221T111138Z
LAST-MODIFIED:20190221T111138Z
UID:991-1552759200-1552762800@www.stmaryschurchtickhill.com
SUMMARY:6:00 PM Junior Choir Practice in St. Luke's Chapel
DESCRIPTION:
URL:https://www.stmaryschurchtickhill.com/event/600-pm-junior-choir-practice-in-st-lukes-chapel-3
LOCATION:St. Mary’s Church\, Tickhill\, St Mary's Church\, St Mary's Rd\, Tickhill\,\, Doncaster\, DN11 9LZ\, United Kingdom
END:VEVENT
BEGIN:VEVENT
DTSTART;TZID=Europe/London:20190316T100000
DTEND;TZID=Europe/London:20190316T120000
DTSTAMP:20260425T115339
CREATED:20190221T104344Z
LAST-MODIFIED:20190221T104706Z
UID:950-1552730400-1552737600@www.stmaryschurchtickhill.com
SUMMARY:10:00 Coffee served in the Parish Room
DESCRIPTION:
URL:https://www.stmaryschurchtickhill.com/event/1000-coffee-served-in-the-parish-room-3
LOCATION:Parish Room\, Tickhill Parish Room\, Northgate\, Tickhill\, Doncaster\, DN11 9HZ\, United Kingdom
END:VEVENT
BEGIN:VEVENT
DTSTART;TZID=Europe/London:20190315T190000
DTEND;TZID=Europe/London:20190315T200000
DTSTAMP:20260425T115339
CREATED:20190221T114434Z
LAST-MODIFIED:20190221T114434Z
UID:1025-1552676400-1552680000@www.stmaryschurchtickhill.com
SUMMARY:7:00 PM Senior Choir Practice in St. Luke's Chapel
DESCRIPTION:
URL:https://www.stmaryschurchtickhill.com/event/700-pm-senior-choir-practice-in-st-lukes-chapel-3
LOCATION:St. Mary’s Church\, Tickhill\, St Mary's Church\, St Mary's Rd\, Tickhill\,\, Doncaster\, DN11 9LZ\, United Kingdom
END:VEVENT
BEGIN:VEVENT
DTSTART;TZID=Europe/London:20190315T180000
DTEND;TZID=Europe/London:20190315T190000
DTSTAMP:20260425T115339
CREATED:20190221T111546Z
LAST-MODIFIED:20190221T111546Z
UID:996-1552672800-1552676400@www.stmaryschurchtickhill.com
SUMMARY:6:00 PM Junior Choir Practice in St. Luke's Chapel
DESCRIPTION:
URL:https://www.stmaryschurchtickhill.com/event/600-pm-junior-choir-practice-in-st-lukes-chapel-5
LOCATION:St. Mary’s Church\, Tickhill\, St Mary's Church\, St Mary's Rd\, Tickhill\,\, Doncaster\, DN11 9LZ\, United Kingdom
END:VEVENT
BEGIN:VEVENT
DTSTART;TZID=Europe/London:20190313T193000
DTEND;TZID=Europe/London:20190313T210000
DTSTAMP:20260425T115339
CREATED:20190225T114919Z
LAST-MODIFIED:20190225T114919Z
UID:1197-1552505400-1552510800@www.stmaryschurchtickhill.com
SUMMARY:7:30 PM Lent Course - Methodist Church
DESCRIPTION:
URL:https://www.stmaryschurchtickhill.com/event/730-pm-lent-course-methodist-church
LOCATION:Tickhill Methodist Church\, 8 Buttercross Ct\, Tickhill\,\, Doncaster\, DN11 9JX
END:VEVENT
BEGIN:VEVENT
DTSTART;TZID=Europe/London:20190313T100000
DTEND;TZID=Europe/London:20190313T113000
DTSTAMP:20260425T115339
CREATED:20190215T144337Z
LAST-MODIFIED:20190215T144337Z
UID:505-1552471200-1552476600@www.stmaryschurchtickhill.com
SUMMARY:10:00 AM Holy Communion\, St. Luke's Chapel
DESCRIPTION:
URL:https://www.stmaryschurchtickhill.com/event/1000-am-holy-communion-st-lukes-chapel-6
END:VEVENT
BEGIN:VEVENT
DTSTART;TZID=Europe/London:20190312T140000
DTEND;TZID=Europe/London:20190312T153000
DTSTAMP:20260425T115339
CREATED:20190225T114720Z
LAST-MODIFIED:20190225T114720Z
UID:1195-1552399200-1552404600@www.stmaryschurchtickhill.com
SUMMARY:2:00 PM Mothers' Union - St. Luke's Chapel
DESCRIPTION:A discussion on topics taken from old Parish magazines
URL:https://www.stmaryschurchtickhill.com/event/200-pm-mothers-union-st-lukes-chapel
LOCATION:St. Mary’s Church\, Tickhill\, St Mary's Church\, St Mary's Rd\, Tickhill\,\, Doncaster\, DN11 9LZ\, United Kingdom
END:VEVENT
BEGIN:VEVENT
DTSTART;TZID=Europe/London:20190310T180000
DTEND;TZID=Europe/London:20190310T193000
DTSTAMP:20260425T115339
CREATED:20190215T160728Z
LAST-MODIFIED:20190215T160728Z
UID:567-1552240800-1552246200@www.stmaryschurchtickhill.com
SUMMARY:6:00 PM Evensong
DESCRIPTION:
URL:https://www.stmaryschurchtickhill.com/event/600-pm-evensong-6
END:VEVENT
END:VCALENDAR